BEGIN:VCALENDAR
VERSION:2.0
PRODID:-//Park Mesa Heights Community Council - ECPv6.15.16//NONSGML v1.0//EN
CALSCALE:GREGORIAN
METHOD:PUBLISH
X-WR-CALNAME:Park Mesa Heights Community Council
X-ORIGINAL-URL:https://parkmesaheights.org
X-WR-CALDESC:Events for Park Mesa Heights Community Council
REFRESH-INTERVAL;VALUE=DURATION:PT1H
X-Robots-Tag:noindex
X-PUBLISHED-TTL:PT1H
BEGIN:VTIMEZONE
TZID:America/Los_Angeles
BEGIN:DAYLIGHT
TZOFFSETFROM:-0800
TZOFFSETTO:-0700
TZNAME:PDT
DTSTART:20250309T100000
END:DAYLIGHT
BEGIN:STANDARD
TZOFFSETFROM:-0700
TZOFFSETTO:-0800
TZNAME:PST
DTSTART:20251102T090000
END:STANDARD
BEGIN:DAYLIGHT
TZOFFSETFROM:-0800
TZOFFSETTO:-0700
TZNAME:PDT
DTSTART:20260308T100000
END:DAYLIGHT
BEGIN:STANDARD
TZOFFSETFROM:-0700
TZOFFSETTO:-0800
TZNAME:PST
DTSTART:20261101T090000
END:STANDARD
BEGIN:DAYLIGHT
TZOFFSETFROM:-0800
TZOFFSETTO:-0700
TZNAME:PDT
DTSTART:20270314T100000
END:DAYLIGHT
BEGIN:STANDARD
TZOFFSETFROM:-0700
TZOFFSETTO:-0800
TZNAME:PST
DTSTART:20271107T090000
END:STANDARD
END:VTIMEZONE
BEGIN:VEVENT
DTSTART;TZID=America/Los_Angeles:20260420T190000
DTEND;TZID=America/Los_Angeles:20260420T200000
DTSTAMP:20260419T074354
CREATED:20260417T010325Z
LAST-MODIFIED:20260417T010713Z
UID:12579-1776711600-1776715200@parkmesaheights.org
SUMMARY:PLUMB Meeting
DESCRIPTION:Join us for our next Park Mesa Heights Land Use Management and Beautification Committee meeting April 20th\, 7:00 PM\, At 5730 Crenshaw Blvd or online. \nZOOM MEETING ONLINE OR BY TELEPHONE\nhttps://us02web.zoom.us/j/83514258043\nDial +16699006833 to Join the Meeting\nThen Enter This Meeting ID: 835 1425 8043 and Press #
URL:https://parkmesaheights.org/calendar/plumb-meeting-5/
LOCATION:5730 Crenshaw Blvd\, 5730 Crenshaw Blvd\, Los Angeles\, 90043
CATEGORIES:Planning Land Use Beautification,PMHCC
GEO:33.9900079;-118.3302813
X-APPLE-STRUCTURED-LOCATION;VALUE=URI;X-ADDRESS=5730 Crenshaw Blvd 5730 Crenshaw Blvd Los Angeles 90043;X-APPLE-RADIUS=500;X-TITLE=5730 Crenshaw Blvd:geo:-118.3302813,33.9900079
END:VEVENT
BEGIN:VEVENT
DTSTART;TZID=America/Los_Angeles:20260421T090000
DTEND;TZID=America/Los_Angeles:20260421T110000
DTSTAMP:20260419T074354
CREATED:20260413T183748Z
LAST-MODIFIED:20260413T184154Z
UID:12560-1776762000-1776769200@parkmesaheights.org
SUMMARY:Coffee with a Cop
DESCRIPTION:
URL:https://parkmesaheights.org/calendar/coffee-with-a-cop-3/
LOCATION:McDonalds on Crenshaw\, 7123 Crenshaw\, Los Angeles\, 90043
CATEGORIES:Community
GEO:33.9752051;-118.3312646
X-APPLE-STRUCTURED-LOCATION;VALUE=URI;X-ADDRESS=McDonalds on Crenshaw 7123 Crenshaw Los Angeles 90043;X-APPLE-RADIUS=500;X-TITLE=7123 Crenshaw:geo:-118.3312646,33.9752051
END:VEVENT
END:VCALENDAR