BEGIN:VCALENDAR
VERSION:2.0
PRODID:-//Park Mesa Heights Community Council - ECPv6.15.16//NONSGML v1.0//EN
CALSCALE:GREGORIAN
METHOD:PUBLISH
X-ORIGINAL-URL:https://parkmesaheights.org
X-WR-CALDESC:Events for Park Mesa Heights Community Council
REFRESH-INTERVAL;VALUE=DURATION:PT1H
X-Robots-Tag:noindex
X-PUBLISHED-TTL:PT1H
BEGIN:VTIMEZONE
TZID:America/Los_Angeles
BEGIN:DAYLIGHT
TZOFFSETFROM:-0800
TZOFFSETTO:-0700
TZNAME:PDT
DTSTART:20250309T100000
END:DAYLIGHT
BEGIN:STANDARD
TZOFFSETFROM:-0700
TZOFFSETTO:-0800
TZNAME:PST
DTSTART:20251102T090000
END:STANDARD
BEGIN:DAYLIGHT
TZOFFSETFROM:-0800
TZOFFSETTO:-0700
TZNAME:PDT
DTSTART:20260308T100000
END:DAYLIGHT
BEGIN:STANDARD
TZOFFSETFROM:-0700
TZOFFSETTO:-0800
TZNAME:PST
DTSTART:20261101T090000
END:STANDARD
BEGIN:DAYLIGHT
TZOFFSETFROM:-0800
TZOFFSETTO:-0700
TZNAME:PDT
DTSTART:20270314T100000
END:DAYLIGHT
BEGIN:STANDARD
TZOFFSETFROM:-0700
TZOFFSETTO:-0800
TZNAME:PST
DTSTART:20271107T090000
END:STANDARD
END:VTIMEZONE
BEGIN:VEVENT
DTSTART;TZID=America/Los_Angeles:20260519T180000
DTEND;TZID=America/Los_Angeles:20260519T200000
DTSTAMP:20260421T031143
CREATED:20251118T212259Z
LAST-MODIFIED:20260413T181119Z
UID:12280-1779213600-1779220800@parkmesaheights.org
SUMMARY:Board Meeting
DESCRIPTION:Our PMHCC General Meetings are the 2nd Saturday\, 10am-noon \nOur PMHCC Board Meetings are the following Tuesday\, 6-8pm
URL:https://parkmesaheights.org/calendar/board-meeting-18-2026-05-19/2026-05-19/
CATEGORIES:Board,PMHCC
END:VEVENT
BEGIN:VEVENT
DTSTART;TZID=America/Los_Angeles:20260616T180000
DTEND;TZID=America/Los_Angeles:20260616T200000
DTSTAMP:20260421T031143
CREATED:20251118T212259Z
LAST-MODIFIED:20260413T181119Z
UID:12281-1781632800-1781640000@parkmesaheights.org
SUMMARY:Board Meeting
DESCRIPTION:Our PMHCC General Meetings are the 2nd Saturday\, 10am-noon \nOur PMHCC Board Meetings are the following Tuesday\, 6-8pm
URL:https://parkmesaheights.org/calendar/board-meeting-18-2026-05-19/2026-06-16/
CATEGORIES:Board,PMHCC
END:VEVENT
BEGIN:VEVENT
DTSTART;TZID=America/Los_Angeles:20260721T180000
DTEND;TZID=America/Los_Angeles:20260721T200000
DTSTAMP:20260421T031143
CREATED:20251118T212259Z
LAST-MODIFIED:20260413T181119Z
UID:12282-1784656800-1784664000@parkmesaheights.org
SUMMARY:Board Meeting
DESCRIPTION:Our PMHCC General Meetings are the 2nd Saturday\, 10am-noon \nOur PMHCC Board Meetings are the following Tuesday\, 6-8pm
URL:https://parkmesaheights.org/calendar/board-meeting-18-2026-05-19/2026-07-21/
CATEGORIES:Board,PMHCC
END:VEVENT
BEGIN:VEVENT
DTSTART;TZID=America/Los_Angeles:20260915T180000
DTEND;TZID=America/Los_Angeles:20260915T200000
DTSTAMP:20260421T031143
CREATED:20251118T212259Z
LAST-MODIFIED:20260413T181119Z
UID:12284-1789495200-1789502400@parkmesaheights.org
SUMMARY:Board Meeting
DESCRIPTION:Our PMHCC General Meetings are the 2nd Saturday\, 10am-noon \nOur PMHCC Board Meetings are the following Tuesday\, 6-8pm
URL:https://parkmesaheights.org/calendar/board-meeting-18-2026-05-19/2026-09-15/
CATEGORIES:Board,PMHCC
END:VEVENT
BEGIN:VEVENT
DTSTART;TZID=America/Los_Angeles:20261117T180000
DTEND;TZID=America/Los_Angeles:20261117T200000
DTSTAMP:20260421T031143
CREATED:20251118T212259Z
LAST-MODIFIED:20260413T181119Z
UID:12287-1794938400-1794945600@parkmesaheights.org
SUMMARY:Board Meeting
DESCRIPTION:Our PMHCC General Meetings are the 2nd Saturday\, 10am-noon \nOur PMHCC Board Meetings are the following Tuesday\, 6-8pm
URL:https://parkmesaheights.org/calendar/board-meeting-18-2026-05-19/2026-11-17/
CATEGORIES:Board,PMHCC
END:VEVENT
BEGIN:VEVENT
DTSTART;TZID=America/Los_Angeles:20261215T180000
DTEND;TZID=America/Los_Angeles:20261215T200000
DTSTAMP:20260421T031143
CREATED:20251118T212259Z
LAST-MODIFIED:20260413T181119Z
UID:12288-1797357600-1797364800@parkmesaheights.org
SUMMARY:Board Meeting
DESCRIPTION:Our PMHCC General Meetings are the 2nd Saturday\, 10am-noon \nOur PMHCC Board Meetings are the following Tuesday\, 6-8pm
URL:https://parkmesaheights.org/calendar/board-meeting-18-2026-05-19/2026-12-15/
CATEGORIES:Board,PMHCC
END:VEVENT
END:VCALENDAR