BEGIN:VCALENDAR
VERSION:2.0
PRODID:-//Park Mesa Heights Community Council - ECPv6.15.16//NONSGML v1.0//EN
CALSCALE:GREGORIAN
METHOD:PUBLISH
X-ORIGINAL-URL:https://parkmesaheights.org
X-WR-CALDESC:Events for Park Mesa Heights Community Council
REFRESH-INTERVAL;VALUE=DURATION:PT1H
X-Robots-Tag:noindex
X-PUBLISHED-TTL:PT1H
BEGIN:VTIMEZONE
TZID:America/Los_Angeles
BEGIN:DAYLIGHT
TZOFFSETFROM:-0800
TZOFFSETTO:-0700
TZNAME:PDT
DTSTART:20200308T100000
END:DAYLIGHT
BEGIN:STANDARD
TZOFFSETFROM:-0700
TZOFFSETTO:-0800
TZNAME:PST
DTSTART:20201101T090000
END:STANDARD
BEGIN:DAYLIGHT
TZOFFSETFROM:-0800
TZOFFSETTO:-0700
TZNAME:PDT
DTSTART:20210314T100000
END:DAYLIGHT
BEGIN:STANDARD
TZOFFSETFROM:-0700
TZOFFSETTO:-0800
TZNAME:PST
DTSTART:20211107T090000
END:STANDARD
BEGIN:DAYLIGHT
TZOFFSETFROM:-0800
TZOFFSETTO:-0700
TZNAME:PDT
DTSTART:20220313T100000
END:DAYLIGHT
BEGIN:STANDARD
TZOFFSETFROM:-0700
TZOFFSETTO:-0800
TZNAME:PST
DTSTART:20221106T090000
END:STANDARD
END:VTIMEZONE
BEGIN:VEVENT
DTSTART;TZID=America/Los_Angeles:20210130T090000
DTEND;TZID=America/Los_Angeles:20210130T110000
DTSTAMP:20260421T235844
CREATED:20210120T192034Z
LAST-MODIFIED:20210205T180400Z
UID:3673-1611997200-1612004400@parkmesaheights.org
SUMMARY:Candidate Info Session
DESCRIPTION:At our Neighborhood Council Candidate Info Session\, you’ll learn tips for: \n\nrunning a successful campaign\nconnecting with voters\nadvocating for issues you’re passionate about\nwriting your personal statements\nfilling out your candidate application with the City Clerk\n\nThis virtual session will take place on Zoom. Details to join the session online or by phone will be shared in your RSVP confirmation email. \nWe encourage you to RSVP even if you aren’t sure if you can attend\, as doing so will put you on the email list to receive important resources and a copy of the presentation after the session. \nRegister
URL:https://parkmesaheights.org/calendar/candidate-session/2021-01-30/
CATEGORIES:Community
END:VEVENT
END:VCALENDAR