BEGIN:VCALENDAR
VERSION:2.0
PRODID:-//Park Mesa Heights Community Council - ECPv6.15.16//NONSGML v1.0//EN
CALSCALE:GREGORIAN
METHOD:PUBLISH
X-ORIGINAL-URL:https://parkmesaheights.org
X-WR-CALDESC:Events for Park Mesa Heights Community Council
REFRESH-INTERVAL;VALUE=DURATION:PT1H
X-Robots-Tag:noindex
X-PUBLISHED-TTL:PT1H
BEGIN:VTIMEZONE
TZID:America/Los_Angeles
BEGIN:DAYLIGHT
TZOFFSETFROM:-0800
TZOFFSETTO:-0700
TZNAME:PDT
DTSTART:20180311T100000
END:DAYLIGHT
BEGIN:STANDARD
TZOFFSETFROM:-0700
TZOFFSETTO:-0800
TZNAME:PST
DTSTART:20181104T090000
END:STANDARD
BEGIN:DAYLIGHT
TZOFFSETFROM:-0800
TZOFFSETTO:-0700
TZNAME:PDT
DTSTART:20190310T100000
END:DAYLIGHT
BEGIN:STANDARD
TZOFFSETFROM:-0700
TZOFFSETTO:-0800
TZNAME:PST
DTSTART:20191103T090000
END:STANDARD
BEGIN:DAYLIGHT
TZOFFSETFROM:-0800
TZOFFSETTO:-0700
TZNAME:PDT
DTSTART:20200308T100000
END:DAYLIGHT
BEGIN:STANDARD
TZOFFSETFROM:-0700
TZOFFSETTO:-0800
TZNAME:PST
DTSTART:20201101T090000
END:STANDARD
END:VTIMEZONE
BEGIN:VEVENT
DTSTART;TZID=America/Los_Angeles:20191105T100000
DTEND;TZID=America/Los_Angeles:20191105T170000
DTSTAMP:20260425T201510
CREATED:20191104T182730Z
LAST-MODIFIED:20191104T182730Z
UID:1669-1572948000-1572973200@parkmesaheights.org
SUMMARY:Penney's Hiring Event
DESCRIPTION:
URL:https://parkmesaheights.org/calendar/penneys-hiring-event/
LOCATION:JCPenney’s\, 6000 Hannum Ave\, Culver City\, 90230
CATEGORIES:Community
GEO:33.9858319;-118.3930751
X-APPLE-STRUCTURED-LOCATION;VALUE=URI;X-ADDRESS=JCPenney’s 6000 Hannum Ave Culver City 90230;X-APPLE-RADIUS=500;X-TITLE=6000 Hannum Ave:geo:-118.3930751,33.9858319
END:VEVENT
BEGIN:VEVENT
DTSTART;TZID=America/Los_Angeles:20191107T100000
DTEND;TZID=America/Los_Angeles:20191107T140000
DTSTAMP:20260425T201510
CREATED:20191105T222748Z
LAST-MODIFIED:20191105T222748Z
UID:1692-1573120800-1573135200@parkmesaheights.org
SUMMARY:Hiring Spree
DESCRIPTION:
URL:https://parkmesaheights.org/calendar/hiring-spree/
LOCATION:Los Angeles City College\, 855 N Vermont\, Los Angeles\, 90029
CATEGORIES:Community
GEO:34.0892322;-118.292904
X-APPLE-STRUCTURED-LOCATION;VALUE=URI;X-ADDRESS=Los Angeles City College 855 N Vermont Los Angeles 90029;X-APPLE-RADIUS=500;X-TITLE=855 N Vermont:geo:-118.292904,34.0892322
END:VEVENT
BEGIN:VEVENT
DTSTART;TZID=America/Los_Angeles:20191107T180000
DTEND;TZID=America/Los_Angeles:20191107T200000
DTSTAMP:20260425T201510
CREATED:20191104T220603Z
LAST-MODIFIED:20191104T220603Z
UID:1675-1573149600-1573156800@parkmesaheights.org
SUMMARY:South LA Professionalism Workshop
DESCRIPTION:At the Vermont Slauson Economic Development Corp\, 1130 W. Slauson Ave. \nClear communication\, listening skills\, self-control\, positive attitude\, assertiveness\, conflict resolution\, empathy\, depersonalization\, taking responsibility\, a sense of humor.
URL:https://parkmesaheights.org/calendar/south-la-professionalism-workshop/
LOCATION:Vermont Slauson Economic Development Corporation\, 1130 W. Slauson Ave\, Los Angeles\, 90044
CATEGORIES:Community
GEO:33.988898;-118.2950049
X-APPLE-STRUCTURED-LOCATION;VALUE=URI;X-ADDRESS=Vermont Slauson Economic Development Corporation 1130 W. Slauson Ave Los Angeles 90044;X-APPLE-RADIUS=500;X-TITLE=1130 W. Slauson Ave:geo:-118.2950049,33.988898
END:VEVENT
BEGIN:VEVENT
DTSTART;TZID=America/Los_Angeles:20191108T090000
DTEND;TZID=America/Los_Angeles:20191108T130000
DTSTAMP:20260425T201510
CREATED:20191105T223030Z
LAST-MODIFIED:20191105T223030Z
UID:1697-1573203600-1573218000@parkmesaheights.org
SUMMARY:Career & Resource Fair
DESCRIPTION:
URL:https://parkmesaheights.org/calendar/career-resource-fair/
LOCATION:Southeast Los Angeles AJCC\, 2677 Zoe Ave\, Huntington Park\, 90255
CATEGORIES:Community
GEO:33.9795107;-118.2229694
X-APPLE-STRUCTURED-LOCATION;VALUE=URI;X-ADDRESS=Southeast Los Angeles AJCC 2677 Zoe Ave Huntington Park 90255;X-APPLE-RADIUS=500;X-TITLE=2677 Zoe Ave:geo:-118.2229694,33.9795107
END:VEVENT
BEGIN:VEVENT
DTSTART;TZID=America/Los_Angeles:20191114T123000
DTEND;TZID=America/Los_Angeles:20191114T143000
DTSTAMP:20260425T201510
CREATED:20191105T223251Z
LAST-MODIFIED:20191105T223345Z
UID:1702-1573734600-1573741800@parkmesaheights.org
SUMMARY:Census Recruitment Event
DESCRIPTION:
URL:https://parkmesaheights.org/calendar/census-recruitment-event/
LOCATION:Gardena One Stop\, 16801 S. Western Ave\, Gardena\, 90247
CATEGORIES:Community
GEO:33.8791351;-118.3094365
X-APPLE-STRUCTURED-LOCATION;VALUE=URI;X-ADDRESS=Gardena One Stop 16801 S. Western Ave Gardena 90247;X-APPLE-RADIUS=500;X-TITLE=16801 S. Western Ave:geo:-118.3094365,33.8791351
END:VEVENT
BEGIN:VEVENT
DTSTART;TZID=America/Los_Angeles:20191116T090000
DTEND;TZID=America/Los_Angeles:20191116T170000
DTSTAMP:20260425T201510
CREATED:20191116T224959Z
LAST-MODIFIED:20191118T220127Z
UID:1731-1573894800-1573923600@parkmesaheights.org
SUMMARY:Volunteer Income Tax Assistance (VITA) Training
DESCRIPTION:IRS - Volunteer Income Tax Assistance (VITA) Training for Tax Year 2019\n\nCome learn how to become a volunteer tax preparer with the IRS Vita Tax Program \n\nClass Training Dates:\n\nSaturday’s Beginner Training \nNov 2nd  - 9am - 5pm\nNov 16th - 9am-5pm\n\nAdvanced training \nJan 4th - 9am-5pm\nJan 25th - 9am-5pm
URL:https://parkmesaheights.org/calendar/volunteer-income-tax-assistance-vita-training/2019-11-16/
LOCATION:Park Mesa Heights Office 2020\, 3321 W. 54th St.\, Los Angeles\, 90043
CATEGORIES:Community
GEO:33.9932918;-118.3301023
X-APPLE-STRUCTURED-LOCATION;VALUE=URI;X-ADDRESS=Park Mesa Heights Office 2020 3321 W. 54th St. Los Angeles 90043;X-APPLE-RADIUS=500;X-TITLE=3321 W. 54th St.:geo:-118.3301023,33.9932918
END:VEVENT
END:VCALENDAR