BEGIN:VCALENDAR
VERSION:2.0
PRODID:-//Park Mesa Heights Community Council - ECPv6.15.16//NONSGML v1.0//EN
CALSCALE:GREGORIAN
METHOD:PUBLISH
X-WR-CALNAME:Park Mesa Heights Community Council
X-ORIGINAL-URL:https://parkmesaheights.org
X-WR-CALDESC:Events for Park Mesa Heights Community Council
REFRESH-INTERVAL;VALUE=DURATION:PT1H
X-Robots-Tag:noindex
X-PUBLISHED-TTL:PT1H
BEGIN:VTIMEZONE
TZID:America/Los_Angeles
BEGIN:DAYLIGHT
TZOFFSETFROM:-0800
TZOFFSETTO:-0700
TZNAME:PDT
DTSTART:20190310T100000
END:DAYLIGHT
BEGIN:STANDARD
TZOFFSETFROM:-0700
TZOFFSETTO:-0800
TZNAME:PST
DTSTART:20191103T090000
END:STANDARD
BEGIN:DAYLIGHT
TZOFFSETFROM:-0800
TZOFFSETTO:-0700
TZNAME:PDT
DTSTART:20200308T100000
END:DAYLIGHT
BEGIN:STANDARD
TZOFFSETFROM:-0700
TZOFFSETTO:-0800
TZNAME:PST
DTSTART:20201101T090000
END:STANDARD
BEGIN:DAYLIGHT
TZOFFSETFROM:-0800
TZOFFSETTO:-0700
TZNAME:PDT
DTSTART:20210314T100000
END:DAYLIGHT
BEGIN:STANDARD
TZOFFSETFROM:-0700
TZOFFSETTO:-0800
TZNAME:PST
DTSTART:20211107T090000
END:STANDARD
END:VTIMEZONE
BEGIN:VEVENT
DTSTART;TZID=America/Los_Angeles:20200109T180000
DTEND;TZID=America/Los_Angeles:20200109T200000
DTSTAMP:20260425T170902
CREATED:20200108T234446Z
LAST-MODIFIED:20200108T234446Z
UID:1831-1578592800-1578600000@parkmesaheights.org
SUMMARY:Candidate Forum: County Supervisor
DESCRIPTION:Candidate Forum with County Supervisor District 2 Candidates: Herb Wesson\, Holly Mitchell\, Jorge Nuno.
URL:https://parkmesaheights.org/calendar/candidate-forum-county-supervisor/
LOCATION:DWP\, 4030 Crenshaw Boulevard\, Los Angeles\, 90008
CATEGORIES:Community
GEO:34.011606;-118.3346412
X-APPLE-STRUCTURED-LOCATION;VALUE=URI;X-ADDRESS=DWP 4030 Crenshaw Boulevard Los Angeles 90008;X-APPLE-RADIUS=500;X-TITLE=4030 Crenshaw Boulevard:geo:-118.3346412,34.011606
END:VEVENT
BEGIN:VEVENT
DTSTART;TZID=America/Los_Angeles:20200116T183000
DTEND;TZID=America/Los_Angeles:20200116T203000
DTSTAMP:20260425T170902
CREATED:20200109T021720Z
LAST-MODIFIED:20200109T021720Z
UID:1851-1579199400-1579206600@parkmesaheights.org
SUMMARY:Candidate Forum
DESCRIPTION:Sponsored by Ladera Heights Civic Organization\, United Homeowners Association II\, League of Women Voters
URL:https://parkmesaheights.org/calendar/candidate-forum/
LOCATION:Knox Presbyterian Church\, 5840 La Tijera Blvd\, Los Angeles\, 90056
CATEGORIES:Community
GEO:33.9861067;-118.364512
X-APPLE-STRUCTURED-LOCATION;VALUE=URI;X-ADDRESS=Knox Presbyterian Church 5840 La Tijera Blvd Los Angeles 90056;X-APPLE-RADIUS=500;X-TITLE=5840 La Tijera Blvd:geo:-118.364512,33.9861067
END:VEVENT
BEGIN:VEVENT
DTSTART;TZID=America/Los_Angeles:20200118T080000
DTEND;TZID=America/Los_Angeles:20200118T130000
DTSTAMP:20260425T170902
CREATED:20200114T230026Z
LAST-MODIFIED:20200114T230026Z
UID:1875-1579334400-1579352400@parkmesaheights.org
SUMMARY:MLK Day of Service
DESCRIPTION:More info at 323-298-3660 \nRegistration and breakfast 8am\, Activities start at 9am with restoration and beautification projects for all ages.
URL:https://parkmesaheights.org/calendar/mlk-day-of-service/
CATEGORIES:Community
END:VEVENT
BEGIN:VEVENT
DTSTART;TZID=America/Los_Angeles:20200118T080000
DTEND;TZID=America/Los_Angeles:20200118T140000
DTSTAMP:20260425T170902
CREATED:20200109T000914Z
LAST-MODIFIED:20200109T000914Z
UID:1847-1579334400-1579356000@parkmesaheights.org
SUMMARY:Empowerment Congress
DESCRIPTION:Guest speakers: Dr. David Carlisle\, Lisa A. Bartlett\, Nury Martinez
URL:https://parkmesaheights.org/calendar/empowerment-congress/
LOCATION:Charles R Drew University of Medicine\, 1731 E. 120th Street\, Los Angeles
CATEGORIES:Community
GEO:33.9254883;-118.2428859
X-APPLE-STRUCTURED-LOCATION;VALUE=URI;X-ADDRESS=Charles R Drew University of Medicine 1731 E. 120th Street Los Angeles;X-APPLE-RADIUS=500;X-TITLE=1731 E. 120th Street:geo:-118.2428859,33.9254883
END:VEVENT
BEGIN:VEVENT
DTSTART;TZID=America/Los_Angeles:20200118T140000
DTEND;TZID=America/Los_Angeles:20200118T160000
DTSTAMP:20260425T170902
CREATED:20200116T195954Z
LAST-MODIFIED:20200116T195954Z
UID:1879-1579356000-1579363200@parkmesaheights.org
SUMMARY:South LA Town Hall to Oppose SB50
DESCRIPTION:Please join community leaders and officials from South Los Angeles and neighboring areas at the Town Hall to Oppose SB 50. \nWhere: FAME Renaissance Center\n1968 W Adams Blvd\, Los Angeles\, CA 90018 \nWhen: Saturday\, January 18\, 2020 at 2 PM \nDoors open @1:30 Parking available onsite. Refreshments will be served \nSB 50 is fatally flawed\, a vast and random experiment with our lives: \n• Upzones every single-family home to allow market-rate fourplexes with no affordable housing & one-half parking spot per unit \n• State-mandated upzoning in all transit zones including the new Crenshaw Line and all busy bus stops will make the area unaffordable to its residents \n• Permits all new buildings under 20 units to have no on-site affordable housing and in many cases reduces current overall TOC affordable housing requirements \n• Rapidly accelerates real estate investment\, leading to increased and uncontrolled gentrification
URL:https://parkmesaheights.org/calendar/south-la-town-hall-to-oppose-sb50/
LOCATION:FAME Renaissance Center\, 1968 West Adams\, Los Angeles\, CA\, 90018
CATEGORIES:Community
GEO:34.0324475;-118.3081328
X-APPLE-STRUCTURED-LOCATION;VALUE=URI;X-ADDRESS=FAME Renaissance Center 1968 West Adams Los Angeles CA 90018;X-APPLE-RADIUS=500;X-TITLE=1968 West Adams:geo:-118.3081328,34.0324475
END:VEVENT
BEGIN:VEVENT
DTSTART;TZID=America/Los_Angeles:20200120T110000
DTEND;TZID=America/Los_Angeles:20200120T140000
DTSTAMP:20260425T170902
CREATED:20191218T232957Z
LAST-MODIFIED:20191218T232957Z
UID:1798-1579518000-1579528800@parkmesaheights.org
SUMMARY:MLK Freedom Festival 2020
DESCRIPTION:Join us at the 2020 Martin Luther King Freedom Festival and celebrate the legacy of Dr. Martin Luther King Jr through music\, art and activism. This year’s theme\, The Future is Now\, inspires us to take action and reminds us that we all have the power and the responsibility to shape our country and our communities starting today. In addition to food\, music\, and vendors\, the festival will also help residents learn more about important issues affecting our communities and find job opportunities. The Empowerment Tent will share information on the upcoming US Census and the importance of an accurate count as well as opportunities for jobs and community activism. There’s no better way to celebrate the legacy of Dr. King in South LA. \nRegister on Eventbrite
URL:https://parkmesaheights.org/calendar/mlk-freedom-festival-2020/
LOCATION:Leimert Village Plaza\, Leimert Blvd & 43rd Place
CATEGORIES:Community
GEO:34.0042781;-118.3304734
X-APPLE-STRUCTURED-LOCATION;VALUE=URI;X-ADDRESS=Leimert Village Plaza Leimert Blvd & 43rd Place;X-APPLE-RADIUS=500;X-TITLE=Leimert Blvd & 43rd Place:geo:-118.3304734,34.0042781
END:VEVENT
BEGIN:VEVENT
DTSTART;TZID=America/Los_Angeles:20200123T200000
DTEND;TZID=America/Los_Angeles:20200123T233000
DTSTAMP:20260425T170902
CREATED:20191218T233147Z
LAST-MODIFIED:20191218T233147Z
UID:1801-1579809600-1579822200@parkmesaheights.org
SUMMARY:Homeless Count
DESCRIPTION:Please volunteer for the annual homeless count: https://www.theycountwillyou.org/
URL:https://parkmesaheights.org/calendar/homeless-count-2/
CATEGORIES:Community
END:VEVENT
BEGIN:VEVENT
DTSTART;TZID=America/Los_Angeles:20200124T160000
DTEND;TZID=America/Los_Angeles:20200124T200000
DTSTAMP:20260425T170902
CREATED:20200122T222549Z
LAST-MODIFIED:20200122T222549Z
UID:1882-1579881600-1579896000@parkmesaheights.org
SUMMARY:Stadium Job Fair
DESCRIPTION:Entrance to the job fair will be located on the south side of the Fields LA entrance. Free parking is located on the site in the Gold Lot. \nAvailable part time positions: Guest Experience Representative\, Safety Officer\, Box Office Attendant\, Operations Crew\, Retail Associate\, Food Services and Housekeeping.
URL:https://parkmesaheights.org/calendar/stadium-job-fair/2020-01-24/
LOCATION:Banc of California Stadium\, 3939 S. Figueroa St.\, Los Angeles\, 90037
CATEGORIES:Community
GEO:34.0133885;-118.2831949
X-APPLE-STRUCTURED-LOCATION;VALUE=URI;X-ADDRESS=Banc of California Stadium 3939 S. Figueroa St. Los Angeles 90037;X-APPLE-RADIUS=500;X-TITLE=3939 S. Figueroa St.:geo:-118.2831949,34.0133885
END:VEVENT
BEGIN:VEVENT
DTSTART;TZID=America/Los_Angeles:20200129T183000
DTEND;TZID=America/Los_Angeles:20200129T203000
DTSTAMP:20260425T170902
CREATED:20200124T211238Z
LAST-MODIFIED:20200124T211238Z
UID:1905-1580322600-1580329800@parkmesaheights.org
SUMMARY:Black Women's Voter Forum 2020
DESCRIPTION:This is a non partisan event. \nThe goal of the Black Women’s Voter Forum is to provide much needed information and clarity on some of the most important issues facing us today. Come experience and hear about the new way of voting and learn about the importance of the 2020 CENSUS. We are excited this year to give you an up close and personal opportunity to meet the various candidates and hear their concerns for the community and what they expect to achieve during their term in office\, as well as provide you\, the constituents\, with an opportunity to ask questions. Candidates such as Senator Holly Mitchell and Jan Perry have confirmed and will be in attendance\, and other candidates who are running for various offices. \nYou will receive great information to make an informed decision with casting your ballot that benefits our community! Remember\, Your vote matters\, our community matters and our collective power lies in our community voice! \nRefreshments and Onsite Parking available
URL:https://parkmesaheights.org/calendar/black-womens-voter-forum-2020/
LOCATION:Holman United Methodist Church\, 3320 West Adams Blvd\, Los Angeles\, 90018
CATEGORIES:Community
GEO:34.0314207;-118.3210813
X-APPLE-STRUCTURED-LOCATION;VALUE=URI;X-ADDRESS=Holman United Methodist Church 3320 West Adams Blvd Los Angeles 90018;X-APPLE-RADIUS=500;X-TITLE=3320 West Adams Blvd:geo:-118.3210813,34.0314207
END:VEVENT
BEGIN:VEVENT
DTSTART;TZID=America/Los_Angeles:20200130T180000
DTEND;TZID=America/Los_Angeles:20200130T200000
DTSTAMP:20260425T170902
CREATED:20200123T184553Z
LAST-MODIFIED:20200123T184553Z
UID:1902-1580407200-1580414400@parkmesaheights.org
SUMMARY:Safe Sidewalk LA Public Meeting
DESCRIPTION:The City of Los Angeles (City) has prepared a Draft Environmental Impact Report (EIR) to evaluate the potential environmental effects of the proposed Sidewalk Repair Program (proposed Project) that addresses the manner in which sidewalk repair projects are undertaken pursuant to the City’s obligations under the Willits Settlement Agreement (Settlement). The City is requesting input on the Draft EIR from public agencies\, residents\, and other interested project stakeholders. \nPROJECT DESCRIPTION: Under the proposed Project\, the City would adopt a new uncodified ordinance to revise the way sidewalk repairs undertaken pursuant to the Settlement are reviewed and approved\, with a primary goal of streamlining the Settlement implementation process.\nThe key components of the ordinance include: \n• A ministerial approval process to enable sidewalk repair projects falling within certain specified parameters to proceed upon approval by the City Engineer or a designee\, without undergoing further environmental review under the California Environmental Quality Act (CEQA);\n• A streamlined discretionary approval process by the City Engineer or a designee for sidewalk repair projects falling outside the specific parameters for a ministerial sidewalk repair approval;\n• A revised Street Tree Retention\, Removal and Replacement Policy establishing a 2:1 street tree replacement to removal ratio requirement for years 1-10\, 3:1 for years 11-21\, and 2:1 for years 22-30\, and;\n• Mandatory Project Design Features (PDFs) generally consisting of regulatory compliance measures and standard construction conditions and procedures. \nHOW DO I GET INVOLVED? \nThe Draft EIR Public Review and Comment Period begins December 26th\, 2019 until February 24\, 2020. Options for providing comments during the Draft EIR Public Review and Comment Period include the following: \n1. Attend a Public Meeting and provide verbal and/or written comments during the Draft EIR Review Period. (See below for locations and dates of the meetings) \n2. Submit comments online until February 24\, 2020 at the following link: http://sidewalks.lacity.commentinput.com/. Please be sure to include your contact information. \n3. Email your comment to Shilpa.Gupta@lacity.org during the Draft EIR Review Period and include “SRP DEIR” in the subject line. Please include your contact information including name\, telephone number\, mailing address\, and e-mail address so that we can contact you if we have any questions regarding your comment. \n4. Mail your comments during the Draft EIR Review Period to: \nShilpa Gupta\, Environmental Supervisor I\nCity of Los Angeles Public Works\, Bureau of Engineering\nEnvironmental Management Group\n1149 S Broadway\, Suite 600\, Mail Stop 939\nLos Angeles\, CA 90015
URL:https://parkmesaheights.org/calendar/safe-sidewalk-la-public-meeting/
LOCATION:Watts Senior Center\, 1657 E Century Blvd\, Los Angeles\, 90002
CATEGORIES:Community
GEO:33.9464267;-118.2439367
X-APPLE-STRUCTURED-LOCATION;VALUE=URI;X-ADDRESS=Watts Senior Center 1657 E Century Blvd Los Angeles 90002;X-APPLE-RADIUS=500;X-TITLE=1657 E Century Blvd:geo:-118.2439367,33.9464267
END:VEVENT
END:VCALENDAR