BEGIN:VCALENDAR
VERSION:2.0
PRODID:-//Park Mesa Heights Community Council - ECPv6.15.16//NONSGML v1.0//EN
CALSCALE:GREGORIAN
METHOD:PUBLISH
X-ORIGINAL-URL:https://parkmesaheights.org
X-WR-CALDESC:Events for Park Mesa Heights Community Council
REFRESH-INTERVAL;VALUE=DURATION:PT1H
X-Robots-Tag:noindex
X-PUBLISHED-TTL:PT1H
BEGIN:VTIMEZONE
TZID:America/Los_Angeles
BEGIN:DAYLIGHT
TZOFFSETFROM:-0800
TZOFFSETTO:-0700
TZNAME:PDT
DTSTART:20190310T100000
END:DAYLIGHT
BEGIN:STANDARD
TZOFFSETFROM:-0700
TZOFFSETTO:-0800
TZNAME:PST
DTSTART:20191103T090000
END:STANDARD
BEGIN:DAYLIGHT
TZOFFSETFROM:-0800
TZOFFSETTO:-0700
TZNAME:PDT
DTSTART:20200308T100000
END:DAYLIGHT
BEGIN:STANDARD
TZOFFSETFROM:-0700
TZOFFSETTO:-0800
TZNAME:PST
DTSTART:20201101T090000
END:STANDARD
BEGIN:DAYLIGHT
TZOFFSETFROM:-0800
TZOFFSETTO:-0700
TZNAME:PDT
DTSTART:20210314T100000
END:DAYLIGHT
BEGIN:STANDARD
TZOFFSETFROM:-0700
TZOFFSETTO:-0800
TZNAME:PST
DTSTART:20211107T090000
END:STANDARD
END:VTIMEZONE
BEGIN:VEVENT
DTSTART;TZID=America/Los_Angeles:20200305T150000
DTEND;TZID=America/Los_Angeles:20200305T190000
DTSTAMP:20260425T140119
CREATED:20200304T005055Z
LAST-MODIFIED:20200305T171254Z
UID:1996-1583420400-1583434800@parkmesaheights.org
SUMMARY:Climate Change Workshop for Kids
DESCRIPTION:Free after school tutoring and learning the importance of climate change. \n3-5pm and 5-7pm \n 
URL:https://parkmesaheights.org/calendar/climate-change-workshop-for-kids/2020-03-05/
LOCATION:Hyde Park Library\, 2205 W. Florence\, Los Angeles\, 90043
CATEGORIES:Community
GEO:33.9747784;-118.3182044
X-APPLE-STRUCTURED-LOCATION;VALUE=URI;X-ADDRESS=Hyde Park Library 2205 W. Florence Los Angeles 90043;X-APPLE-RADIUS=500;X-TITLE=2205 W. Florence:geo:-118.3182044,33.9747784
END:VEVENT
BEGIN:VEVENT
DTSTART;TZID=America/Los_Angeles:20200307T120000
DTEND;TZID=America/Los_Angeles:20200307T170000
DTSTAMP:20260425T140119
CREATED:20200304T004807Z
LAST-MODIFIED:20200305T171116Z
UID:1988-1583582400-1583600400@parkmesaheights.org
SUMMARY:Climate Change Workshop
DESCRIPTION:Park Mesa Heights and the California Science Center in collaboration with Griffin Associates present a 6 week workshop for residents\, businesses and stakeholders \nWhat Is Climate Change
URL:https://parkmesaheights.org/calendar/climate-change-workshop/
LOCATION:Park Mesa Heights Office 2020\, 3321 W. 54th St.\, Los Angeles\, 90043
CATEGORIES:Community
GEO:33.9932918;-118.3301023
X-APPLE-STRUCTURED-LOCATION;VALUE=URI;X-ADDRESS=Park Mesa Heights Office 2020 3321 W. 54th St. Los Angeles 90043;X-APPLE-RADIUS=500;X-TITLE=3321 W. 54th St.:geo:-118.3301023,33.9932918
END:VEVENT
BEGIN:VEVENT
DTSTART;TZID=America/Los_Angeles:20200314T120000
DTEND;TZID=America/Los_Angeles:20200314T170000
DTSTAMP:20260425T140119
CREATED:20200304T004807Z
LAST-MODIFIED:20200313T174915Z
UID:1991-1584187200-1584205200@parkmesaheights.org
SUMMARY:Climate Change Workshop-Cancelled
DESCRIPTION:Park Mesa Heights and the California Science Center in collaboration with Griffin Associates present a 6 week workshop for residents\, businesses and stakeholders \nWhat Is Climate Change
URL:https://parkmesaheights.org/calendar/climate-change-workshop-2020-03-14/2020-03-14/
LOCATION:Park Mesa Heights Office 2020\, 3321 W. 54th St.\, Los Angeles\, 90043
CATEGORIES:Community
GEO:33.9932918;-118.3301023
X-APPLE-STRUCTURED-LOCATION;VALUE=URI;X-ADDRESS=Park Mesa Heights Office 2020 3321 W. 54th St. Los Angeles 90043;X-APPLE-RADIUS=500;X-TITLE=3321 W. 54th St.:geo:-118.3301023,33.9932918
END:VEVENT
BEGIN:VEVENT
DTSTART;TZID=America/Los_Angeles:20200326T150000
DTEND;TZID=America/Los_Angeles:20200326T190000
DTSTAMP:20260425T140119
CREATED:20200304T005055Z
LAST-MODIFIED:20200313T174958Z
UID:2001-1585234800-1585249200@parkmesaheights.org
SUMMARY:Climate Change Workshop for Kids-Cancelled
DESCRIPTION:Free after school tutoring and learning the importance of climate change. \n3-5pm and 5-7pm \n 
URL:https://parkmesaheights.org/calendar/climate-change-workshop-for-kids-2020-03-26/2020-03-26/
LOCATION:Hyde Park Library\, 2205 W. Florence\, Los Angeles\, 90043
CATEGORIES:Community
GEO:33.9747784;-118.3182044
X-APPLE-STRUCTURED-LOCATION;VALUE=URI;X-ADDRESS=Hyde Park Library 2205 W. Florence Los Angeles 90043;X-APPLE-RADIUS=500;X-TITLE=2205 W. Florence:geo:-118.3182044,33.9747784
END:VEVENT
BEGIN:VEVENT
DTSTART;TZID=America/Los_Angeles:20200326T173000
DTEND;TZID=America/Los_Angeles:20200326T183000
DTSTAMP:20260425T140119
CREATED:20200323T220109Z
LAST-MODIFIED:20200323T220109Z
UID:2089-1585243800-1585247400@parkmesaheights.org
SUMMARY:COVID-19 South LA Call with Dr. Jan King
DESCRIPTION:JOIN US FOR A COVID-19 SOUTH LA COMMUNITY CONFERENCE CALL WITH DR. JAN KING\, DEPARTMENT OF PUBLIC HEALTH  \nTHURSDAY\, MARCH 26  5:30 PM \nEnglish\n+1 (213) 493-0601 Access Code: 399-641-818\nSpanish\n+1 (213) 289-0010 Access Code: 510-558-595 \nOur goal is to host a series of calls for the duration of this crisis and to keep communication flowing to our South LA community. Communication is key. It is the key to increasing public trust\, decreasing panic\, debunking myths and increasing equitable access to valuable resources and information. \nRegister \nCommunity Health Councils (CHC) is taking a responsive position to the current COVID-19 emergency. We are turning our focus to assuring that residents and community partners are engaged in communication around immediate needs. As well as coordinating with funders\, City and County entities to effectively respond to those needs. This virus has certainly exposed our inequities\, but we are still able to get ahead of this crisis. We are all aware of the need for a regional response especially in relation to the testing\, tracking and treatment of the virus\, in order to contain its spread. And we know that this regional\nresponse will require all hands-on deck. \n  \nInvitación para una teleconferencia sobre Covid-19 con Dr Jan King del departamento de servicios de salud\nJueves\, 26 de marzo a las 5:30pm \nInglés\n+1 (213) 493-0601 Access Code: 399-641-818 \nEspañol\n+1 (213) 289-0010 Código: 510-558-595 \nFavor de repartir estos números con familias\, residentes y lideres comunitarios de South LA. Nuestra meta es poder organizar estas teleconferencias durante esta crisis y ser parte de las fuentes de información de nuestra comunidad. ¡Justo en tiempos como estos\, la comunicación es clave! Es la clave para fomentar la confianza del publico\, para detener los mitos y para la liberar el acceso equitativo de los recursos valiosos. \nFavor de registrase aquí para entrarle a la conferencia y también para suscribirse a las Comunicaciones que van a salir en el futuro si es que no esta en nuestra lista de distribución. \nEn Community Health Councils (CHC) estamos en una posición responsiva a la emergencia de COVID-19. Estamos enfocados en que nuestros residentes y nuestros socios comunitarios estén informados con las necesidades inmediatas. También estamos coordinando con las fuentes de capital\, la ciudad y el condado para responder a esas necesidades. El virus esta exponiendo todas nuestras debilidades de la equidad social\, pero juntos podemos sobresalir en este momento de crisis. Estamos totalmente informados sobre la necesidad regional para tener toda la información de rastreo y de tratamiento del virus para detenerlo. Sabemos que esta respuesta regional requiere que todos estemos trabajando en concierto.
URL:https://parkmesaheights.org/calendar/covid-19-south-la-call-with-dr-jan-king/
CATEGORIES:Community
END:VEVENT
BEGIN:VEVENT
DTSTART;TZID=America/Los_Angeles:20200326T190000
DTEND;TZID=America/Los_Angeles:20200326T200000
DTSTAMP:20260425T140119
CREATED:20200326T204338Z
LAST-MODIFIED:20200326T204338Z
UID:2096-1585249200-1585252800@parkmesaheights.org
SUMMARY:Holly Mitchell COVID-19 Telephone Town Hall
DESCRIPTION:Senator Holly J. Mitchell and Assemblymember Sydney Kamlager-Dove\, invite you to join an Tele-Town hall  informational conversation on community resources during the COVID-19 pandemic. \nWHEN: Thursday\, March 26\, 2020 @ 7:00 pm \nSUBJECT: COVID-19 community resources \nRSVP: Senator.Mitchell@senate.ca.gov
URL:https://parkmesaheights.org/calendar/holly-mitchell-covid-19-telephone-town-hall/
CATEGORIES:Community
END:VEVENT
END:VCALENDAR