BEGIN:VCALENDAR
VERSION:2.0
PRODID:-//Park Mesa Heights Community Council - ECPv6.15.16//NONSGML v1.0//EN
CALSCALE:GREGORIAN
METHOD:PUBLISH
X-ORIGINAL-URL:https://parkmesaheights.org
X-WR-CALDESC:Events for Park Mesa Heights Community Council
REFRESH-INTERVAL;VALUE=DURATION:PT1H
X-Robots-Tag:noindex
X-PUBLISHED-TTL:PT1H
BEGIN:VTIMEZONE
TZID:America/Los_Angeles
BEGIN:DAYLIGHT
TZOFFSETFROM:-0800
TZOFFSETTO:-0700
TZNAME:PDT
DTSTART:20190310T100000
END:DAYLIGHT
BEGIN:STANDARD
TZOFFSETFROM:-0700
TZOFFSETTO:-0800
TZNAME:PST
DTSTART:20191103T090000
END:STANDARD
BEGIN:DAYLIGHT
TZOFFSETFROM:-0800
TZOFFSETTO:-0700
TZNAME:PDT
DTSTART:20200308T100000
END:DAYLIGHT
BEGIN:STANDARD
TZOFFSETFROM:-0700
TZOFFSETTO:-0800
TZNAME:PST
DTSTART:20201101T090000
END:STANDARD
BEGIN:DAYLIGHT
TZOFFSETFROM:-0800
TZOFFSETTO:-0700
TZNAME:PDT
DTSTART:20210314T100000
END:DAYLIGHT
BEGIN:STANDARD
TZOFFSETFROM:-0700
TZOFFSETTO:-0800
TZNAME:PST
DTSTART:20211107T090000
END:STANDARD
END:VTIMEZONE
BEGIN:VEVENT
DTSTART;TZID=America/Los_Angeles:20200507T143000
DTEND;TZID=America/Los_Angeles:20200507T153000
DTSTAMP:20260425T105919
CREATED:20200506T191746Z
LAST-MODIFIED:20200506T191746Z
UID:2206-1588861800-1588865400@parkmesaheights.org
SUMMARY:Health Inequities Town Hall
DESCRIPTION:Watch Live: https://www.facebook.com/CurrenDPriceJr \nPlease submit questions in advance: Genevieve.Arce@lacity.org
URL:https://parkmesaheights.org/calendar/health-inequities-town-hall/
CATEGORIES:Community
END:VEVENT
BEGIN:VEVENT
DTSTART;TZID=America/Los_Angeles:20200509T100000
DTEND;TZID=America/Los_Angeles:20200509T120000
DTSTAMP:20260425T105919
CREATED:20200508T213336Z
LAST-MODIFIED:20200508T213336Z
UID:2212-1589018400-1589025600@parkmesaheights.org
SUMMARY:The People’s Assembly: Race\, Equity & COVID-19
DESCRIPTION:This fabulous event is created to educate\, inspire and activate our communities that are being hard hit by the COVID-19 pandemic. This digital event hopes to help shape policies and programs that bring equity and justice to your communities.
URL:https://parkmesaheights.org/calendar/the-peoples-assembly-race-equity-covid-19/
CATEGORIES:Community
END:VEVENT
BEGIN:VEVENT
DTSTART;TZID=America/Los_Angeles:20200515T110000
DTEND;TZID=America/Los_Angeles:20200515T130000
DTSTAMP:20260425T105919
CREATED:20200514T235550Z
LAST-MODIFIED:20200514T235550Z
UID:2233-1589540400-1589547600@parkmesaheights.org
SUMMARY:Oprah Winfrey Graduation Address
DESCRIPTION:Facebook and Instagram Celebrate the Class of 2020 with a commencement address given by Oprah Winfrey. Awkwafina\, Jennifer Garner\, Lil Nas X\, Simone Biles\, and more\, will share words of wisdom for the class of 2020. Miley Cyrus will do a special performance of her hit song\, “The Climb.” \nThe ceremony will acknowledge high schools and colleges in the US by name\, state by state\, including photos and videos of the class of 2020 and messages from deans and principals across the country. The video will be shared on Facebook Watch and available at facebook.com/facebookapp. Highlights and more will be posted to the @instagram account on Instagram\, and on contributors’ social media accounts. \nThis is a bittersweet time for the Class of 2020. As students head toward graduation\, it’s not the day they might have imagined — no processions\, no diploma handoffs\, no parties. They are commencing at a time of great uncertainty. But graduating is a tremendous achievement\, and worth pausing to celebrate even in these circumstances. Join in and celebrate!
URL:https://parkmesaheights.org/calendar/oprah-winfrey-graduation-address/
CATEGORIES:Community
END:VEVENT
BEGIN:VEVENT
DTSTART;TZID=America/Los_Angeles:20200516T110000
DTEND;TZID=America/Los_Angeles:20200516T130000
DTSTAMP:20260425T105919
CREATED:20200514T235824Z
LAST-MODIFIED:20200515T023921Z
UID:2236-1589626800-1589634000@parkmesaheights.org
SUMMARY:Show Me Your Walk: Graduation
DESCRIPTION:Former U.S. president Barack Obama will be sharing a special message during a virtual commencement to honor Historically Black Colleges and Universities at 11am. 78 HBCUs have joined together to celebrate the 2020 grads\, honoring more than 25\,000 students for their achievements. The even is hosted by comedian and actor Kevin Hart\, with guest appearances from Steve Harvey\, Chase Consumer Banking CEO Thasunda Brown Duckett\, Ariel Investments Co-CEO and President Mellody Hobson\, National Urban League president Marc Morial\, and academic leaders from participating HBCUs. Other participants include 10-time NBA All-Star Chris Paul\, 8-time NBA All-Star Vince Carter\, Debbie Allen and Vivica Fox. \nGraduate Together will air on ABC\, CBS\, FOX\, and NBC\, as well as Facebook\, Snapchat\, TikTok\, YouTube\, and other platforms. LeBron James\, Malala Yousafzai\, the Jonas Brothers\, Yara Shahidi\, H.E.R.\, Bad Bunny\, Lena Waithe\, Pharrell Williams\, Megan Rapinoe\, and Ben Platt will appear at the ceremony\, which kicks off 8 p.m. ET. \nhttps://www.facebook.com/watch/?v=3348372305173006
URL:https://parkmesaheights.org/calendar/show-me-your-walk-graduation/
CATEGORIES:Community
END:VEVENT
BEGIN:VEVENT
DTSTART;TZID=America/Los_Angeles:20200520T130000
DTEND;TZID=America/Los_Angeles:20200520T140000
DTSTAMP:20260425T105919
CREATED:20200513T182756Z
LAST-MODIFIED:20200513T182756Z
UID:2228-1589979600-1589983200@parkmesaheights.org
SUMMARY:Slauson Transit Plan Concept Webinar
DESCRIPTION:The Slauson Corridor Transit Neighborhood Plan (TNP) is a Los Angeles City Planning effort focused along LA Metro’s future “Rail-to-Rail” bicycle and pedestrian path that will replace the unused rail tracks on Slauson Ave. \nThrough zoning and land use regulations\, the Slauson Corridor TNP aims to activate the future bike path and plan for jobs and housing around transit. The TNP envisions: \n\nBuilding designs that facilitate convenient access to the bike path\nJobs that support greener industries\nA range of housing types that considers neighborhood scale\n\nWhat’s next? We are hosting an online webinar on May\, 20\, 2020 to share what we’ve heard from our outreach efforts thus far\, and present initial planning concepts to inform potential land use and zoning changes in the future. The webinar will also be made available online to view afterward. \nRegister \n \nEl Plan Vecinal Orientado al Transporte del Corredor Slauson es un esfuerzo de planificación de la Ciudad de Los Ángeles enfocado a lo largo de la futura pista para ciclistas y peatones “De Riel a Riel” de Metro\, la cual reemplazará las vías férreas no utilizadas a lo largo de la Avenida Slauson. \nA través de las normas de zonificación y uso de suelo\, el TNP del Corredor Slauson tiene como objetivo activar la futura ciclopista y orientar el empleo y la vivienda al transporte público. El TNP imagina: \n\nDiseños de edificios que facilitan un acceso fácil a la ciclopista\nEmpleos que apoyan industrias verdes\nUna gama de tipos de vivienda que considera la escala de los vecindarios.\n\n¿Qué sigue? Estamos organizando un seminario web para el miércoles 20 de mayo de 2020 para compartir lo que hemos escuchado durante nuestros esfuerzos de divulgación hasta ahora\, y presentar los conceptos de planificación iniciales para informar al público sobre los posibles cambios en el uso de suelo y la zonificación. El seminario web también estará disponible en línea para ver después. \nSeminario Web en Español
URL:https://parkmesaheights.org/calendar/slauson-transit-plan-concept-webinar/
CATEGORIES:Community
END:VEVENT
BEGIN:VEVENT
DTSTART;TZID=America/Los_Angeles:20200521T110000
DTEND;TZID=America/Los_Angeles:20200521T120000
DTSTAMP:20260425T105919
CREATED:20200521T155157Z
LAST-MODIFIED:20200521T155157Z
UID:2260-1590058800-1590062400@parkmesaheights.org
SUMMARY:Food Box & Food Voucher Giveaway
DESCRIPTION:Food Vouchers: \nLove & Unity Christian Fellowship\n1840 S. Wilmington Ave\nCompton\nEntry off of Walnut \nFood Boxes: \nCompton Chamber\n700 N. Bullis Road\nCompton
URL:https://parkmesaheights.org/calendar/food-box-food-voucher-giveaway/
CATEGORIES:Community
END:VEVENT
BEGIN:VEVENT
DTSTART;TZID=America/Los_Angeles:20200522T090000
DTEND;TZID=America/Los_Angeles:20200522T120000
DTSTAMP:20260425T105919
CREATED:20200521T160457Z
LAST-MODIFIED:20200521T160457Z
UID:2268-1590138000-1590148800@parkmesaheights.org
SUMMARY:Tree Summit
DESCRIPTION:Join us to help position LA’s urban canopy for future success on May 22nd at 9am!\nClick below to register! \nhttps://zoom.us/webinar/register/WN_0roZ_93kR0C0WVRL-7pN3A
URL:https://parkmesaheights.org/calendar/tree-summit/
CATEGORIES:Community
END:VEVENT
BEGIN:VEVENT
DTSTART;TZID=America/Los_Angeles:20200523T100000
DTEND;TZID=America/Los_Angeles:20200523T120000
DTSTAMP:20260425T105919
CREATED:20200521T155738Z
LAST-MODIFIED:20200521T155738Z
UID:2263-1590228000-1590235200@parkmesaheights.org
SUMMARY:Healthy Families Food Distribution
DESCRIPTION:The Gasol Foundation\, founded by NBA Players Pau and Marc Gasol\, in partnership with World Central Kitchen will host a Healthy Families Food Distribution Event offering 4\,000 Grab-and-Go Meals\, 3\,000 Backpacks\, 30\,000 Diapers and other Grab-and-Go Items along with Take Home Activities for the Kids. This event will take place this Saturday\, May 23\, 2020\, from 10am to 12pm\, on the Forum Parking Lot\, 3900 W Manchester Blvd. All visitors are requested to enter the Forum Parking Lot from Kareem Court.
URL:https://parkmesaheights.org/calendar/healthy-families-food-distribution/
LOCATION:Forum Parking Lot\, 3900 W Manchester Blvd
CATEGORIES:Community
GEO:33.9580853;-118.3420621
X-APPLE-STRUCTURED-LOCATION;VALUE=URI;X-ADDRESS=Forum Parking Lot 3900 W Manchester Blvd;X-APPLE-RADIUS=500;X-TITLE=3900 W Manchester Blvd:geo:-118.3420621,33.9580853
END:VEVENT
BEGIN:VEVENT
DTSTART;TZID=America/Los_Angeles:20200526T113000
DTEND;TZID=America/Los_Angeles:20200526T123000
DTSTAMP:20260425T105919
CREATED:20200506T190437Z
LAST-MODIFIED:20200519T203721Z
UID:2196-1590492600-1590496200@parkmesaheights.org
SUMMARY:Public Hearing Alcohol License
DESCRIPTION:ZA-2019-6582-CUB Corrected Virtual Hearing Notice \nThe hearing is for 4400 West Slauson Avenue (4404-4410 West Slauson Avenue) \nThe project involves the sale and dispensing of beer and wine for on-site consumption and the sale of beer and wine for off-site consumption in conjunction with a proposed 4\,843 square-foot restaurant (Jon & Vinny’s Slauson) with 43 indoor seats and a 330 square-foot covered outdoor patio on-site with 26 outdoor seats. The proposed hours of operation are from 8:00 a.m. to 11:00 p.m.\, daily. \nPublic participants should dial by phone: (669) 900-6833 When prompted\, enter the Meeting ID of: 991 1896 5842# The meeting’s agenda will be provided no later than 72 hours before the meeting at https://planning.lacity.org/about/commissions-boards-hearings and/or by contacting the staff contact at the phone number or email listed below. Please note that virtual meeting instructions will be provided on the meeting agenda. \nMore information: Courtney Shum\, City Planner 200 North Spring Street\, Room 763 Los Angeles\, CA\, 90012 courtney.shum@lacity.org (213) 978-1916
URL:https://parkmesaheights.org/calendar/public-hearing-alcohol-license/
CATEGORIES:Community
END:VEVENT
BEGIN:VEVENT
DTSTART;TZID=America/Los_Angeles:20200527T170000
DTEND;TZID=America/Los_Angeles:20200527T180000
DTSTAMP:20260425T105919
CREATED:20200526T225119Z
LAST-MODIFIED:20200526T225119Z
UID:2277-1590598800-1590602400@parkmesaheights.org
SUMMARY:The Plan to House LA Meeting
DESCRIPTION:Los Angeles City Planning (LACP) and the Housing and Community Investment Department (HCIDLA) are embarking on a major update to the Housing Element\, the City’s 8 year Plan to House LA. The Housing Element identifies the City’s housing conditions and needs\, and establishes the goals\, objectives\, policies and programs that are the foundation of the City’s housing strategy for 2021 to 2029. \nIn light of the COVID-19 outbreak\, as we are unable to meet face to face\, we are hosting a Webinar with a live Q&A for you to engage with Housing Element Staff in the comfort and safety of your home. We invite you to share your questions and comments as we discuss the Plan to House LA! \nSign up on Eventbrite
URL:https://parkmesaheights.org/calendar/the-plan-to-house-la-meeting/
CATEGORIES:Community
END:VEVENT
END:VCALENDAR