BEGIN:VCALENDAR
VERSION:2.0
PRODID:-//Park Mesa Heights Community Council - ECPv6.15.16//NONSGML v1.0//EN
CALSCALE:GREGORIAN
METHOD:PUBLISH
X-ORIGINAL-URL:https://parkmesaheights.org
X-WR-CALDESC:Events for Park Mesa Heights Community Council
REFRESH-INTERVAL;VALUE=DURATION:PT1H
X-Robots-Tag:noindex
X-PUBLISHED-TTL:PT1H
BEGIN:VTIMEZONE
TZID:America/Los_Angeles
BEGIN:DAYLIGHT
TZOFFSETFROM:-0800
TZOFFSETTO:-0700
TZNAME:PDT
DTSTART:20190310T100000
END:DAYLIGHT
BEGIN:STANDARD
TZOFFSETFROM:-0700
TZOFFSETTO:-0800
TZNAME:PST
DTSTART:20191103T090000
END:STANDARD
BEGIN:DAYLIGHT
TZOFFSETFROM:-0800
TZOFFSETTO:-0700
TZNAME:PDT
DTSTART:20200308T100000
END:DAYLIGHT
BEGIN:STANDARD
TZOFFSETFROM:-0700
TZOFFSETTO:-0800
TZNAME:PST
DTSTART:20201101T090000
END:STANDARD
BEGIN:DAYLIGHT
TZOFFSETFROM:-0800
TZOFFSETTO:-0700
TZNAME:PDT
DTSTART:20210314T100000
END:DAYLIGHT
BEGIN:STANDARD
TZOFFSETFROM:-0700
TZOFFSETTO:-0800
TZNAME:PST
DTSTART:20211107T090000
END:STANDARD
END:VTIMEZONE
BEGIN:VEVENT
DTSTART;TZID=America/Los_Angeles:20200603T080000
DTEND;TZID=America/Los_Angeles:20200603T143000
DTSTAMP:20260425T093229
CREATED:20200602T010647Z
LAST-MODIFIED:20200602T010647Z
UID:2288-1591171200-1591194600@parkmesaheights.org
SUMMARY:COVID-19 Testing
DESCRIPTION:
URL:https://parkmesaheights.org/calendar/covid-19-testing/2020-06-03/
LOCATION:LAFD 54\, 5730 S. Crenshaw Blvd\, Los Angeles\, 90043
CATEGORIES:Community
GEO:33.9900019;-118.3302797
X-APPLE-STRUCTURED-LOCATION;VALUE=URI;X-ADDRESS=LAFD 54 5730 S. Crenshaw Blvd Los Angeles 90043;X-APPLE-RADIUS=500;X-TITLE=5730 S. Crenshaw Blvd:geo:-118.3302797,33.9900019
END:VEVENT
BEGIN:VEVENT
DTSTART;TZID=America/Los_Angeles:20200608T080000
DTEND;TZID=America/Los_Angeles:20200608T170000
DTSTAMP:20260425T093229
CREATED:20200605T223540Z
LAST-MODIFIED:20200605T223540Z
UID:2306-1591603200-1591635600@parkmesaheights.org
SUMMARY:Tele-Town Hall with Senator Holly J. Mitchell and EDD
DESCRIPTION:Monday\, June 8\, 2020\, Senator Mitchell will be hosting a Tele-Town Hall with an EDD representative to discuss FAQs about UI\, PUA\, PEUC\, and more. The Tele-Town Hall will be available in three languages simultaneously: English\, Spanish\, and Korean. Those interested in participating can RSVP and submit questions via a google form (link: https://forms.gle/eG9cvyUAJSWjkyoXA)
URL:https://parkmesaheights.org/calendar/tele-town-hall-with-senator-holly-j-mitchell-and-edd/
CATEGORIES:Community
END:VEVENT
BEGIN:VEVENT
DTSTART;TZID=America/Los_Angeles:20200611T170000
DTEND;TZID=America/Los_Angeles:20200611T180000
DTSTAMP:20260425T093229
CREATED:20200611T190926Z
LAST-MODIFIED:20200611T190926Z
UID:2317-1591894800-1591898400@parkmesaheights.org
SUMMARY:Dads In Conversation
DESCRIPTION:The protests ignited by the killing of George Floyd have amplified the movement to address systemic racism against black people worldwide\, with an emphasis on the state of policing in this country. \nJoin us for a Virtual Forum on Racial Injustice and Policing on Thursday\, June 11th at 5PM. This will be an in depth informal conversation moderated by Waraire Boswell. \nThis discussion will engage participants in a candid and timely discussion on the most pressing civil rights issue of our time. Register for the Zoom link and share your questions in advance of the forum. \nRegister at http://ow.ly/v0EM50A4khC \nSubmit your questions at http://ow.ly/ywNA50A4kH9.
URL:https://parkmesaheights.org/calendar/dads-in-conversation/
CATEGORIES:Community
END:VEVENT
BEGIN:VEVENT
DTSTART;TZID=America/Los_Angeles:20200611T173000
DTEND;TZID=America/Los_Angeles:20200611T183000
DTSTAMP:20260425T093229
CREATED:20200611T191131Z
LAST-MODIFIED:20200611T191131Z
UID:2320-1591896600-1591900200@parkmesaheights.org
SUMMARY:Fireside CHARLA
DESCRIPTION:June 11 Latino Coalition of Los Angeles and United Latinx Fund welcome special guests: David Englin\, Chief Operating Officer of the American Red Cross Los Angeles Region and Raul Claros\, Executive Director of the American Red Cross\, Northern Valleys Chapter – Los Angeles Region. Learn how the American Red Cross has stepped up its operations on multiple fronts to develop and execute a series of rapid responses to the COVID-19 pandemic and more recently\, to civil unrest over police brutality\, as well as how to support these efforts. \nRSVP HERE: https://www.unitedlatinxfund.org/fireside_charla_6_11
URL:https://parkmesaheights.org/calendar/fireside-charla/
CATEGORIES:Community
END:VEVENT
BEGIN:VEVENT
DTSTART;TZID=America/Los_Angeles:20200612T080000
DTEND;TZID=America/Los_Angeles:20200612T143000
DTSTAMP:20260425T093229
CREATED:20200605T223202Z
LAST-MODIFIED:20200605T223202Z
UID:2301-1591948800-1591972200@parkmesaheights.org
SUMMARY:COVID-19 Testing
DESCRIPTION:Senator Holly Mitchell is partnering with St. John’s to provide free COVID-19 testing at 118th Street Elementary school. Those looking to receive a test can fill out an interest form (link: https://forms.gle/9NfFt2PN6adoCM6k6) to indicate their availability.
URL:https://parkmesaheights.org/calendar/covid-19-testing-2/2020-06-12/
CATEGORIES:Community
END:VEVENT
BEGIN:VEVENT
DTSTART;TZID=America/Los_Angeles:20200617T080000
DTEND;TZID=America/Los_Angeles:20200617T143000
DTSTAMP:20260425T093229
CREATED:20200615T165348Z
LAST-MODIFIED:20200615T165348Z
UID:2371-1592380800-1592404200@parkmesaheights.org
SUMMARY:COVID-19 Testing
DESCRIPTION:
URL:https://parkmesaheights.org/calendar/covid-19-testing-3/2020-06-17/
LOCATION:Crete Academy\, 6103 Crenshaw Blvd\, Los Angeles\, 90043
CATEGORIES:Community
GEO:33.9844975;-118.3312625
X-APPLE-STRUCTURED-LOCATION;VALUE=URI;X-ADDRESS=Crete Academy 6103 Crenshaw Blvd Los Angeles 90043;X-APPLE-RADIUS=500;X-TITLE=6103 Crenshaw Blvd:geo:-118.3312625,33.9844975
END:VEVENT
BEGIN:VEVENT
DTSTART;TZID=America/Los_Angeles:20200617T180000
DTEND;TZID=America/Los_Angeles:20200617T190000
DTSTAMP:20260425T093229
CREATED:20200617T183551Z
LAST-MODIFIED:20200617T183706Z
UID:2392-1592416800-1592420400@parkmesaheights.org
SUMMARY:Crenshaw Corridor Design Review Board
DESCRIPTION:This meeting is about CPC-2019-7006-DB-DRB-SPP-SPR-DD-MSC (4242 Crenshaw Blvd.) – (FINAL) FINAL REVIEW for a new 124 unit mixed use building with a total of 107\,940 square-feet of Floor Area including 6\,000 square-feet of commercial space and a maximum height of 69-feet. (Applicant’s Representative: Jeremy Chan\, Mayer Brown\, LLP) \nCRENSHAW CORRIDOR DESIGN REVIEW BOARD MEETINGS CAN BE LISTENED TO BY:\nDial by your location\n+1 669 900 9128 US (San Jose) +1 213 338 8477 US (Los Angeles)\nMeeting ID: 999 5992 2733 \nAll Written Submissions and Presentation Materials\, including this Agenda\, are Available for viewing at:\nhttps://drive.google.com/drive/folders/1AbMP-CLj9V9P_DDACAPXmq1uE30AWLpn?usp=sharing\nIf you are interested in being placed on the Interested Parties list for any of the items on the Agenda please fill out the following form:\nhttps://forms.gle/3cExpagP25LEF9pQA\nIf you are unable to download or access any of these documents\, please email planning staff at kyle.winston@lacity.org \nMeeting notice (click on the image for more pages of the pdf document): \n \n 
URL:https://parkmesaheights.org/calendar/crenshaw-corridor-design-review-board/
CATEGORIES:Community
END:VEVENT
BEGIN:VEVENT
DTSTART;TZID=America/Los_Angeles:20200618T180000
DTEND;TZID=America/Los_Angeles:20200618T190000
DTSTAMP:20260425T093229
CREATED:20200617T183955Z
LAST-MODIFIED:20200617T183955Z
UID:2397-1592503200-1592506800@parkmesaheights.org
SUMMARY:Telephone Town Hall about the Justice in Policing Act of 2020
DESCRIPTION:From Congresswoman Bass: \nThree weeks ago\, the world witnessed a horrific crime on the streets of Minneapolis — the slow\, shameless murder of George Floyd. \nHis tragic death has galvanized the entire nation to take a deep look at our history of gross injustice in policing\, and the deeper context of a system that makes those injustices possible. As a result\, for the last two weeks\, we have seen Americans across the nation and from every background marching peacefully to demand change. \nThat is why I introduced a bill last week\, along with Senator Cory Booker and our own Senator Kamala Harris\, H.R. 7120 — The Justice in Policing Act. \nThis bold\, transformative legislation can change the culture of policing\, raise the standards of the profession and hold accountable those officers who use excessive force. \nI’d like to discuss the details of this bill with you and your neighbors\, which is why I hope you’ll join me on Thursday\, June 18th at 6:00 PM PT for a telephone town hall discussion. \nWHO: Rep. Karen Bass \nWHAT: A Telephone Town Hall about the Justice in Policing Act of 2020 \nWHEN: Thursday\, June 18th at 6:00 PM PT \nTo make sure you receive the call\, or to ask a question in advance\, RSVP HERE
URL:https://parkmesaheights.org/calendar/telephone-town-hall-about-the-justice-in-policing-act-of-2020/
CATEGORIES:Community
END:VEVENT
BEGIN:VEVENT
DTSTART;TZID=America/Los_Angeles:20200625T180000
DTEND;TZID=America/Los_Angeles:20200625T200000
DTSTAMP:20260425T093229
CREATED:20200623T211806Z
LAST-MODIFIED:20200623T211806Z
UID:2400-1593108000-1593115200@parkmesaheights.org
SUMMARY:People’s Budget Town Hall
DESCRIPTION:On Thursday at 6PM\, Councilmember Marqueece Harris-Dawson and the South Los Angeles Alliance of Neighborhood Councils (SLAANC) will be hosting the People’s Budget Town Hall where Black Lives Matter and the community will discuss the vision BLM presented to the City Council regarding L.A.’s budget. The Councilmember will also discuss re-imagining public safety. \nRegister: https://us02web.zoom.us/webinar/register/WN_iLzr6e4BQYSpi13PNANWOA
URL:https://parkmesaheights.org/calendar/peoples-budget-town-hall/
CATEGORIES:Community
END:VEVENT
BEGIN:VEVENT
DTSTART;TZID=America/Los_Angeles:20200627T090000
DTEND;TZID=America/Los_Angeles:20200627T130000
DTSTAMP:20260425T093229
CREATED:20200617T183141Z
LAST-MODIFIED:20200617T183141Z
UID:2387-1593248400-1593262800@parkmesaheights.org
SUMMARY:Slauson Ave Clean Up
DESCRIPTION:
URL:https://parkmesaheights.org/calendar/slauson-ave-clean-up/
LOCATION:The Lash Trap\, 3648 W. Slauson Ave\, Los Angeles\, 90043
CATEGORIES:Community
GEO:33.9887848;-118.3369027
X-APPLE-STRUCTURED-LOCATION;VALUE=URI;X-ADDRESS=The Lash Trap 3648 W. Slauson Ave Los Angeles 90043;X-APPLE-RADIUS=500;X-TITLE=3648 W. Slauson Ave:geo:-118.3369027,33.9887848
END:VEVENT
BEGIN:VEVENT
DTSTART;TZID=America/Los_Angeles:20200627T160000
DTEND;TZID=America/Los_Angeles:20200627T170000
DTSTAMP:20260425T093229
CREATED:20200623T211958Z
LAST-MODIFIED:20200626T223125Z
UID:2403-1593273600-1593277200@parkmesaheights.org
SUMMARY:Budget Day
DESCRIPTION:Do you have an opinion about the City Budget? \nHere is your opportunity to express it and to learn more about it. \nNow more than ever\, getting involved in local government is absolutely critical and the good news is that it’s never been easier. Politics rewards those who show up and now with a click of a button from your device\, you can be there too. \nJoin in the session for region 10 on June 27\, 4pm: https://bit.ly/BAregions9and10 \nIf you have any questions please direct them to LAbudgetadvocates@gmail.com.
URL:https://parkmesaheights.org/calendar/budget-day-3/
CATEGORIES:Community
END:VEVENT
BEGIN:VEVENT
DTSTART;TZID=America/Los_Angeles:20200628T070000
DTEND;TZID=America/Los_Angeles:20200628T100000
DTSTAMP:20260425T093229
CREATED:20200626T190248Z
LAST-MODIFIED:20200626T190248Z
UID:2411-1593327600-1593338400@parkmesaheights.org
SUMMARY:Free Microchip for Dogs
DESCRIPTION:
URL:https://parkmesaheights.org/calendar/free-microchip-for-dogs/
LOCATION:5400 Crenshaw Blvd\, 5400 Crenshaw Blvd
CATEGORIES:Community
GEO:33.992913;-118.330249
X-APPLE-STRUCTURED-LOCATION;VALUE=URI;X-ADDRESS=5400 Crenshaw Blvd 5400 Crenshaw Blvd;X-APPLE-RADIUS=500;X-TITLE=5400 Crenshaw Blvd:geo:-118.330249,33.992913
END:VEVENT
BEGIN:VEVENT
DTSTART;TZID=America/Los_Angeles:20200630T170000
DTEND;TZID=America/Los_Angeles:20200630T180000
DTSTAMP:20260425T093229
CREATED:20200630T202129Z
LAST-MODIFIED:20200630T202129Z
UID:2430-1593536400-1593540000@parkmesaheights.org
SUMMARY:Unemployment Town Hall
DESCRIPTION:Call in number provided with RSVP:\nRegister : bit.ly/eddrsvp\nSubmit a question : bit.ly/eddask\nFor more information\, email assemblymember.kamlager@asm.ca.gov\nor call (310) 641-5410
URL:https://parkmesaheights.org/calendar/unemployment-town-hall/
CATEGORIES:Community
END:VEVENT
BEGIN:VEVENT
DTSTART;TZID=America/Los_Angeles:20200630T180000
DTEND;TZID=America/Los_Angeles:20200630T193000
DTSTAMP:20260425T093229
CREATED:20200626T222850Z
LAST-MODIFIED:20200626T222850Z
UID:2420-1593540000-1593545400@parkmesaheights.org
SUMMARY:Metro Long Range Transportation Plan Webinar
DESCRIPTION:Metro Long Range Transportation Plan Webinar: Tuesday\, June 30 @ 6:00pm. Over the past 18 months\, Metro has completed an extensive public outreach campaign that included 77 community meetings\, 28 public workshops\, 20\,000 survey responses and 50\,000 completed priority rankings. We distilled this feedback into Metro’s Draft Long Range Transportation Plan. \nJoin Metro staff for a live webinar (https://tinyurl.com/y865zqt4) on Tuesday\, June 30\, at 6:00pm. Metro will share details of the Long Range Transportation Plan and field your questions. \nVisit OurNext.LA\,(https://ournext.la/) and tell us your thoughts. The Plan is available for public review and comment through July 13\, 2020.
URL:https://parkmesaheights.org/calendar/metro-long-range-transportation-plan-webinar/
CATEGORIES:Community
END:VEVENT
END:VCALENDAR