BEGIN:VCALENDAR
VERSION:2.0
PRODID:-//Park Mesa Heights Community Council - ECPv6.15.16//NONSGML v1.0//EN
CALSCALE:GREGORIAN
METHOD:PUBLISH
X-ORIGINAL-URL:https://parkmesaheights.org
X-WR-CALDESC:Events for Park Mesa Heights Community Council
REFRESH-INTERVAL;VALUE=DURATION:PT1H
X-Robots-Tag:noindex
X-PUBLISHED-TTL:PT1H
BEGIN:VTIMEZONE
TZID:America/Los_Angeles
BEGIN:DAYLIGHT
TZOFFSETFROM:-0800
TZOFFSETTO:-0700
TZNAME:PDT
DTSTART:20190310T100000
END:DAYLIGHT
BEGIN:STANDARD
TZOFFSETFROM:-0700
TZOFFSETTO:-0800
TZNAME:PST
DTSTART:20191103T090000
END:STANDARD
BEGIN:DAYLIGHT
TZOFFSETFROM:-0800
TZOFFSETTO:-0700
TZNAME:PDT
DTSTART:20200308T100000
END:DAYLIGHT
BEGIN:STANDARD
TZOFFSETFROM:-0700
TZOFFSETTO:-0800
TZNAME:PST
DTSTART:20201101T090000
END:STANDARD
BEGIN:DAYLIGHT
TZOFFSETFROM:-0800
TZOFFSETTO:-0700
TZNAME:PDT
DTSTART:20210314T100000
END:DAYLIGHT
BEGIN:STANDARD
TZOFFSETFROM:-0700
TZOFFSETTO:-0800
TZNAME:PST
DTSTART:20211107T090000
END:STANDARD
END:VTIMEZONE
BEGIN:VEVENT
DTSTART;TZID=America/Los_Angeles:20200702T180000
DTEND;TZID=America/Los_Angeles:20200702T193000
DTSTAMP:20260425T082120
CREATED:20200630T203554Z
LAST-MODIFIED:20200630T211348Z
UID:2435-1593712800-1593718200@parkmesaheights.org
SUMMARY:Crenshaw Corridor Design Review Board Meeting
DESCRIPTION:The next scheduled DRB Meeting will be held on Thursday July 2\, 2020 at 6:00pm. \nFor this hearing we will be doing 2 cases. \nAgenda CCDRB 07-02-20 \nMeeting documents and renderings \nCase No.1 will be the first Final Review for 4101 Somerset. Letter from ECWA in response to this case. \n \nCase No.2 will be the first Final Review for 3600 Stocker. \n \nPlans and renderings are included in the links in this email under their respective Case numbers. \nBelow is the log-in information you will need to access the meeting.\nPlease click this URL to join. \nhttps://tinyurl.com/y7z86v7j\nPassword: 266719 \nOr join by phone:\nDial(for higher quality\, dial a number based on your current location):\nUS: +1 213 338 8477 or +1 669 900 9128\nWebinar ID: 911 6952 4502\nInternational numbers available: https://planning-lacity-org.zoom.us/u/aPM0qBSEg
URL:https://parkmesaheights.org/calendar/crenshaw-corridor-design-review-board-meeting/
CATEGORIES:Community
END:VEVENT
BEGIN:VEVENT
DTSTART;TZID=America/Los_Angeles:20200707T190000
DTEND;TZID=America/Los_Angeles:20200707T210000
DTSTAMP:20260425T082120
CREATED:20200703T212836Z
LAST-MODIFIED:20200703T212836Z
UID:2496-1594148400-1594155600@parkmesaheights.org
SUMMARY:Planning & Land Use Committee Meeting
DESCRIPTION:Join us for a meeting of the PMHCC Planning and Land Use Committee Meeting Tuesday\, July 7\, 7pm. \nOn our agenda: \n\nThe comeback of SB50 as an assortment of Assembly and Senate Bills. The Bills coming out of the Sacramento Legislature that will allow State Laws to impose and/or remove local control of Land Use issues. Decision(s) for submitting Community Impact Statements and/or taking other actions with Board approval.\nDiscussion(s) of Dorsett Village\, 5144 Crenshaw Blvd and 5909-5915 Crenshaw Blvd\, Slauson Corridor\n\nJuly 7\, 2020 Planning & Land Use Agenda \nJoin the meeting: \nhttps://zoom.us/j/92523856373 Webinar ID 925 2385 6373\nTelephone: Dial (669) 900-6833 or (888) 475-4499 (Toll Free) then enter Webinar ID # 925 2385 6373 then press #
URL:https://parkmesaheights.org/calendar/planning-land-use-committee-meeting/
CATEGORIES:Community
END:VEVENT
BEGIN:VEVENT
DTSTART;TZID=America/Los_Angeles:20200709T180000
DTEND;TZID=America/Los_Angeles:20200709T193000
DTSTAMP:20260425T082120
CREATED:20200709T200001Z
LAST-MODIFIED:20200709T200001Z
UID:2501-1594317600-1594323000@parkmesaheights.org
SUMMARY:Metro Recovery Plan Meeting
DESCRIPTION:Metro’s Recovery Task Force is convening a virtual public meeting to share its first 18 early action recommendations and to seek additional recovery ideas from the public this Thursday\, July 9\, from 6 pm to 7:30 pm. \nJoin the meeting to provide your comments on the Recovery Task Force’s work and learn about next steps for Metro’s recovery task force. \nYou will be able to watch the presentations and interact live via chat in English and Spanish here: https://www.metro.net/projects/recovery-task-force/. Live captioning is also available via the meeting platform. \nIf you do not have access to a computer or internet\, you can listen to the meeting and provide verbal comments by calling (877) 422-8614\, conference ID: 4321142#\, password: 6454#.
URL:https://parkmesaheights.org/calendar/metro-recovery-plan-meeting/
CATEGORIES:Community
END:VEVENT
BEGIN:VEVENT
DTSTART;TZID=America/Los_Angeles:20200711T100000
DTEND;TZID=America/Los_Angeles:20200711T120000
DTSTAMP:20260425T082120
CREATED:20200710T011238Z
LAST-MODIFIED:20200710T011238Z
UID:2516-1594461600-1594468800@parkmesaheights.org
SUMMARY:LAPD Appreciation Rally
DESCRIPTION:
URL:https://parkmesaheights.org/calendar/lapd-appreciation-rally/
LOCATION:LAPD Headquarters\, 100 W 1st Street\, 90012
CATEGORIES:Community
GEO:34.0519054;-118.244526
X-APPLE-STRUCTURED-LOCATION;VALUE=URI;X-ADDRESS=LAPD Headquarters 100 W 1st Street 90012;X-APPLE-RADIUS=500;X-TITLE=100 W 1st Street:geo:-118.244526,34.0519054
END:VEVENT
BEGIN:VEVENT
DTSTART;TZID=America/Los_Angeles:20200715T173000
DTEND;TZID=America/Los_Angeles:20200715T183000
DTSTAMP:20260425T082120
CREATED:20200710T203542Z
LAST-MODIFIED:20200710T203542Z
UID:2526-1594834200-1594837800@parkmesaheights.org
SUMMARY:Interactive Budget Town Hall
DESCRIPTION:An educational and interactive introduction to the California state budget—including how the budget is put together\, where California stands this year in light of COVID-19 implications\, and what trade-offs must be considered when looking to balance the budget. Event will feature an interactive\, nonpartisan budget simulation in which users select spending and revenue options in order to create their own versions of the state budget and learn about the trade-offs lawmakers are faced with when crafting the budget. RSVP: http://bit.ly/skdbudget
URL:https://parkmesaheights.org/calendar/interactive-budget-town-hall/
CATEGORIES:Community
END:VEVENT
BEGIN:VEVENT
DTSTART;TZID=America/Los_Angeles:20200715T183000
DTEND;TZID=America/Los_Angeles:20200715T200000
DTSTAMP:20260425T082120
CREATED:20200715T212110Z
LAST-MODIFIED:20200715T212110Z
UID:2533-1594837800-1594843200@parkmesaheights.org
SUMMARY:HOPE Community Meeting
DESCRIPTION:Get updates on COVID Resources\, Housing Legislation Impact\, Development Projects -Dorsett Village\, The People’s Budget \nJoin Zoom Meeting\nhttps://us02web.zoom.us/j/81923632762?pwd=Q3pMajc0Yy9weGdLV2Rxc203ZFNzdz09 \nMeeting ID: 819 2363 2762\nPassword: 2019\nOne tap mobile\n+16699006833\,\,81923632762#\,\,\,\,0#\,\,2019# US (San Jose)\n+12532158782\,\,81923632762#\,\,\,\,0#\,\,2019# US (Tacoma) \nDial by your location\n+1 669 900 6833 US (San Jose)
URL:https://parkmesaheights.org/calendar/hope-community-meeting/
CATEGORIES:Community
END:VEVENT
BEGIN:VEVENT
DTSTART;TZID=America/Los_Angeles:20200717T090000
DTEND;TZID=America/Los_Angeles:20200717T130000
DTSTAMP:20260425T082120
CREATED:20200630T211701Z
LAST-MODIFIED:20200630T211701Z
UID:2451-1594976400-1594990800@parkmesaheights.org
SUMMARY:Expungement Clinic
DESCRIPTION:
URL:https://parkmesaheights.org/calendar/expungement-clinic/
LOCATION:3833 S. Vermont\, 3833 S. Vermont
CATEGORIES:Community
GEO:34.0162793;-118.2918079
X-APPLE-STRUCTURED-LOCATION;VALUE=URI;X-ADDRESS=3833 S. Vermont 3833 S. Vermont;X-APPLE-RADIUS=500;X-TITLE=3833 S. Vermont:geo:-118.2918079,34.0162793
END:VEVENT
BEGIN:VEVENT
DTSTART;TZID=America/Los_Angeles:20200718T090000
DTEND;TZID=America/Los_Angeles:20200718T120000
DTSTAMP:20260425T082120
CREATED:20200709T200618Z
LAST-MODIFIED:20200709T200618Z
UID:2503-1595062800-1595073600@parkmesaheights.org
SUMMARY:Sentinel Food Distribution
DESCRIPTION:Drive through only. Line starts at Bronson and Coliseum
URL:https://parkmesaheights.org/calendar/sentinel-food-distribution/
LOCATION:Los Angeles Sentinel\, 3800 S. Crenshaw\, 90008
CATEGORIES:Community
GEO:34.0171055;-118.3346431
X-APPLE-STRUCTURED-LOCATION;VALUE=URI;X-ADDRESS=Los Angeles Sentinel 3800 S. Crenshaw 90008;X-APPLE-RADIUS=500;X-TITLE=3800 S. Crenshaw:geo:-118.3346431,34.0171055
END:VEVENT
BEGIN:VEVENT
DTSTART;TZID=America/Los_Angeles:20200720T100000
DTEND;TZID=America/Los_Angeles:20200720T120000
DTSTAMP:20260425T082120
CREATED:20200715T213318Z
LAST-MODIFIED:20200715T213318Z
UID:2536-1595239200-1595246400@parkmesaheights.org
SUMMARY:NC Civic Youth Leadership Academy
DESCRIPTION:The Department of Neighborhood Empowerment is hosting the CYLA held virtually\, which started today and registration is still being accepted via the link below. CYLA is a program designed to educate\, engage\, and empower young people ages 14-24 to take active roles in the community and speak up on issues that matter to them. \nMondays from 10 am to 12 noon \nJuly 13th: Neighborhood Councils & Local Government\nJuly 20th: Power – Personal & Political\nJuly 27th: Sustainability & Environmental Justice\nAugust 3rd: Racial Equity & Immigration \nStudents aged 14-24 in the City of Los Angeles are eligible to can REGISTER HERE. Zoom information is available at the end of the registration form.
URL:https://parkmesaheights.org/calendar/nc-civic-youth-leadership-academy/2020-07-20/
CATEGORIES:Community
END:VEVENT
BEGIN:VEVENT
DTSTART;TZID=America/Los_Angeles:20200723T180000
DTEND;TZID=America/Los_Angeles:20200723T190000
DTSTAMP:20260425T082120
CREATED:20200718T173307Z
LAST-MODIFIED:20200718T173307Z
UID:2603-1595527200-1595530800@parkmesaheights.org
SUMMARY:PPP Webinar with Lendistry
DESCRIPTION:PPP Webinar with Lendistry: Thursday\, July 23rd at 6pm we are partnering with the Center by Lendistry  and Destination Crenshaw to hold a focused workshop around the Paycheck Protection Program. Bring your specific questions! This webinar will address ways to ensure your application is approved. Find the link to join here: https://us02web.zoom.us/j/81388463513 \n\nCounty’s Regional COVID-19 Grant: Round 1 of L.A.County’s Grant program is closed\, and Round 2 will be open 7/20 – 7/24. Remember to submit your business for a chance to win\, as well as take advantage of the County’s loan and technical assistance programs.\nGrant Program: https://www.lacovidfund.org/grants\nLoan Program (opening soon): https://www.lacovidfund.org/loans\nTechnical Assistance: https://www.lacovidfund.org/taproviders\n\nFor Black-owned Restaurants – Discover Card Grants: Discover card is sponsoring a social media contest for black-owned restaurants\, based on posts across Facebook\, Instagram\, and Twitter using the hashtag #EatItForward & #Sweepstakes. The contest will have multiple rounds until October. See the link for official rules.\n#EatItForward: http://eatitforwardterms.com/\n\nCOVID-19 Survey: Our Survey is still up! Many of you completed it (thank you)\, but we are holding it open until July 30 to get as many responses as possible. Please fill it out and help us guide our efforts over the next few months.\nLink:  COVID-19 Business and Non-profit Survey\n\nFeel free to contact me if you have any specific questions about government programs related to your business\, and I’ll do my best to connect you.\n\n\n\n\n\n\n\n\n\nLamont B. Cobb\n\nPlanning and Economic Development Deputy\nCouncilmember Marqueece Harris-Dawson\n\n\n\nCity Hall Office | 213-473-7008 | 200 N. Spring St. Room 450\, Los Angeles\, CA 90012\nWest Adams Office | 213-485-7616 | 1968 W. Adams Blvd.\, Los Angeles\, CA 90018
URL:https://parkmesaheights.org/calendar/ppp-webinar-with-lendistry/
CATEGORIES:Community
END:VEVENT
END:VCALENDAR