BEGIN:VCALENDAR
VERSION:2.0
PRODID:-//Park Mesa Heights Community Council - ECPv6.15.16//NONSGML v1.0//EN
CALSCALE:GREGORIAN
METHOD:PUBLISH
X-WR-CALNAME:Park Mesa Heights Community Council
X-ORIGINAL-URL:https://parkmesaheights.org
X-WR-CALDESC:Events for Park Mesa Heights Community Council
REFRESH-INTERVAL;VALUE=DURATION:PT1H
X-Robots-Tag:noindex
X-PUBLISHED-TTL:PT1H
BEGIN:VTIMEZONE
TZID:America/Los_Angeles
BEGIN:DAYLIGHT
TZOFFSETFROM:-0800
TZOFFSETTO:-0700
TZNAME:PDT
DTSTART:20200308T100000
END:DAYLIGHT
BEGIN:STANDARD
TZOFFSETFROM:-0700
TZOFFSETTO:-0800
TZNAME:PST
DTSTART:20201101T090000
END:STANDARD
BEGIN:DAYLIGHT
TZOFFSETFROM:-0800
TZOFFSETTO:-0700
TZNAME:PDT
DTSTART:20210314T100000
END:DAYLIGHT
BEGIN:STANDARD
TZOFFSETFROM:-0700
TZOFFSETTO:-0800
TZNAME:PST
DTSTART:20211107T090000
END:STANDARD
BEGIN:DAYLIGHT
TZOFFSETFROM:-0800
TZOFFSETTO:-0700
TZNAME:PDT
DTSTART:20220313T100000
END:DAYLIGHT
BEGIN:STANDARD
TZOFFSETFROM:-0700
TZOFFSETTO:-0800
TZNAME:PST
DTSTART:20221106T090000
END:STANDARD
END:VTIMEZONE
BEGIN:VEVENT
DTSTART;TZID=America/Los_Angeles:20210511T090000
DTEND;TZID=America/Los_Angeles:20210511T120000
DTSTAMP:20260424T180237
CREATED:20210507T234531Z
LAST-MODIFIED:20210507T234531Z
UID:4069-1620723600-1620734400@parkmesaheights.org
SUMMARY:Free COVID-19 Testing
DESCRIPTION:
URL:https://parkmesaheights.org/calendar/free-covid-19-testing/
CATEGORIES:Community
END:VEVENT
BEGIN:VEVENT
DTSTART;TZID=America/Los_Angeles:20210513T183000
DTEND;TZID=America/Los_Angeles:20210513T203000
DTSTAMP:20260424T180237
CREATED:20210513T213111Z
LAST-MODIFIED:20210513T213111Z
UID:4095-1620930600-1620937800@parkmesaheights.org
SUMMARY:Meet the Candidates
DESCRIPTION:CANDIDATE ROSTER\n\n \nPresident:\nKimMarie Johnson-Roussel\nSiray Rodgers\nTara Perry\nGustyn Cook\n\nTreasurer:\nRoozbeh Kaboli\n\nSergeant-at-Arms:\nMaryanne MacDougall\nMichael Anthony Guynn\n\nBusiness Representative:\nKevin Smith\nSenior Representative: \nEleanor Smith\nKim Yergan\n\nNon-Profit Organization Representative\nJeanna Kindle\n  \nHyde Park Resident Representative:\nRobbye G. Davis\n  \nAngeles Mesa Resident Representative:\nRhonda Hyman\nAdriana Tobar\nEnisha Clark\n\n\n\n\n\n\n\nMEET THE CANDIDATES WANTING TO REPRESENT YOU ON  \nTHE PARK MESA HEIGHTS COMMUNITY COUNCIL \nDAY:     Thursday \nDATE:   May 13\, 2021\n\nTIME:    06:30 PM Pacific Time (US and Canada)\nJoin Zoom Meeting \nJoin our Cloud HD Video Meeting \nMeeting ID: 883 9583 0069 \nPasscode: 921630 \nOne tap mobile: \n+16699009128\,\,88395830069#\,\,\,\,*921630# US (San Jose) \n+13462487799\,\,88395830069#\,\,\,\,*921630# US (Houston) \nDial by your location: \n  \n+1 669 900 9128 US (San Jose)
URL:https://parkmesaheights.org/calendar/meet-the-candidates/
CATEGORIES:Community
END:VEVENT
BEGIN:VEVENT
DTSTART;TZID=America/Los_Angeles:20210520T180000
DTEND;TZID=America/Los_Angeles:20210520T193000
DTSTAMP:20260424T180237
CREATED:20210507T234914Z
LAST-MODIFIED:20210507T234914Z
UID:4072-1621533600-1621539000@parkmesaheights.org
SUMMARY:Biking & Walking Improvements Near Expo/Crenshaw Station
DESCRIPTION:Please join us for a community meeting on Zoom to discuss bicycle and pedestrian improvements proposed for the streets near the future Expo/Crenshaw Metro Rail Station. \nMetro will host two events to provide more opportunities to participate; content for both meetings will be same: \nThursday\, May 20\, 6:00pm\nTuesday\, May 25\, 2:00pm \nRegister on Eventbrite \nMetro staff will present recommendations from the Expo/Crenshaw First/Last Mile Plan\, which proposes street and sidewalk improvements to make walking and biking to the station safer and more comfortable. Recommendations are focused on nearby streets such as Crenshaw\, Exposition and Obama Boulevards\, and include adding street lights and trees\, as well as possible street design changes\, such as bike lanes\, crosswalks and potential reductions to traffic lanes. \nThese community meetings will include an opportunity to provide feedback on the plan. We want to hear from you on which improvements are most-needed on your streets\, as well as what would make Expo/Crenshaw Station more accessible for people walking and biking to the station.
URL:https://parkmesaheights.org/calendar/biking-walking-improvements-near-expo-crenshaw-station/2021-05-20/
CATEGORIES:Community
END:VEVENT
BEGIN:VEVENT
DTSTART;TZID=America/Los_Angeles:20210521T160000
DTEND;TZID=America/Los_Angeles:20210521T190000
DTSTAMP:20260424T180237
CREATED:20210505T212221Z
LAST-MODIFIED:20210505T212221Z
UID:4065-1621612800-1621623600@parkmesaheights.org
SUMMARY:Youth Symposium
DESCRIPTION:Register: https://www.eventbrite.com/o/jenesse-center-and-slam-33025091661 \nThe Road from Home to School and Beyond Youth Symposium brings together youth\, parents\, and community stakeholders to discuss the traumas youth face at home\, at school\, and in their community\, and create an action plan that gives youth the resources that they need to thrive as they move into adulthood. \nHosted in partnership with Jenesse and SLAM\, and funded by Cal OES\, attendees will hear from youth\, parents\, and community stakeholders\, as we discuss the traumas youth face.
URL:https://parkmesaheights.org/calendar/youth-symposium/2021-05-21/
CATEGORIES:Community
END:VEVENT
BEGIN:VEVENT
DTSTART;TZID=America/Los_Angeles:20210527T170000
DTEND;TZID=America/Los_Angeles:20210527T180000
DTSTAMP:20260424T180237
CREATED:20210526T220658Z
LAST-MODIFIED:20210526T220658Z
UID:4118-1622134800-1622138400@parkmesaheights.org
SUMMARY:LA County Budget Discussion with Supervisor Holly Mitchell
DESCRIPTION:From Holly Mitchell: \nJoin my office this Thursday\, May 27 at 5pm for a virtual discussion with 2nd District residents to provide input on budget priorities for our communities. Register here: bit.ly/SD2-BudgetPlan
URL:https://parkmesaheights.org/calendar/la-county-budget-discussion-with-supervisor-holly-mitchell/
CATEGORIES:Community
END:VEVENT
END:VCALENDAR