BEGIN:VCALENDAR
VERSION:2.0
PRODID:-//Park Mesa Heights Community Council - ECPv6.15.16//NONSGML v1.0//EN
CALSCALE:GREGORIAN
METHOD:PUBLISH
X-WR-CALNAME:Park Mesa Heights Community Council
X-ORIGINAL-URL:https://parkmesaheights.org
X-WR-CALDESC:Events for Park Mesa Heights Community Council
REFRESH-INTERVAL;VALUE=DURATION:PT1H
X-Robots-Tag:noindex
X-PUBLISHED-TTL:PT1H
BEGIN:VTIMEZONE
TZID:America/Los_Angeles
BEGIN:DAYLIGHT
TZOFFSETFROM:-0800
TZOFFSETTO:-0700
TZNAME:PDT
DTSTART:20200308T100000
END:DAYLIGHT
BEGIN:STANDARD
TZOFFSETFROM:-0700
TZOFFSETTO:-0800
TZNAME:PST
DTSTART:20201101T090000
END:STANDARD
BEGIN:DAYLIGHT
TZOFFSETFROM:-0800
TZOFFSETTO:-0700
TZNAME:PDT
DTSTART:20210314T100000
END:DAYLIGHT
BEGIN:STANDARD
TZOFFSETFROM:-0700
TZOFFSETTO:-0800
TZNAME:PST
DTSTART:20211107T090000
END:STANDARD
BEGIN:DAYLIGHT
TZOFFSETFROM:-0800
TZOFFSETTO:-0700
TZNAME:PDT
DTSTART:20220313T100000
END:DAYLIGHT
BEGIN:STANDARD
TZOFFSETFROM:-0700
TZOFFSETTO:-0800
TZNAME:PST
DTSTART:20221106T090000
END:STANDARD
END:VTIMEZONE
BEGIN:VEVENT
DTSTART;TZID=America/Los_Angeles:20210803T170000
DTEND;TZID=America/Los_Angeles:20210803T190000
DTSTAMP:20260424T135421
CREATED:20210802T223030Z
LAST-MODIFIED:20210803T174413Z
UID:4289-1628010000-1628017200@parkmesaheights.org
SUMMARY:National Night Out
DESCRIPTION:Enjoy National Night Out\, when you can meet your Senior Lead Officers and neighbors. A free event for the whole family!
URL:https://parkmesaheights.org/calendar/national-night-out/
LOCATION:Van Ness Recreation Center\, 5720 2nd Avenue\, Los Angeles
CATEGORIES:Community
GEO:33.9904279;-118.3190264
X-APPLE-STRUCTURED-LOCATION;VALUE=URI;X-ADDRESS=Van Ness Recreation Center 5720 2nd Avenue Los Angeles;X-APPLE-RADIUS=500;X-TITLE=5720 2nd Avenue:geo:-118.3190264,33.9904279
END:VEVENT
BEGIN:VEVENT
DTSTART;TZID=America/Los_Angeles:20210807T100000
DTEND;TZID=America/Los_Angeles:20210807T110000
DTSTAMP:20260424T135421
CREATED:20210731T011415Z
LAST-MODIFIED:20210731T011415Z
UID:4286-1628330400-1628334000@parkmesaheights.org
SUMMARY:SB 9 & 10 Town Hall
DESCRIPTION:You are invited to attend this statewide Town Hall on the impacts of SB 9 and 10 which have been approved by the California Senate and are at the State Assembly waiting for a vote under a lot of controversy. If this concerns you\, consider registering for the Town Hall: https://tinyurl.com/ytnxr64y and signing the petition: https://tinyurl.com/SB9NO \nMore Information: https://www.livablecalifornia.org/
URL:https://parkmesaheights.org/calendar/sb-9-10-town-hall/
CATEGORIES:Community
END:VEVENT
BEGIN:VEVENT
DTSTART;TZID=America/Los_Angeles:20210817T180000
DTEND;TZID=America/Los_Angeles:20210817T190000
DTSTAMP:20260424T135421
CREATED:20210816T232755Z
LAST-MODIFIED:20210816T232755Z
UID:4306-1629223200-1629226800@parkmesaheights.org
SUMMARY:Re-Opening Crenshaw EDD Discussion
DESCRIPTION:August 17\, 2021\, @ 6:00 p.m. Senator Sydney Kamlager-Dove is hosting a meeting on Youtube with the EDD Deputy Director and the Los Angeles EDD Division Chief to discuss the plans for Re-Opening the Crenshaw EDD office located at 5401 Crenshaw Blvd.
URL:https://parkmesaheights.org/calendar/re-opening-crenshaw-edd-discussion/
CATEGORIES:Community
END:VEVENT
BEGIN:VEVENT
DTSTART;TZID=America/Los_Angeles:20210818T150000
DTEND;TZID=America/Los_Angeles:20210818T160000
DTSTAMP:20260424T135421
CREATED:20210816T233707Z
LAST-MODIFIED:20210816T233801Z
UID:4311-1629298800-1629302400@parkmesaheights.org
SUMMARY:Community Safety in Hyde Park: Community Walk Audit
DESCRIPTION:The Los Angeles Neighborhood Land Trust is conducting a Community Walk Audit as part of their Community Safety in Hyde Park effort. It begins at 11th Avenue Park (6116 11th Avenue\, Los Angeles 90043). \n‘Community Safety in Hyde Park’ is a research project created to collect feedback on street safety and other concerns folks might have in Hyde Park. \nMore information: aluna@lanlt.org
URL:https://parkmesaheights.org/calendar/community-safety-in-hyde-park-community-walk-audit/
CATEGORIES:Community
END:VEVENT
BEGIN:VEVENT
DTSTART;TZID=America/Los_Angeles:20210820T180000
DTEND;TZID=America/Los_Angeles:20210820T200000
DTSTAMP:20260424T135421
CREATED:20210820T185744Z
LAST-MODIFIED:20211118T184149Z
UID:4327-1629482400-1629489600@parkmesaheights.org
SUMMARY:Free Fresh Groceries
DESCRIPTION:
URL:https://parkmesaheights.org/calendar/free-fresh-groceries/2021-08-20/
CATEGORIES:Community
END:VEVENT
BEGIN:VEVENT
DTSTART;TZID=America/Los_Angeles:20210821T093000
DTEND;TZID=America/Los_Angeles:20210821T123000
DTSTAMP:20260424T135421
CREATED:20210816T233950Z
LAST-MODIFIED:20210816T233950Z
UID:4314-1629538200-1629549000@parkmesaheights.org
SUMMARY:Budget Day
DESCRIPTION:Share your priorities for the LA City budget at Budget Day on Saturday 8/21. \nCome discuss your priorities for the Los Angeles City Budget with the Neighborhood Council Budget Advocates at our annual Budget Day event\, happening Saturday August 21\, 2021\, from 9:30am – 12:30pm on Zoom. Everyone interested in how the City of LA spends its money is welcome! \nJoin online or by phone to learn about the City budget from opening session keynote speaker LA City Controller Ron Galperin\, hear about budget booby traps in the panel discussion\, and voice your concerns about local issues in the regional breakout sessions. \nEvent is free but you must pre-register. RSVP now at: http://tinyurl.com/budgetday21 \nZoom details will be shared upon registration. \nABOUT BUDGET DAY 2021 \nLeaders from the City of Los Angeles 99 Neighborhood Councils will be coming together on August 21\, 2021 for a discussion of the Los Angeles City Budget. Sponsored by the Neighborhood Council Budget Advocates and held yearly\, the event aims to bring transparency to the City Budget and how services are funded. The event is open to the public.
URL:https://parkmesaheights.org/calendar/budget-day-5/
CATEGORIES:Community
END:VEVENT
END:VCALENDAR