BEGIN:VCALENDAR
VERSION:2.0
PRODID:-//Park Mesa Heights Community Council - ECPv6.15.16//NONSGML v1.0//EN
CALSCALE:GREGORIAN
METHOD:PUBLISH
X-ORIGINAL-URL:https://parkmesaheights.org
X-WR-CALDESC:Events for Park Mesa Heights Community Council
REFRESH-INTERVAL;VALUE=DURATION:PT1H
X-Robots-Tag:noindex
X-PUBLISHED-TTL:PT1H
BEGIN:VTIMEZONE
TZID:America/Los_Angeles
BEGIN:DAYLIGHT
TZOFFSETFROM:-0800
TZOFFSETTO:-0700
TZNAME:PDT
DTSTART:20200308T100000
END:DAYLIGHT
BEGIN:STANDARD
TZOFFSETFROM:-0700
TZOFFSETTO:-0800
TZNAME:PST
DTSTART:20201101T090000
END:STANDARD
BEGIN:DAYLIGHT
TZOFFSETFROM:-0800
TZOFFSETTO:-0700
TZNAME:PDT
DTSTART:20210314T100000
END:DAYLIGHT
BEGIN:STANDARD
TZOFFSETFROM:-0700
TZOFFSETTO:-0800
TZNAME:PST
DTSTART:20211107T090000
END:STANDARD
BEGIN:DAYLIGHT
TZOFFSETFROM:-0800
TZOFFSETTO:-0700
TZNAME:PDT
DTSTART:20220313T100000
END:DAYLIGHT
BEGIN:STANDARD
TZOFFSETFROM:-0700
TZOFFSETTO:-0800
TZNAME:PST
DTSTART:20221106T090000
END:STANDARD
END:VTIMEZONE
BEGIN:VEVENT
DTSTART;TZID=America/Los_Angeles:20210901T180000
DTEND;TZID=America/Los_Angeles:20210901T193000
DTSTAMP:20260424T121529
CREATED:20210831T213202Z
LAST-MODIFIED:20210831T213202Z
UID:4340-1630519200-1630524600@parkmesaheights.org
SUMMARY:Election Feedback Session
DESCRIPTION:You are invited to the city’s election feedback session series. \nPlease join the city at one of its upcoming Zoom sessions to discuss the 2020-2021 Neighborhood Council (NC) elections and talk about what worked; what didn’t; and what best practices we can gather from the experience. \nWhile the presentation at each session will center on the regions listed for that date\, you are welcome to join whenever it suits your schedule. All regional reports will be shared with everyone who RSVPs when the series ends. \nWe are in Region 10. \nBoard of Neighborhood Commissioners Election Town Hall (Citywide\, Regions 1 – 12) – Tuesday August 31 (6:00 – 8:00pm)\nSouth LA (Regions 9 & 10) – Wednesday September 1 (6:00 – 7:30pm)\nEast/Central (Regions 5 – 😎 – Wednesday September 8 (6:00 – 7:30pm) \nRSVP now: http://tiny.cc/NCElectionFeedback \nInfo to join these Zoom meetings online or by phone will be shared in the Eventbrite registration confirmation sent to the email address you use to RSVP. \nThe city also welcomes your comments in writing – please email Feedback@EmpowerLA.org.
URL:https://parkmesaheights.org/calendar/election-feedback-session/
CATEGORIES:Community
END:VEVENT
BEGIN:VEVENT
DTSTART;TZID=America/Los_Angeles:20210901T180000
DTEND;TZID=America/Los_Angeles:20210901T200000
DTSTAMP:20260424T121529
CREATED:20210831T213407Z
LAST-MODIFIED:20210831T213407Z
UID:4343-1630519200-1630526400@parkmesaheights.org
SUMMARY:LAUSD Redistricting Public Hearing
DESCRIPTION:Register: https://bit.ly/redistrictlausd
URL:https://parkmesaheights.org/calendar/lausd-redistricting-public-hearing/
CATEGORIES:Community
END:VEVENT
BEGIN:VEVENT
DTSTART;TZID=America/Los_Angeles:20210908T180000
DTEND;TZID=America/Los_Angeles:20210908T200000
DTSTAMP:20260424T121529
CREATED:20210719T225023Z
LAST-MODIFIED:20210819T212157Z
UID:4266-1631124000-1631131200@parkmesaheights.org
SUMMARY:Redistricting Public Hearing CD8
DESCRIPTION:On Wednesday\, September 8\, at 6 p.m. the 2021 LA City Council Redistricting Commission is holding a public hearing for residents of CD8. The public hearing will be conducted over Zoom. \nTo attend or participate virtually go to bit.ly/LACCRCZoom
URL:https://parkmesaheights.org/calendar/redistricting-public-hearing-cd8/
CATEGORIES:Community
END:VEVENT
BEGIN:VEVENT
DTSTART;TZID=America/Los_Angeles:20210909T090000
DTEND;TZID=America/Los_Angeles:20210909T130000
DTSTAMP:20260424T121529
CREATED:20210901T165932Z
LAST-MODIFIED:20210901T165932Z
UID:4359-1631178000-1631192400@parkmesaheights.org
SUMMARY:SoFi Job Fair
DESCRIPTION:Are you looking for new opportunities?\nLAX and SoFi Stadium are hosting a hiring fair at the SoFi Stadium in Inglewood on Thursday\, September 9th\, from 9:00 AM – 1:00 PM (PST). Register today and connect with over 40 employers looking to fill 2\,500+ open positions with candidates like you. \nNeed help preparing for the event?\nWe’re offering event registrants early access to our new\, digitized job readiness training. We have a host of resources that will help you refresh your resume and brush up on your interview skills so you can put your best foot forward. \nRegister: https://leadersup.typeform.com/to/Gx9ANC0G
URL:https://parkmesaheights.org/calendar/sofi-job-fair/
CATEGORIES:Community
END:VEVENT
BEGIN:VEVENT
DTSTART;TZID=America/Los_Angeles:20210911T100000
DTEND;TZID=America/Los_Angeles:20210911T120000
DTSTAMP:20260424T121529
CREATED:20210909T220808Z
LAST-MODIFIED:20210909T223411Z
UID:4380-1631354400-1631361600@parkmesaheights.org
SUMMARY:City Council Redistricting Hearing
DESCRIPTION:http://bit.ly/LACCRCZoom \nAgenda: \nhttps://laccrc2021.org/wp-content/uploads/2021/08/LACCRC-Public-Hearing-Regional-Citywide-09-11-2021.pdf
URL:https://parkmesaheights.org/calendar/city-council-redistricting-hearing/
CATEGORIES:Community
END:VEVENT
BEGIN:VEVENT
DTSTART;TZID=America/Los_Angeles:20210918T093000
DTEND;TZID=America/Los_Angeles:20210918T133000
DTSTAMP:20260424T121529
CREATED:20210910T211131Z
LAST-MODIFIED:20210910T211131Z
UID:4394-1631957400-1631971800@parkmesaheights.org
SUMMARY:Recreation & Parks Job Fair
DESCRIPTION:
URL:https://parkmesaheights.org/calendar/recreation-parks-job-fair/
LOCATION:Expo Center\, 3980 Bill Robertson Drive\, Los Angeles\, 90037
CATEGORIES:Community
GEO:34.012257;-118.2894786
X-APPLE-STRUCTURED-LOCATION;VALUE=URI;X-ADDRESS=Expo Center 3980 Bill Robertson Drive Los Angeles 90037;X-APPLE-RADIUS=500;X-TITLE=3980 Bill Robertson Drive:geo:-118.2894786,34.012257
END:VEVENT
END:VCALENDAR