BEGIN:VCALENDAR
VERSION:2.0
PRODID:-//Park Mesa Heights Community Council - ECPv6.15.16//NONSGML v1.0//EN
CALSCALE:GREGORIAN
METHOD:PUBLISH
X-ORIGINAL-URL:https://parkmesaheights.org
X-WR-CALDESC:Events for Park Mesa Heights Community Council
REFRESH-INTERVAL;VALUE=DURATION:PT1H
X-Robots-Tag:noindex
X-PUBLISHED-TTL:PT1H
BEGIN:VTIMEZONE
TZID:America/Los_Angeles
BEGIN:DAYLIGHT
TZOFFSETFROM:-0800
TZOFFSETTO:-0700
TZNAME:PDT
DTSTART:20200308T100000
END:DAYLIGHT
BEGIN:STANDARD
TZOFFSETFROM:-0700
TZOFFSETTO:-0800
TZNAME:PST
DTSTART:20201101T090000
END:STANDARD
BEGIN:DAYLIGHT
TZOFFSETFROM:-0800
TZOFFSETTO:-0700
TZNAME:PDT
DTSTART:20210314T100000
END:DAYLIGHT
BEGIN:STANDARD
TZOFFSETFROM:-0700
TZOFFSETTO:-0800
TZNAME:PST
DTSTART:20211107T090000
END:STANDARD
BEGIN:DAYLIGHT
TZOFFSETFROM:-0800
TZOFFSETTO:-0700
TZNAME:PDT
DTSTART:20220313T100000
END:DAYLIGHT
BEGIN:STANDARD
TZOFFSETFROM:-0700
TZOFFSETTO:-0800
TZNAME:PST
DTSTART:20221106T090000
END:STANDARD
END:VTIMEZONE
BEGIN:VEVENT
DTSTART;TZID=America/Los_Angeles:20211109T090000
DTEND;TZID=America/Los_Angeles:20211109T130000
DTSTAMP:20260424T093122
CREATED:20211109T182108Z
LAST-MODIFIED:20211109T182108Z
UID:4530-1636448400-1636462800@parkmesaheights.org
SUMMARY:SOFI Stadium Hiring Fair
DESCRIPTION:On the spot interviews will be available for every applicant that attends. Just bring a valid ID\, a positive attitude and a friendly smile. The event will be located inside the stadium on level 6 North End. Entrance located at 3 and 4. For more information\, email sofistadiumstaffing@legends.net \n 
URL:https://parkmesaheights.org/calendar/sofi-stadium-hiring-fair/2021-11-09/
CATEGORIES:Community
END:VEVENT
BEGIN:VEVENT
DTSTART;TZID=America/Los_Angeles:20211113T090000
DTEND;TZID=America/Los_Angeles:20211113T120000
DTSTAMP:20260424T093122
CREATED:20211028T231258Z
LAST-MODIFIED:20211028T231424Z
UID:4509-1636794000-1636804800@parkmesaheights.org
SUMMARY:Medicare Drive Up Enrollment Event
DESCRIPTION:
URL:https://parkmesaheights.org/calendar/medicare-drive-up-enrollment-event/
CATEGORIES:Community
END:VEVENT
BEGIN:VEVENT
DTSTART;TZID=America/Los_Angeles:20211119T163000
DTEND;TZID=America/Los_Angeles:20211119T173000
DTSTAMP:20260424T093122
CREATED:20211109T181818Z
LAST-MODIFIED:20211109T181818Z
UID:4526-1637339400-1637343000@parkmesaheights.org
SUMMARY:Tree Lighting
DESCRIPTION:Celebrate the holiday season with your neighbors in Council District Eight. Our annual holiday Tree Lighting is Back on Broadway! \nWe’re taking every precaution to ensure families can safely attend the event in-person. Scan the QR code to register. See you there! \nRegister: https://www.eventbrite.com/e/its-lit-south-la-glow-holiday-tree-lighting-tickets-201323111847
URL:https://parkmesaheights.org/calendar/tree-lighting/
CATEGORIES:Community
END:VEVENT
END:VCALENDAR