BEGIN:VCALENDAR
VERSION:2.0
PRODID:-//Park Mesa Heights Community Council - ECPv6.15.16//NONSGML v1.0//EN
CALSCALE:GREGORIAN
METHOD:PUBLISH
X-ORIGINAL-URL:https://parkmesaheights.org
X-WR-CALDESC:Events for Park Mesa Heights Community Council
REFRESH-INTERVAL;VALUE=DURATION:PT1H
X-Robots-Tag:noindex
X-PUBLISHED-TTL:PT1H
BEGIN:VTIMEZONE
TZID:America/Los_Angeles
BEGIN:DAYLIGHT
TZOFFSETFROM:-0800
TZOFFSETTO:-0700
TZNAME:PDT
DTSTART:20200308T100000
END:DAYLIGHT
BEGIN:STANDARD
TZOFFSETFROM:-0700
TZOFFSETTO:-0800
TZNAME:PST
DTSTART:20201101T090000
END:STANDARD
BEGIN:DAYLIGHT
TZOFFSETFROM:-0800
TZOFFSETTO:-0700
TZNAME:PDT
DTSTART:20210314T100000
END:DAYLIGHT
BEGIN:STANDARD
TZOFFSETFROM:-0700
TZOFFSETTO:-0800
TZNAME:PST
DTSTART:20211107T090000
END:STANDARD
BEGIN:DAYLIGHT
TZOFFSETFROM:-0800
TZOFFSETTO:-0700
TZNAME:PDT
DTSTART:20220313T100000
END:DAYLIGHT
BEGIN:STANDARD
TZOFFSETFROM:-0700
TZOFFSETTO:-0800
TZNAME:PST
DTSTART:20221106T090000
END:STANDARD
END:VTIMEZONE
BEGIN:VEVENT
DTSTART;TZID=America/Los_Angeles:20211211T080000
DTEND;TZID=America/Los_Angeles:20211211T100000
DTSTAMP:20260424T080953
CREATED:20211208T182313Z
LAST-MODIFIED:20211208T182313Z
UID:4621-1639209600-1639216800@parkmesaheights.org
SUMMARY:Winter Wellness 5K Run & Walk
DESCRIPTION:Get your best sneakers and let’s take to the streets for the Winter Wellness 5K Run & Walk on Saturday\, December 11\, at 8 am. We will gather at Harvard Park — 1535 W. 62nd St.\, Los Angeles\, CA 90047. \nJoin your neighbors and bring a friend! There will be music\, a warm up for the runners and walkers\, games\, gifts and prizes. \nYou can register at:\nCD8events.eventbrite.com. \nWhen we come together\, we help each other. Please bring a new unwrapped toy to help another family if you are able.
URL:https://parkmesaheights.org/calendar/winter-wellness-5k-run-walk/
CATEGORIES:Community
END:VEVENT
BEGIN:VEVENT
DTSTART;TZID=America/Los_Angeles:20211217T170000
DTEND;TZID=America/Los_Angeles:20211217T210000
DTSTAMP:20260424T080953
CREATED:20211214T211036Z
LAST-MODIFIED:20211214T211036Z
UID:4636-1639760400-1639774800@parkmesaheights.org
SUMMARY:Snow Night in Leimert
DESCRIPTION:
URL:https://parkmesaheights.org/calendar/snow-night-in-leimert/
LOCATION:Leimert Park\, Corner of Degnan and 43rd
CATEGORIES:Community
GEO:34.00592;-118.3312
X-APPLE-STRUCTURED-LOCATION;VALUE=URI;X-ADDRESS=Leimert Park Corner of Degnan and 43rd;X-APPLE-RADIUS=500;X-TITLE=Corner of Degnan and 43rd:geo:-118.3312,34.00592
END:VEVENT
BEGIN:VEVENT
DTSTART;TZID=America/Los_Angeles:20211218T150000
DTEND;TZID=America/Los_Angeles:20211218T190000
DTSTAMP:20260424T080953
CREATED:20211208T182647Z
LAST-MODIFIED:20211213T194718Z
UID:4624-1639839600-1639854000@parkmesaheights.org
SUMMARY:Toy Drive
DESCRIPTION:Sleigh bells are ringing…are you listening?? Join us with the office of Councilmember Marqueece Harris-Dawson on Dec. 18th from 3pm – 7pm on the Upper Lot (off Crenshaw Boulevard)\, for a fun-filled day of holiday fun! \nWinter Wonderland Comes to Baldwin Hills! -Live reindeer for photo opps. -Sledding -Toy Give Away -Train Rides -Food Trucks -Entertainment \nRSVP with your child(ren)’s gender & age to reserve a gift. Supplies are limited and toys will be distributed on a first come\, first-served basis for all who have RSVP’d by December 12\, 2021.\n​\n​REGISTER FOR THE FREE TOY DRIVE at: https://tinyurl.com/2p8kn949
URL:https://parkmesaheights.org/calendar/toy-drive/
CATEGORIES:Community
END:VEVENT
BEGIN:VEVENT
DTSTART;TZID=America/Los_Angeles:20211219T120000
DTEND;TZID=America/Los_Angeles:20211219T150000
DTSTAMP:20260424T080953
CREATED:20211217T210318Z
LAST-MODIFIED:20211217T210318Z
UID:4647-1639915200-1639926000@parkmesaheights.org
SUMMARY:Christmas in the Park
DESCRIPTION:
URL:https://parkmesaheights.org/calendar/christmas-in-the-park/
CATEGORIES:Community
END:VEVENT
END:VCALENDAR