BEGIN:VCALENDAR
VERSION:2.0
PRODID:-//Park Mesa Heights Community Council - ECPv6.15.16//NONSGML v1.0//EN
CALSCALE:GREGORIAN
METHOD:PUBLISH
X-ORIGINAL-URL:https://parkmesaheights.org
X-WR-CALDESC:Events for Park Mesa Heights Community Council
REFRESH-INTERVAL;VALUE=DURATION:PT1H
X-Robots-Tag:noindex
X-PUBLISHED-TTL:PT1H
BEGIN:VTIMEZONE
TZID:America/Los_Angeles
BEGIN:DAYLIGHT
TZOFFSETFROM:-0800
TZOFFSETTO:-0700
TZNAME:PDT
DTSTART:20210314T100000
END:DAYLIGHT
BEGIN:STANDARD
TZOFFSETFROM:-0700
TZOFFSETTO:-0800
TZNAME:PST
DTSTART:20211107T090000
END:STANDARD
BEGIN:DAYLIGHT
TZOFFSETFROM:-0800
TZOFFSETTO:-0700
TZNAME:PDT
DTSTART:20220313T100000
END:DAYLIGHT
BEGIN:STANDARD
TZOFFSETFROM:-0700
TZOFFSETTO:-0800
TZNAME:PST
DTSTART:20221106T090000
END:STANDARD
BEGIN:DAYLIGHT
TZOFFSETFROM:-0800
TZOFFSETTO:-0700
TZNAME:PDT
DTSTART:20230312T100000
END:DAYLIGHT
BEGIN:STANDARD
TZOFFSETFROM:-0700
TZOFFSETTO:-0800
TZNAME:PST
DTSTART:20231105T090000
END:STANDARD
END:VTIMEZONE
BEGIN:VEVENT
DTSTART;TZID=America/Los_Angeles:20220312T000000
DTEND;TZID=America/Los_Angeles:20220312T020000
DTSTAMP:20260424T035929
CREATED:20220310T213252Z
LAST-MODIFIED:20220310T213252Z
UID:4908-1647043200-1647050400@parkmesaheights.org
SUMMARY:Spring into Action
DESCRIPTION:Tell your neighbors and gather up your friends and family and come out to St. Andrews Park for a 5K Run/Walk on Saturday\, March 12 at 8:00 am.CD8 is hosting the event with the best run club in the city\, Keep It Run Hundred (KIRH). There will be music\, movement\, strength training\, and yoga — something for everyone.Register now at: kirhcd8.eventbrite.comSt. Andrews Park is located at:8701 St. Andrews Pl. Los Angeles\, CA 90047.Keep it Run Hundred (KIRH) X CD8 = South LA Strong!
URL:https://parkmesaheights.org/calendar/spring-into-action/
CATEGORIES:Community
END:VEVENT
BEGIN:VEVENT
DTSTART;TZID=America/Los_Angeles:20220326T080000
DTEND;TZID=America/Los_Angeles:20220326T130000
DTSTAMP:20260424T035929
CREATED:20220322T214959Z
LAST-MODIFIED:20220322T215345Z
UID:4928-1648281600-1648299600@parkmesaheights.org
SUMMARY:Gun Buyback
DESCRIPTION:
URL:https://parkmesaheights.org/calendar/gun-buyback/
CATEGORIES:Community
END:VEVENT
BEGIN:VEVENT
DTSTART;TZID=America/Los_Angeles:20220331T180000
DTEND;TZID=America/Los_Angeles:20220331T193000
DTSTAMP:20260424T035929
CREATED:20220328T183417Z
LAST-MODIFIED:20220328T183417Z
UID:4931-1648749600-1648755000@parkmesaheights.org
SUMMARY:Town Hall on Community Impact Statements
DESCRIPTION:Join the LA Budget Tribunes and EmpowerLA for the first Community Impact Statement Town Hall on March 31. Register at: tiny.cc/CISTownHall
URL:https://parkmesaheights.org/calendar/town-hall-on-community-impact-statements/
CATEGORIES:Community
END:VEVENT
END:VCALENDAR