BEGIN:VCALENDAR
VERSION:2.0
PRODID:-//Park Mesa Heights Community Council - ECPv6.15.16//NONSGML v1.0//EN
CALSCALE:GREGORIAN
METHOD:PUBLISH
X-WR-CALNAME:Park Mesa Heights Community Council
X-ORIGINAL-URL:https://parkmesaheights.org
X-WR-CALDESC:Events for Park Mesa Heights Community Council
REFRESH-INTERVAL;VALUE=DURATION:PT1H
X-Robots-Tag:noindex
X-PUBLISHED-TTL:PT1H
BEGIN:VTIMEZONE
TZID:America/Los_Angeles
BEGIN:DAYLIGHT
TZOFFSETFROM:-0800
TZOFFSETTO:-0700
TZNAME:PDT
DTSTART:20210314T100000
END:DAYLIGHT
BEGIN:STANDARD
TZOFFSETFROM:-0700
TZOFFSETTO:-0800
TZNAME:PST
DTSTART:20211107T090000
END:STANDARD
BEGIN:DAYLIGHT
TZOFFSETFROM:-0800
TZOFFSETTO:-0700
TZNAME:PDT
DTSTART:20220313T100000
END:DAYLIGHT
BEGIN:STANDARD
TZOFFSETFROM:-0700
TZOFFSETTO:-0800
TZNAME:PST
DTSTART:20221106T090000
END:STANDARD
BEGIN:DAYLIGHT
TZOFFSETFROM:-0800
TZOFFSETTO:-0700
TZNAME:PDT
DTSTART:20230312T100000
END:DAYLIGHT
BEGIN:STANDARD
TZOFFSETFROM:-0700
TZOFFSETTO:-0800
TZNAME:PST
DTSTART:20231105T090000
END:STANDARD
END:VTIMEZONE
BEGIN:VEVENT
DTSTART;TZID=America/Los_Angeles:20220410T150000
DTEND;TZID=America/Los_Angeles:20220410T170000
DTSTAMP:20260424T021851
CREATED:20220330T210841Z
LAST-MODIFIED:20220330T210841Z
UID:4943-1649602800-1649610000@parkmesaheights.org
SUMMARY:Controller Town Hall
DESCRIPTION:Register on Eventbrite \nThis is your opportunity before the June 7\, 2022 City election to hear directly from the candidates for Controller. The City Controller is the elected paymaster\, auditor and chief accounting officer for the City of Los Angeles. Along with the Mayor and City Attorney\, the Controller is one of three offices elected every four years by citywide popular vote.
URL:https://parkmesaheights.org/calendar/controller-town-hall/
CATEGORIES:Community
END:VEVENT
BEGIN:VEVENT
DTSTART;VALUE=DATE:20220419
DTEND;VALUE=DATE:20220502
DTSTAMP:20260424T021851
CREATED:20220422T201151Z
LAST-MODIFIED:20220422T201151Z
UID:4998-1650326400-1651449599@parkmesaheights.org
SUMMARY:Pan African Film Festival
DESCRIPTION:Details: https://www.paff.org/
URL:https://parkmesaheights.org/calendar/pan-african-film-festival/
CATEGORIES:Community
END:VEVENT
BEGIN:VEVENT
DTSTART;TZID=America/Los_Angeles:20220420T130000
DTEND;TZID=America/Los_Angeles:20220420T160000
DTSTAMP:20260424T021851
CREATED:20220420T174700Z
LAST-MODIFIED:20220420T174700Z
UID:4976-1650459600-1650470400@parkmesaheights.org
SUMMARY:Western Gage Median Park Pop Up
DESCRIPTION:Council District 8 has repurposed CDBG funds to build the park at the Western and Gage Median site. An Urban Planning class at USC is hosting a pop up event at the park site on Wednesday afternoon – April 20th. USC students have created a visual survey that will allow community members to provide feedback. The feedback collected will be the starting point for the next phase of community input for park design that should happen this summer. Stop by and provide your feedback.
URL:https://parkmesaheights.org/calendar/western-gage-median-park-pop-up/
CATEGORIES:Community
END:VEVENT
BEGIN:VEVENT
DTSTART;TZID=America/Los_Angeles:20220421T170000
DTEND;TZID=America/Los_Angeles:20220421T183000
DTSTAMP:20260424T021851
CREATED:20220420T180123Z
LAST-MODIFIED:20220420T181501Z
UID:4979-1650560400-1650565800@parkmesaheights.org
SUMMARY:Town Hall on County Budget
DESCRIPTION:Join the Office of Supervisor Holly J. Mitchell to learn more about the County budget process and to share your feedback on Second Supervisorial District community priorities for the upcoming 2022-23 County budget cycle. \nWHAT: 2nd District Virtual Town Hall on LA County Budget \nWHO: Office of Supervisor Holly J. Mitchell \nWHERE: Register to join via Zoom at bit.ly/SD2-Budget \nWHEN: 5:00 PM PDT on Thursday\, April 21 \nREGISTER
URL:https://parkmesaheights.org/calendar/town-hall-on-county-budget/
CATEGORIES:Community
END:VEVENT
BEGIN:VEVENT
DTSTART;TZID=America/Los_Angeles:20220426T180000
DTEND;TZID=America/Los_Angeles:20220426T193000
DTSTAMP:20260424T021851
CREATED:20220422T195533Z
LAST-MODIFIED:20220422T195626Z
UID:4983-1650996000-1651001400@parkmesaheights.org
SUMMARY:Start of Construction Virtual Community Meeting
DESCRIPTION:Please join us at our upcoming virtual community meeting to receive the latest updates on the start of construction for the Rail to Rail (Active Transportation Corridor) Project. Come hear from our Rail-to-Rail Project Team as they provide a project overview and information on upcoming construction. \nApril 26\, 2022\, 6P to 7:30P \nZoom link: https://us02web.zoom.us/j/89397929354 \nFor more information on the project: https://www.metro.net/projects/railtorivera/  \nSegment A is a biking and walking path connecting the future Fairview Heights Station and Slauson Station
URL:https://parkmesaheights.org/calendar/start-of-construction-virtual-community-meeting/
CATEGORIES:Community
END:VEVENT
BEGIN:VEVENT
DTSTART;VALUE=DATE:20220427
DTEND;VALUE=DATE:20220428
DTSTAMP:20260424T021851
CREATED:20220422T200303Z
LAST-MODIFIED:20220422T200303Z
UID:4986-1651017600-1651103999@parkmesaheights.org
SUMMARY:Denim Day
DESCRIPTION:
URL:https://parkmesaheights.org/calendar/denim-day/
CATEGORIES:Community
END:VEVENT
BEGIN:VEVENT
DTSTART;TZID=America/Los_Angeles:20220427T163000
DTEND;TZID=America/Los_Angeles:20220427T180000
DTSTAMP:20260424T021851
CREATED:20220422T200759Z
LAST-MODIFIED:20220422T200759Z
UID:4992-1651077000-1651082400@parkmesaheights.org
SUMMARY:Disaster Preparedness Town Hall
DESCRIPTION:To register for this virtual event\, please go to:\nhttps://us02web.zoom.us/meeting/register/tZMrf-mprDwvHdSsKH_XxOIEZKjjUuBEo6Ke\n 
URL:https://parkmesaheights.org/calendar/disaster-preparedness-town-hall/
CATEGORIES:Community
END:VEVENT
BEGIN:VEVENT
DTSTART;TZID=America/Los_Angeles:20220430T100000
DTEND;TZID=America/Los_Angeles:20220430T120000
DTSTAMP:20260424T021851
CREATED:20220422T200939Z
LAST-MODIFIED:20220422T200939Z
UID:4995-1651312800-1651320000@parkmesaheights.org
SUMMARY:Mayor’s Budget Proposal Town Hall
DESCRIPTION:The Mayor is required by the City Charter to release the Proposed Budget for the next fiscal year by April 20. The City Council must act on that budget by the end of May. To get there\, the City Council Budget and Finance Committee will hold hearings with each of the City Departments. The Neighborhood Council Budget Advocates will also be invited to address the Committee. \nLet’s dive into the Proposed Budget before it is finalized. This Town Hall is an opportunity for you to become familiar with the Proposed Budget so you are equipped to make your voice heard with the Budget and Finance Committee\, the City Council\, and the Mayor. Come discuss the Mayor’s proposed budget with the Neighborhood Council Budget Advocates and officials from City Hall. \nRegistration link is http://tiny.cc/LABudget2223
URL:https://parkmesaheights.org/calendar/mayors-budget-proposal-town-hall/
CATEGORIES:Community
END:VEVENT
END:VCALENDAR