BEGIN:VCALENDAR
VERSION:2.0
PRODID:-//Park Mesa Heights Community Council - ECPv6.15.16//NONSGML v1.0//EN
CALSCALE:GREGORIAN
METHOD:PUBLISH
X-WR-CALNAME:Park Mesa Heights Community Council
X-ORIGINAL-URL:https://parkmesaheights.org
X-WR-CALDESC:Events for Park Mesa Heights Community Council
REFRESH-INTERVAL;VALUE=DURATION:PT1H
X-Robots-Tag:noindex
X-PUBLISHED-TTL:PT1H
BEGIN:VTIMEZONE
TZID:America/Los_Angeles
BEGIN:DAYLIGHT
TZOFFSETFROM:-0800
TZOFFSETTO:-0700
TZNAME:PDT
DTSTART:20210314T100000
END:DAYLIGHT
BEGIN:STANDARD
TZOFFSETFROM:-0700
TZOFFSETTO:-0800
TZNAME:PST
DTSTART:20211107T090000
END:STANDARD
BEGIN:DAYLIGHT
TZOFFSETFROM:-0800
TZOFFSETTO:-0700
TZNAME:PDT
DTSTART:20220313T100000
END:DAYLIGHT
BEGIN:STANDARD
TZOFFSETFROM:-0700
TZOFFSETTO:-0800
TZNAME:PST
DTSTART:20221106T090000
END:STANDARD
BEGIN:DAYLIGHT
TZOFFSETFROM:-0800
TZOFFSETTO:-0700
TZNAME:PDT
DTSTART:20230312T100000
END:DAYLIGHT
BEGIN:STANDARD
TZOFFSETFROM:-0700
TZOFFSETTO:-0800
TZNAME:PST
DTSTART:20231105T090000
END:STANDARD
END:VTIMEZONE
BEGIN:VEVENT
DTSTART;VALUE=DATE:20220419
DTEND;VALUE=DATE:20220502
DTSTAMP:20260424T005728
CREATED:20220422T201151Z
LAST-MODIFIED:20220422T201151Z
UID:4998-1650326400-1651449599@parkmesaheights.org
SUMMARY:Pan African Film Festival
DESCRIPTION:Details: https://www.paff.org/
URL:https://parkmesaheights.org/calendar/pan-african-film-festival/
CATEGORIES:Community
END:VEVENT
BEGIN:VEVENT
DTSTART;TZID=America/Los_Angeles:20220511T180000
DTEND;TZID=America/Los_Angeles:20220511T200000
DTSTAMP:20260424T005728
CREATED:20220504T003418Z
LAST-MODIFIED:20220504T003418Z
UID:5034-1652292000-1652299200@parkmesaheights.org
SUMMARY:Florence Av Bus Priority Lanes Project Meeting
DESCRIPTION:The Florence Av Bus Priority Lanes Project is an important step toward building a safer and faster multi-modal transit network in Los Angeles. Located along a 5.4-mile segment of Florence Av\, between West Bl and the Florence A Line (Blue) Station\, the project would add bus priority lanes in both directions for Metro Line 111 during weekday peak hours from 7–10am and 3–7pm. \nJoin us for a community meeting to learn more about the project and how it will benefit the over 16\,500 transit riders that use and rely on bus service along Florence Av. \nWednesday\, May 11\, 6-8pm\nRSVP: https://bit.ly/florencebus\nID: 885 8836 7594\nPasscode: 11135\nCall-in: 213.338.8477
URL:https://parkmesaheights.org/calendar/florence-av-bus-priority-lanes-project-meeting/
CATEGORIES:Community
END:VEVENT
BEGIN:VEVENT
DTSTART;TZID=America/Los_Angeles:20220519T090000
DTEND;TZID=America/Los_Angeles:20220519T120000
DTSTAMP:20260424T005728
CREATED:20220428T205318Z
LAST-MODIFIED:20220428T205346Z
UID:5013-1652950800-1652961600@parkmesaheights.org
SUMMARY:Schools & Stormwater Symposium
DESCRIPTION:This important event will convene various water agencies\, schools districts\, administrators and staff\, parent groups\, and community-based organizations\, among other experts\, to spotlight the unique opportunities that schools hold to be sites for greening and stormwater capture projects.Expert panelists will engage in insightful conversations covering three main topics: \n\nHighlight the multiple benefits of school stormwater and greening projects for students\, their families\, and the surrounding neighborhood community\nDescribe specific case studies of impactful school-site projects with a special focus on how to locate\, design\, and implement projects by securing Measure W and Safe Clean Water Program funds\nAddress liability considerations and how to overcome contractual barriers to implementing stormwater capture projects on school campuses\n\nREGISTER
URL:https://parkmesaheights.org/calendar/schools-stormwater-symposium/
CATEGORIES:Community
END:VEVENT
BEGIN:VEVENT
DTSTART;TZID=America/Los_Angeles:20220521T080000
DTEND;TZID=America/Los_Angeles:20220521T100000
DTSTAMP:20260424T005728
CREATED:20220513T213627Z
LAST-MODIFIED:20220516T193506Z
UID:5047-1653120000-1653127200@parkmesaheights.org
SUMMARY:Coffee with Councilmember Marqueece Harris-Dawson
DESCRIPTION:REGISTER
URL:https://parkmesaheights.org/calendar/coffee-with-councilmember-marqueece-harris-dawson-2/
CATEGORIES:Community
END:VEVENT
BEGIN:VEVENT
DTSTART;TZID=America/Los_Angeles:20220521T100000
DTEND;TZID=America/Los_Angeles:20220521T140000
DTSTAMP:20260424T005728
CREATED:20220516T192613Z
LAST-MODIFIED:20220516T192613Z
UID:5055-1653127200-1653141600@parkmesaheights.org
SUMMARY:The Collective: Body & Soul
DESCRIPTION:Next Saturday is The Collective: Body & Soul ECWA Wellness Kickoff at the Crenshaw Mall. There will be several fun activities and an iPad Giveaway. Bring your family and neighbors!
URL:https://parkmesaheights.org/calendar/the-collective-body-soul/
CATEGORIES:Community
END:VEVENT
BEGIN:VEVENT
DTSTART;TZID=America/Los_Angeles:20220521T110000
DTEND;TZID=America/Los_Angeles:20220521T150000
DTSTAMP:20260424T005728
CREATED:20220516T192827Z
LAST-MODIFIED:20220516T192827Z
UID:5058-1653130800-1653145200@parkmesaheights.org
SUMMARY:Career Fair
DESCRIPTION:If you’re looking for career opportunities or information on attending college\, come to this Saturday’s fair at Harvard Park. There will be resources and a free lunch provided by In-N-Out Burger! \nTo RSVP visit bit.ly/career-collegefair.
URL:https://parkmesaheights.org/calendar/career-fair-2/
CATEGORIES:Community
END:VEVENT
END:VCALENDAR