BEGIN:VCALENDAR
VERSION:2.0
PRODID:-//Park Mesa Heights Community Council - ECPv6.15.16//NONSGML v1.0//EN
CALSCALE:GREGORIAN
METHOD:PUBLISH
X-ORIGINAL-URL:https://parkmesaheights.org
X-WR-CALDESC:Events for Park Mesa Heights Community Council
REFRESH-INTERVAL;VALUE=DURATION:PT1H
X-Robots-Tag:noindex
X-PUBLISHED-TTL:PT1H
BEGIN:VTIMEZONE
TZID:America/Los_Angeles
BEGIN:DAYLIGHT
TZOFFSETFROM:-0800
TZOFFSETTO:-0700
TZNAME:PDT
DTSTART:20210314T100000
END:DAYLIGHT
BEGIN:STANDARD
TZOFFSETFROM:-0700
TZOFFSETTO:-0800
TZNAME:PST
DTSTART:20211107T090000
END:STANDARD
BEGIN:DAYLIGHT
TZOFFSETFROM:-0800
TZOFFSETTO:-0700
TZNAME:PDT
DTSTART:20220313T100000
END:DAYLIGHT
BEGIN:STANDARD
TZOFFSETFROM:-0700
TZOFFSETTO:-0800
TZNAME:PST
DTSTART:20221106T090000
END:STANDARD
BEGIN:DAYLIGHT
TZOFFSETFROM:-0800
TZOFFSETTO:-0700
TZNAME:PDT
DTSTART:20230312T100000
END:DAYLIGHT
BEGIN:STANDARD
TZOFFSETFROM:-0700
TZOFFSETTO:-0800
TZNAME:PST
DTSTART:20231105T090000
END:STANDARD
END:VTIMEZONE
BEGIN:VEVENT
DTSTART;TZID=America/Los_Angeles:20220607T070000
DTEND;TZID=America/Los_Angeles:20220607T200000
DTSTAMP:20260423T232851
CREATED:20220601T185227Z
LAST-MODIFIED:20220601T185227Z
UID:5254-1654585200-1654632000@parkmesaheights.org
SUMMARY:Elections
DESCRIPTION:Remember to vote on election day. Get more polling information: https://www.lavote.gov/
URL:https://parkmesaheights.org/calendar/elections/
CATEGORIES:Community
END:VEVENT
BEGIN:VEVENT
DTSTART;TZID=America/Los_Angeles:20220611T130000
DTEND;TZID=America/Los_Angeles:20220611T173000
DTSTAMP:20260423T232851
CREATED:20220607T010458Z
LAST-MODIFIED:20220607T010458Z
UID:5333-1654952400-1654968600@parkmesaheights.org
SUMMARY:Juneteenth
DESCRIPTION:
URL:https://parkmesaheights.org/calendar/juneteenth/
CATEGORIES:Community
END:VEVENT
BEGIN:VEVENT
DTSTART;TZID=America/Los_Angeles:20220611T130000
DTEND;TZID=America/Los_Angeles:20220611T180000
DTSTAMP:20260423T232851
CREATED:20220422T200538Z
LAST-MODIFIED:20220422T200538Z
UID:4989-1654952400-1654970400@parkmesaheights.org
SUMMARY:Freemont Basket Ball Tournament
DESCRIPTION:More: https://www.paff.org/
URL:https://parkmesaheights.org/calendar/freemont-basket-ball-tournament/
CATEGORIES:Community
END:VEVENT
BEGIN:VEVENT
DTSTART;TZID=America/Los_Angeles:20220618T093000
DTEND;TZID=America/Los_Angeles:20220618T123000
DTSTAMP:20260423T232851
CREATED:20220613T193620Z
LAST-MODIFIED:20220613T193620Z
UID:5389-1655544600-1655555400@parkmesaheights.org
SUMMARY:Budget Day
DESCRIPTION:You are invited to participate in learning more about the Los Angeles City Budget. All City services and issues come down to budget. \nThe theme is\, “Which Way L.A?” Budget Day will be held via Zoom with a Plenary Session running from 9:30 a.m. to 11:30 a.m. and Regional Breakout Sessions running from 11:30 a.m. to 12:30 p.m. The Plenary Session will include speakers and a panel discussion on the theme including participation from our elected officials. \nREGISTER
URL:https://parkmesaheights.org/calendar/budget-day-4/
CATEGORIES:Community
END:VEVENT
BEGIN:VEVENT
DTSTART;VALUE=DATE:20220619
DTEND;VALUE=DATE:20220620
DTSTAMP:20260423T232851
CREATED:20220613T194745Z
LAST-MODIFIED:20220613T194745Z
UID:5393-1655596800-1655683199@parkmesaheights.org
SUMMARY:Father's Day
DESCRIPTION:
URL:https://parkmesaheights.org/calendar/fathers-day/
CATEGORIES:Community
END:VEVENT
END:VCALENDAR