BEGIN:VCALENDAR
VERSION:2.0
PRODID:-//Park Mesa Heights Community Council - ECPv6.15.16//NONSGML v1.0//EN
CALSCALE:GREGORIAN
METHOD:PUBLISH
X-ORIGINAL-URL:https://parkmesaheights.org
X-WR-CALDESC:Events for Park Mesa Heights Community Council
REFRESH-INTERVAL;VALUE=DURATION:PT1H
X-Robots-Tag:noindex
X-PUBLISHED-TTL:PT1H
BEGIN:VTIMEZONE
TZID:America/Los_Angeles
BEGIN:DAYLIGHT
TZOFFSETFROM:-0800
TZOFFSETTO:-0700
TZNAME:PDT
DTSTART:20210314T100000
END:DAYLIGHT
BEGIN:STANDARD
TZOFFSETFROM:-0700
TZOFFSETTO:-0800
TZNAME:PST
DTSTART:20211107T090000
END:STANDARD
BEGIN:DAYLIGHT
TZOFFSETFROM:-0800
TZOFFSETTO:-0700
TZNAME:PDT
DTSTART:20220313T100000
END:DAYLIGHT
BEGIN:STANDARD
TZOFFSETFROM:-0700
TZOFFSETTO:-0800
TZNAME:PST
DTSTART:20221106T090000
END:STANDARD
BEGIN:DAYLIGHT
TZOFFSETFROM:-0800
TZOFFSETTO:-0700
TZNAME:PDT
DTSTART:20230312T100000
END:DAYLIGHT
BEGIN:STANDARD
TZOFFSETFROM:-0700
TZOFFSETTO:-0800
TZNAME:PST
DTSTART:20231105T090000
END:STANDARD
END:VTIMEZONE
BEGIN:VEVENT
DTSTART;TZID=America/Los_Angeles:20220802T170000
DTEND;TZID=America/Los_Angeles:20220802T200000
DTSTAMP:20260423T205111
CREATED:20220727T200759Z
LAST-MODIFIED:20220727T200759Z
UID:6020-1659459600-1659470400@parkmesaheights.org
SUMMARY:National Night Out
DESCRIPTION:Join the 77th St. Station for a National Night Out Against Crime Celebration! \nEnjoy an evening of family friendly fun including food\, games\, music\, police station tours\, city resources and so much more.
URL:https://parkmesaheights.org/calendar/national-night-out-2/
LOCATION:77th Street Station\, 7600 S. Broadway\, Los Angeles
CATEGORIES:Community
GEO:33.9702803;-118.2779687
X-APPLE-STRUCTURED-LOCATION;VALUE=URI;X-ADDRESS=77th Street Station 7600 S. Broadway Los Angeles;X-APPLE-RADIUS=500;X-TITLE=7600 S. Broadway:geo:-118.2779687,33.9702803
END:VEVENT
BEGIN:VEVENT
DTSTART;TZID=America/Los_Angeles:20220811T160000
DTEND;TZID=America/Los_Angeles:20220811T180000
DTSTAMP:20260423T205111
CREATED:20220810T161433Z
LAST-MODIFIED:20220810T161433Z
UID:6210-1660233600-1660240800@parkmesaheights.org
SUMMARY:Learning by Design Back to School Orientation & Tour
DESCRIPTION:MISSION \nLearning by Design\, a new TK/K-5 charter school in South Los Angeles\, is designed to foster educational equity and cultivate diverse students becoming thoughtful and courageous change makers and problem solvers of tomorrow\, through a dynamic 21st Century learning experience with an emphasis on personalized and experiential/hands-on learning. \nVISION \nLbD envisions establishing a “school of the future” where innovative and authentic learning opportunities are the norm\, not the exception. We envision a school that dramatically shifts the old paradigm of school created more than 100 years ago during the industrial revolution and instead embraces Re-imagining\, Re- thinking\, and Re- designing school to meet the needs of today’s children and the world’s rapidly changing global and tech-based economy. \nIn prior years\, a successful student or “educated person” had been considered one that achieved “high marks” on assignments and standardized tests and behaved in accordance to classroom and/or school wide rules. Our educational system\, designed during the Industrial Age\, has not evolved on pace with changes in the workplace at least not yet for underserved students. Today\, simply producing a student that follows directions well and is compliant is far from sufficient. \nIt is now well-settled that the “Information Age” and now the “Knowledge Age” have dramatically impacted our world – the ways in which people communicate\, access and distribute information\, process and analyze data\, create and express ideas and so much more have been changed forever. Rote knowledge and even complex calculations can be accessed in a matter of seconds on a handheld device. \nYet the “democratization of technology” – with iPhones already 10 years old – has led to far more discussion than actual change in the ways in which we educate underserved children and prepare them in particular for this new world. In an ever-increasingly “flat” world\, students must also be able to understand\, appreciate\, and effectively communicate with other cultures and societies; recognize how the decisions and practices of one group can affect the conditions of another; and comprehend how the actions of all of humanity affect the well-being of the planet that we inhabit. An education that equips students for the 21st century must foster traits such as creativity\, curiosity\, a thirst for learning\, discernment\, and interdisciplinary thinking. \nThe question is\, are schools in “Urban Communities” effectively doing this? Learning by Design Charter School was created to confront the ways in which children in underserved communities are being educated… is it on par with how “others” are being educated… or do these practices remain outdated and subpar? Does the divide continue to widen? Learning by Design is here to question and challenge standard practices and provide equitable learning experiences for children in urban communities. \nCome visit Learning by Design to see how we utilize Project-based\, Place-based\, Design-based\, and Innovative Learning practices to level the playing field for children in Urban communities. \nWe look forward to seeing you! \nLearning by Design Charter School\nwww.learningbydesignschools.org\n(323) 903-5712
URL:https://parkmesaheights.org/calendar/learning-by-design-back-to-school-orientation-tour/2022-08-11/
CATEGORIES:Community
ATTACH;FMTTYPE=image/jpeg:https://parkmesaheights.org/wp-content/uploads/2022/08/Welcome-Back-to-school-orientation-and-tour.jpg
END:VEVENT
BEGIN:VEVENT
DTSTART;TZID=America/Los_Angeles:20220813T110000
DTEND;TZID=America/Los_Angeles:20220813T180000
DTSTAMP:20260423T205111
CREATED:20220808T225542Z
LAST-MODIFIED:20220808T225542Z
UID:6197-1660388400-1660413600@parkmesaheights.org
SUMMARY:Crenshaw Remembers
DESCRIPTION:Mark your calendars\, pull up with the whole family\, and let’s enjoy each other’s presence at Crenshaw Remembers. \nThis two-day family festival will feature our favorite musical acts\, performance art\, healing workshops\, salon conversations\, arts & wellness activations\, art on display & for sale\, marketplace vendors\, food trucks\, and so much more local talent. \nLA Commons\, Kaos Network\, The World Stage\, Aziz Gallerie\, Destination Crenshaw\, St. Elmo’s Village\, & many more have joined forces to form Crenshaw Creative® and partner with The J. Paul Getty Museum for Crenshaw Remembers in celebration of the Getty Center’s 25th Anniversary. \nSign Up
URL:https://parkmesaheights.org/calendar/crenshaw-remembers/2022-08-13/
CATEGORIES:Community
END:VEVENT
BEGIN:VEVENT
DTSTART;TZID=America/Los_Angeles:20220814T130000
DTEND;TZID=America/Los_Angeles:20220814T170000
DTSTAMP:20260423T205111
CREATED:20220812T191032Z
LAST-MODIFIED:20220812T191032Z
UID:6269-1660482000-1660496400@parkmesaheights.org
SUMMARY:Summer Camp Graduation
DESCRIPTION:
URL:https://parkmesaheights.org/calendar/summer-camp-graduation/
CATEGORIES:Community
END:VEVENT
BEGIN:VEVENT
DTSTART;TZID=America/Los_Angeles:20220821T090000
DTEND;TZID=America/Los_Angeles:20220821T160000
DTSTAMP:20260423T205111
CREATED:20220808T225059Z
LAST-MODIFIED:20220808T225059Z
UID:6194-1661072400-1661097600@parkmesaheights.org
SUMMARY:CicLAvia: Meet the Hollywoods
DESCRIPTION:On Sunday\, August 21\, we’re opening up streets in Hollywood and West Hollywood so you can jog\, ride\, bike\, skate\, run\, walk\, skateboard\, spectate\, and enjoy the route however you want. Our routes are welcoming to people of all ages and abilities! This CicLAvia is in partnership with City of West Hollywood and City of LA.
URL:https://parkmesaheights.org/calendar/ciclavia-meet-the-hollywoods-2/
CATEGORIES:Community
END:VEVENT
BEGIN:VEVENT
DTSTART;TZID=America/Los_Angeles:20220823T153000
DTEND;TZID=America/Los_Angeles:20220823T163000
DTSTAMP:20260423T205111
CREATED:20220812T190821Z
LAST-MODIFIED:20220812T190904Z
UID:6264-1661268600-1661272200@parkmesaheights.org
SUMMARY:Photo Transfer Art Class
DESCRIPTION:Participate in amixed-media\, hands-on program that allows students to create a piece of art\, and then transfer the image onto canvas. For amore meaningful memory\, bring your own photo to transfer it onto canvas.
URL:https://parkmesaheights.org/calendar/6264/
LOCATION:Angeles Mesa Library\, 2700 W. 52nd St.\, Los Angeles\, 90043
CATEGORIES:Community
GEO:33.9948341;-118.3228622
X-APPLE-STRUCTURED-LOCATION;VALUE=URI;X-ADDRESS=Angeles Mesa Library 2700 W. 52nd St. Los Angeles 90043;X-APPLE-RADIUS=500;X-TITLE=2700 W. 52nd St.:geo:-118.3228622,33.9948341
END:VEVENT
BEGIN:VEVENT
DTSTART;TZID=America/Los_Angeles:20220827T113000
DTEND;TZID=America/Los_Angeles:20220827T204500
DTSTAMP:20260423T205111
CREATED:20220810T163153Z
LAST-MODIFIED:20220822T195119Z
UID:6214-1661599800-1661633100@parkmesaheights.org
SUMMARY:Leimert Jazz Festival
DESCRIPTION:General admission is free. Register to be entered into a prize at the festival.
URL:https://parkmesaheights.org/calendar/leimert-jazz-festival-2/
CATEGORIES:Community
END:VEVENT
END:VCALENDAR