BEGIN:VCALENDAR
VERSION:2.0
PRODID:-//Park Mesa Heights Community Council - ECPv6.15.16//NONSGML v1.0//EN
CALSCALE:GREGORIAN
METHOD:PUBLISH
X-ORIGINAL-URL:https://parkmesaheights.org
X-WR-CALDESC:Events for Park Mesa Heights Community Council
REFRESH-INTERVAL;VALUE=DURATION:PT1H
X-Robots-Tag:noindex
X-PUBLISHED-TTL:PT1H
BEGIN:VTIMEZONE
TZID:America/Los_Angeles
BEGIN:DAYLIGHT
TZOFFSETFROM:-0800
TZOFFSETTO:-0700
TZNAME:PDT
DTSTART:20220313T100000
END:DAYLIGHT
BEGIN:STANDARD
TZOFFSETFROM:-0700
TZOFFSETTO:-0800
TZNAME:PST
DTSTART:20221106T090000
END:STANDARD
BEGIN:DAYLIGHT
TZOFFSETFROM:-0800
TZOFFSETTO:-0700
TZNAME:PDT
DTSTART:20230312T100000
END:DAYLIGHT
BEGIN:STANDARD
TZOFFSETFROM:-0700
TZOFFSETTO:-0800
TZNAME:PST
DTSTART:20231105T090000
END:STANDARD
BEGIN:DAYLIGHT
TZOFFSETFROM:-0800
TZOFFSETTO:-0700
TZNAME:PDT
DTSTART:20240310T100000
END:DAYLIGHT
BEGIN:STANDARD
TZOFFSETFROM:-0700
TZOFFSETTO:-0800
TZNAME:PST
DTSTART:20241103T090000
END:STANDARD
END:VTIMEZONE
BEGIN:VEVENT
DTSTART;TZID=America/Los_Angeles:20230210T180000
DTEND;TZID=America/Los_Angeles:20230210T193000
DTSTAMP:20260423T121825
CREATED:20230206T191109Z
LAST-MODIFIED:20230206T191109Z
UID:9076-1676052000-1676057400@parkmesaheights.org
SUMMARY:Entertainment Industry Career Workshop
DESCRIPTION:We would like to invite young people in middle and high schools to attend the upcoming entertainment industry career workshop to be held on Friday\, February 10th\, 2023 from 6-7:30 PM. The event will be held at Weingart YMCA (9900 S. Vermont Ave). We will be welcoming three panelists who have worked at Netflix\, Hulu\, Sony\, Starz\, Disney and FX. They will engage the young people in an interactive workshop to determine their interests and suggest possible jobs in the entertainment industry both in front of and behind the camera.
URL:https://parkmesaheights.org/calendar/entertainment-industry-career-workshop/
LOCATION:Weingart YMCA\, 9900 S. Vermont\, 90044
CATEGORIES:Community
GEO:33.9458395;-118.2908488
X-APPLE-STRUCTURED-LOCATION;VALUE=URI;X-ADDRESS=Weingart YMCA 9900 S. Vermont 90044;X-APPLE-RADIUS=500;X-TITLE=9900 S. Vermont:geo:-118.2908488,33.9458395
END:VEVENT
BEGIN:VEVENT
DTSTART;TZID=America/Los_Angeles:20230222T174500
DTEND;TZID=America/Los_Angeles:20230222T194500
DTSTAMP:20260423T121825
CREATED:20230213T185238Z
LAST-MODIFIED:20230213T185238Z
UID:9213-1677087900-1677095100@parkmesaheights.org
SUMMARY:Jacques Lesure Trio Jazz Concert
DESCRIPTION:
URL:https://parkmesaheights.org/calendar/jacques-lesure-trio-jazz-concert/
CATEGORIES:Community
END:VEVENT
BEGIN:VEVENT
DTSTART;TZID=America/Los_Angeles:20230225T110000
DTEND;TZID=America/Los_Angeles:20230225T170000
DTSTAMP:20260423T121825
CREATED:20230209T174727Z
LAST-MODIFIED:20230209T174908Z
UID:9100-1677322800-1677344400@parkmesaheights.org
SUMMARY:Freedom Festival
DESCRIPTION:Enjoy the annual Freedom Festival\, Saturday\, February 25\, at Historic Leimert Park.\nFrom 11 am to 5 pm there will be live music\, family activities\, food vendors\, and a job resource fair. And\, of course\, our Activism Tent will be up and running\, and you can learn how to be civically engaged in our community and access local resources.
URL:https://parkmesaheights.org/calendar/freedom-festival/
CATEGORIES:Community
END:VEVENT
END:VCALENDAR