BEGIN:VCALENDAR
VERSION:2.0
PRODID:-//Park Mesa Heights Community Council - ECPv6.15.16//NONSGML v1.0//EN
CALSCALE:GREGORIAN
METHOD:PUBLISH
X-WR-CALNAME:Park Mesa Heights Community Council
X-ORIGINAL-URL:https://parkmesaheights.org
X-WR-CALDESC:Events for Park Mesa Heights Community Council
REFRESH-INTERVAL;VALUE=DURATION:PT1H
X-Robots-Tag:noindex
X-PUBLISHED-TTL:PT1H
BEGIN:VTIMEZONE
TZID:America/Los_Angeles
BEGIN:DAYLIGHT
TZOFFSETFROM:-0800
TZOFFSETTO:-0700
TZNAME:PDT
DTSTART:20220313T100000
END:DAYLIGHT
BEGIN:STANDARD
TZOFFSETFROM:-0700
TZOFFSETTO:-0800
TZNAME:PST
DTSTART:20221106T090000
END:STANDARD
BEGIN:DAYLIGHT
TZOFFSETFROM:-0800
TZOFFSETTO:-0700
TZNAME:PDT
DTSTART:20230312T100000
END:DAYLIGHT
BEGIN:STANDARD
TZOFFSETFROM:-0700
TZOFFSETTO:-0800
TZNAME:PST
DTSTART:20231105T090000
END:STANDARD
BEGIN:DAYLIGHT
TZOFFSETFROM:-0800
TZOFFSETTO:-0700
TZNAME:PDT
DTSTART:20240310T100000
END:DAYLIGHT
BEGIN:STANDARD
TZOFFSETFROM:-0700
TZOFFSETTO:-0800
TZNAME:PST
DTSTART:20241103T090000
END:STANDARD
END:VTIMEZONE
BEGIN:VEVENT
DTSTART;TZID=America/Los_Angeles:20230325T100000
DTEND;TZID=America/Los_Angeles:20230325T130000
DTSTAMP:20260423T103132
CREATED:20230311T220022Z
LAST-MODIFIED:20230311T220022Z
UID:9592-1679738400-1679749200@parkmesaheights.org
SUMMARY:LAPD 77th Street Catalyic Converter Etching Event
DESCRIPTION:
URL:https://parkmesaheights.org/calendar/lapd-77th-street-catalyic-converter-etching-event/
CATEGORIES:Community
END:VEVENT
BEGIN:VEVENT
DTSTART;TZID=America/Los_Angeles:20230325T100000
DTEND;TZID=America/Los_Angeles:20230325T150000
DTSTAMP:20260423T103132
CREATED:20230314T184202Z
LAST-MODIFIED:20230314T184202Z
UID:9636-1679738400-1679756400@parkmesaheights.org
SUMMARY:Community Empowerment Fair
DESCRIPTION:
URL:https://parkmesaheights.org/calendar/community-empowerment-fair/
CATEGORIES:Community
END:VEVENT
BEGIN:VEVENT
DTSTART;TZID=America/Los_Angeles:20230325T180000
DTEND;TZID=America/Los_Angeles:20230325T233000
DTSTAMP:20260423T103132
CREATED:20230309T003228Z
LAST-MODIFIED:20230309T003228Z
UID:9542-1679767200-1679787000@parkmesaheights.org
SUMMARY:Let My Light Shine
DESCRIPTION:A day for us to come together as one and enjoy what life has to offer. There will be food\, drinks\, raffles\, grab bags\, good music \nSign up on Eventbrite: https://www.eventbrite.com/e/let-my-light-shine-tickets-571207455877
URL:https://parkmesaheights.org/calendar/let-my-light-shine/
CATEGORIES:Community
END:VEVENT
END:VCALENDAR