BEGIN:VCALENDAR
VERSION:2.0
PRODID:-//Park Mesa Heights Community Council - ECPv6.15.16//NONSGML v1.0//EN
CALSCALE:GREGORIAN
METHOD:PUBLISH
X-WR-CALNAME:Park Mesa Heights Community Council
X-ORIGINAL-URL:https://parkmesaheights.org
X-WR-CALDESC:Events for Park Mesa Heights Community Council
REFRESH-INTERVAL;VALUE=DURATION:PT1H
X-Robots-Tag:noindex
X-PUBLISHED-TTL:PT1H
BEGIN:VTIMEZONE
TZID:America/Los_Angeles
BEGIN:DAYLIGHT
TZOFFSETFROM:-0800
TZOFFSETTO:-0700
TZNAME:PDT
DTSTART:20220313T100000
END:DAYLIGHT
BEGIN:STANDARD
TZOFFSETFROM:-0700
TZOFFSETTO:-0800
TZNAME:PST
DTSTART:20221106T090000
END:STANDARD
BEGIN:DAYLIGHT
TZOFFSETFROM:-0800
TZOFFSETTO:-0700
TZNAME:PDT
DTSTART:20230312T100000
END:DAYLIGHT
BEGIN:STANDARD
TZOFFSETFROM:-0700
TZOFFSETTO:-0800
TZNAME:PST
DTSTART:20231105T090000
END:STANDARD
BEGIN:DAYLIGHT
TZOFFSETFROM:-0800
TZOFFSETTO:-0700
TZNAME:PDT
DTSTART:20240310T100000
END:DAYLIGHT
BEGIN:STANDARD
TZOFFSETFROM:-0700
TZOFFSETTO:-0800
TZNAME:PST
DTSTART:20241103T090000
END:STANDARD
END:VTIMEZONE
BEGIN:VEVENT
DTSTART;TZID=America/Los_Angeles:20230410T180000
DTEND;TZID=America/Los_Angeles:20230410T193000
DTSTAMP:20260423T090021
CREATED:20230408T005447Z
LAST-MODIFIED:20230408T005447Z
UID:10002-1681149600-1681155000@parkmesaheights.org
SUMMARY:2nd District Virtual Town Hall on LA County Budget
DESCRIPTION:The Office of Supervisor Holly J. Mitchell invites residents of the 2nd District to share their feedback and engage in the 2023-2024 County budget process. \nPlease note translation will be available in Spanish and Korean. \nTo learn more about the County budget process\, please visit:\nhttps://ceo.lacounty.gov/budget/ \nWHAT: 2nd District Virtual Town Hall on LA County Budget \nWHO: Office of Supervisor Holly J. Mitchell \nWHEN: 6:00 PM on Monday\, April 10\, 2023 \nWHERE: Register to join via Zoom here bit.ly/SD2-APRIL-10 \nTo join by phone: \nDial-In: +1 669-444-9171\nMeeting ID: 882 9044 8239
URL:https://parkmesaheights.org/calendar/2nd-district-virtual-town-hall-on-la-county-budget-2/
CATEGORIES:Community
END:VEVENT
BEGIN:VEVENT
DTSTART;TZID=America/Los_Angeles:20230420T160000
DTEND;TZID=America/Los_Angeles:20230420T180000
DTSTAMP:20260423T090021
CREATED:20230418T155802Z
LAST-MODIFIED:20230418T155802Z
UID:10139-1682006400-1682013600@parkmesaheights.org
SUMMARY:Reform LA Listening Session: Size of Council Districts
DESCRIPTION:Register your thoughts on redistricting reform: https://cityclerk.lacity.org/publiccomment/ Council File #22-1196-S1 \nThe Ad Hoc Committee on Governance Reform has begun its listening sessions on potential reforms to our city’s redistricting process. This is a historic effort which is being led by the Council President and the more public participation the better\, as reforms recommended by the committee will need to go to the full City Council and the voters for adoption\, as many reforms would require changes to the City Charter. Our Councilmember\, Marqueece Harris-Dawson sits on the Ad Hoc Committee on Governance Reform and would particularly encourage our attendance at this session at the Expo Center. \nListening sessions will take place over the next few weeks and into the summer. The committee will make its recommendations to the full City Council in late summer and\, if approved\, will head to voters for their consideration in either March or November of 2024.
URL:https://parkmesaheights.org/calendar/reform-la-listening-session-size-of-council-districts/
LOCATION:Expo Center\, 3980 Bill Robertson Drive\, Los Angeles\, 90037
CATEGORIES:Community
GEO:34.012257;-118.2894786
X-APPLE-STRUCTURED-LOCATION;VALUE=URI;X-ADDRESS=Expo Center 3980 Bill Robertson Drive Los Angeles 90037;X-APPLE-RADIUS=500;X-TITLE=3980 Bill Robertson Drive:geo:-118.2894786,34.012257
END:VEVENT
BEGIN:VEVENT
DTSTART;TZID=America/Los_Angeles:20230429T110000
DTEND;TZID=America/Los_Angeles:20230429T150000
DTSTAMP:20260423T090021
CREATED:20230418T161518Z
LAST-MODIFIED:20230418T161518Z
UID:10154-1682766000-1682780400@parkmesaheights.org
SUMMARY:Pull Up At The Wall
DESCRIPTION:Destination Crenshaw will host an event to celebrate our iconic landmark\, the Crenshaw Wall. \nPull Up @ The Wall on Saturday\, April 29th\, to meet artists from the RTN Crew that created the iconic landmark and learn how Destination Crenshaw will work with them to create the next phase! \nThe event will also feature a 5k community run with Keep It Run Hundred and we’ll have food vendors from the Crenshaw Farmers Market\, Black Women Vend\, kids activities and more! \nRSVP for April 29th right now to get more event details in the coming weeks.
URL:https://parkmesaheights.org/calendar/pull-up-at-the-wall/
CATEGORIES:Community
END:VEVENT
END:VCALENDAR