BEGIN:VCALENDAR
VERSION:2.0
PRODID:-//Park Mesa Heights Community Council - ECPv6.15.16//NONSGML v1.0//EN
CALSCALE:GREGORIAN
METHOD:PUBLISH
X-ORIGINAL-URL:https://parkmesaheights.org
X-WR-CALDESC:Events for Park Mesa Heights Community Council
REFRESH-INTERVAL;VALUE=DURATION:PT1H
X-Robots-Tag:noindex
X-PUBLISHED-TTL:PT1H
BEGIN:VTIMEZONE
TZID:America/Los_Angeles
BEGIN:DAYLIGHT
TZOFFSETFROM:-0800
TZOFFSETTO:-0700
TZNAME:PDT
DTSTART:20220313T100000
END:DAYLIGHT
BEGIN:STANDARD
TZOFFSETFROM:-0700
TZOFFSETTO:-0800
TZNAME:PST
DTSTART:20221106T090000
END:STANDARD
BEGIN:DAYLIGHT
TZOFFSETFROM:-0800
TZOFFSETTO:-0700
TZNAME:PDT
DTSTART:20230312T100000
END:DAYLIGHT
BEGIN:STANDARD
TZOFFSETFROM:-0700
TZOFFSETTO:-0800
TZNAME:PST
DTSTART:20231105T090000
END:STANDARD
BEGIN:DAYLIGHT
TZOFFSETFROM:-0800
TZOFFSETTO:-0700
TZNAME:PDT
DTSTART:20240310T100000
END:DAYLIGHT
BEGIN:STANDARD
TZOFFSETFROM:-0700
TZOFFSETTO:-0800
TZNAME:PST
DTSTART:20241103T090000
END:STANDARD
END:VTIMEZONE
BEGIN:VEVENT
DTSTART;TZID=America/Los_Angeles:20230511T180000
DTEND;TZID=America/Los_Angeles:20230511T200000
DTSTAMP:20260423T072246
CREATED:20230510T175936Z
LAST-MODIFIED:20230510T175936Z
UID:10194-1683828000-1683835200@parkmesaheights.org
SUMMARY:Keep Our People Housed Speaker Series
DESCRIPTION:
URL:https://parkmesaheights.org/calendar/keep-our-people-housed-speaker-series/
LOCATION:Community Coalition\, 8101 Vermont Ave\, Los Angeles\, 90044
CATEGORIES:Community
GEO:33.9652207;-118.2920959
X-APPLE-STRUCTURED-LOCATION;VALUE=URI;X-ADDRESS=Community Coalition 8101 Vermont Ave Los Angeles 90044;X-APPLE-RADIUS=500;X-TITLE=8101 Vermont Ave:geo:-118.2920959,33.9652207
END:VEVENT
BEGIN:VEVENT
DTSTART;TZID=America/Los_Angeles:20230513T090000
DTEND;TZID=America/Los_Angeles:20230513T140000
DTSTAMP:20260423T072246
CREATED:20230510T180050Z
LAST-MODIFIED:20230510T180138Z
UID:10197-1683968400-1683986400@parkmesaheights.org
SUMMARY:LAFD Fire Service Day
DESCRIPTION:Health education\, exercise and fun for the whole family! Serving the Crenshaw\, Leimert\, West Adams and Baldwin Hills communities.
URL:https://parkmesaheights.org/calendar/lafd-fire-service-day/
CATEGORIES:Community
END:VEVENT
BEGIN:VEVENT
DTSTART;TZID=America/Los_Angeles:20230513T100000
DTEND;TZID=America/Los_Angeles:20230513T140000
DTSTAMP:20260423T072246
CREATED:20230501T214628Z
LAST-MODIFIED:20230501T214628Z
UID:10181-1683972000-1683986400@parkmesaheights.org
SUMMARY:The Collective: Body & Soul
DESCRIPTION:
URL:https://parkmesaheights.org/calendar/the-collective-body-soul-2/
LOCATION:Baldwin Hills Crenshaw Plaza\, 3650 W. Martin Luther King Jr. Blvd\, Los Angeles\, 90008
CATEGORIES:Community
GEO:34.0110086;-118.3364738
X-APPLE-STRUCTURED-LOCATION;VALUE=URI;X-ADDRESS=Baldwin Hills Crenshaw Plaza 3650 W. Martin Luther King Jr. Blvd Los Angeles 90008;X-APPLE-RADIUS=500;X-TITLE=3650 W. Martin Luther King Jr. Blvd:geo:-118.3364738,34.0110086
END:VEVENT
BEGIN:VEVENT
DTSTART;TZID=America/Los_Angeles:20230520T093000
DTEND;TZID=America/Los_Angeles:20230520T153000
DTSTAMP:20260423T072246
CREATED:20230510T180315Z
LAST-MODIFIED:20230510T180315Z
UID:10200-1684575000-1684596600@parkmesaheights.org
SUMMARY:Girls Fire Camp
DESCRIPTION:Calling all youth! Registration is now open for the #LACoFD and Women’s Fire League 2023 Girls’ Fire Camp. \nOpen to anyone between the ages 10 to 18\, this year’s Girls’ Fire Camp is taking place on Saturday\, May 20\, 2023\, from 9:30 a.m. to 3:30 p.m. This one-day camp allows participants to interact with #LACoFD firefighters\, dispatchers\, lifeguards\, and other professional staff; learn the basics of firefighting; and gain valuable hands-on experience. \nSpace is limited; so\, sign up today and don’t miss out on this amazing opportunity!
URL:https://parkmesaheights.org/calendar/girls-fire-camp/
CATEGORIES:Community
END:VEVENT
BEGIN:VEVENT
DTSTART;TZID=America/Los_Angeles:20230520T180000
DTEND;TZID=America/Los_Angeles:20230520T220000
DTSTAMP:20260423T072246
CREATED:20230510T175400Z
LAST-MODIFIED:20230510T175400Z
UID:10191-1684605600-1684620000@parkmesaheights.org
SUMMARY:Community Prom
DESCRIPTION:
URL:https://parkmesaheights.org/calendar/community-prom/
CATEGORIES:Community
END:VEVENT
BEGIN:VEVENT
DTSTART;TZID=America/Los_Angeles:20230521T110000
DTEND;TZID=America/Los_Angeles:20230521T160000
DTSTAMP:20260423T072246
CREATED:20230516T151824Z
LAST-MODIFIED:20230516T152534Z
UID:10209-1684666800-1684684800@parkmesaheights.org
SUMMARY:I Love Myself Festival
DESCRIPTION:Save the date for @projectpit’s I Love Myself festival on May 21st at @baldwinhillscrenshaw mall! The event is filled with performances\, conversations\, and activities centered around mental health.
URL:https://parkmesaheights.org/calendar/10209/
LOCATION:Baldwin Hills Crenshaw Plaza\, 3650 W. Martin Luther King Jr. Blvd\, Los Angeles\, 90008
CATEGORIES:Community
GEO:34.0110086;-118.3364738
X-APPLE-STRUCTURED-LOCATION;VALUE=URI;X-ADDRESS=Baldwin Hills Crenshaw Plaza 3650 W. Martin Luther King Jr. Blvd Los Angeles 90008;X-APPLE-RADIUS=500;X-TITLE=3650 W. Martin Luther King Jr. Blvd:geo:-118.3364738,34.0110086
END:VEVENT
BEGIN:VEVENT
DTSTART;TZID=America/Los_Angeles:20230522T100000
DTEND;TZID=America/Los_Angeles:20230522T120000
DTSTAMP:20260423T072246
CREATED:20230418T160034Z
LAST-MODIFIED:20230418T160034Z
UID:10143-1684749600-1684756800@parkmesaheights.org
SUMMARY:Reform LA Listening Sessions
DESCRIPTION:The Ad Hoc Committee on Governance Reform has begun its listening sessions on potential reforms to our city’s redistricting process. This is a historic effort which is being led by the Council President and the more public participation the better\, as reforms recommended by the committee will need to go to the full City Council and the voters for adoption\, as many reforms would require changes to the City Charter. \nListening sessions will take place over the next few weeks and into the summer. The committee will make its recommendations to the full City Council in late summer and\, if approved\, will head to voters for their consideration in either March or November of 2024.
URL:https://parkmesaheights.org/calendar/reform-la-listening-sessions/
LOCATION:Van Nuys City Hall\, 14410 Sylvan Street\, Van Nuys
CATEGORIES:Community
GEO:34.1844075;-118.4468396
X-APPLE-STRUCTURED-LOCATION;VALUE=URI;X-ADDRESS=Van Nuys City Hall 14410 Sylvan Street Van Nuys;X-APPLE-RADIUS=500;X-TITLE=14410 Sylvan Street:geo:-118.4468396,34.1844075
END:VEVENT
BEGIN:VEVENT
DTSTART;TZID=America/Los_Angeles:20230524T160000
DTEND;TZID=America/Los_Angeles:20230524T180000
DTSTAMP:20260423T072246
CREATED:20230519T003707Z
LAST-MODIFIED:20230522T193941Z
UID:10215-1684944000-1684951200@parkmesaheights.org
SUMMARY:Food Desert Community Conversation
DESCRIPTION:
URL:https://parkmesaheights.org/calendar/food-desert-community-conversation/
LOCATION:Christ Temple Church\, 3125 W. 54th Street\, Los Angeles\, 90043
CATEGORIES:Community
GEO:33.99334;-118.3278849
X-APPLE-STRUCTURED-LOCATION;VALUE=URI;X-ADDRESS=Christ Temple Church 3125 W. 54th Street Los Angeles 90043;X-APPLE-RADIUS=500;X-TITLE=3125 W. 54th Street:geo:-118.3278849,33.99334
END:VEVENT
END:VCALENDAR