BEGIN:VCALENDAR
VERSION:2.0
PRODID:-//Park Mesa Heights Community Council - ECPv6.15.16//NONSGML v1.0//EN
CALSCALE:GREGORIAN
METHOD:PUBLISH
X-ORIGINAL-URL:https://parkmesaheights.org
X-WR-CALDESC:Events for Park Mesa Heights Community Council
REFRESH-INTERVAL;VALUE=DURATION:PT1H
X-Robots-Tag:noindex
X-PUBLISHED-TTL:PT1H
BEGIN:VTIMEZONE
TZID:America/Los_Angeles
BEGIN:DAYLIGHT
TZOFFSETFROM:-0800
TZOFFSETTO:-0700
TZNAME:PDT
DTSTART:20220313T100000
END:DAYLIGHT
BEGIN:STANDARD
TZOFFSETFROM:-0700
TZOFFSETTO:-0800
TZNAME:PST
DTSTART:20221106T090000
END:STANDARD
BEGIN:DAYLIGHT
TZOFFSETFROM:-0800
TZOFFSETTO:-0700
TZNAME:PDT
DTSTART:20230312T100000
END:DAYLIGHT
BEGIN:STANDARD
TZOFFSETFROM:-0700
TZOFFSETTO:-0800
TZNAME:PST
DTSTART:20231105T090000
END:STANDARD
BEGIN:DAYLIGHT
TZOFFSETFROM:-0800
TZOFFSETTO:-0700
TZNAME:PDT
DTSTART:20240310T100000
END:DAYLIGHT
BEGIN:STANDARD
TZOFFSETFROM:-0700
TZOFFSETTO:-0800
TZNAME:PST
DTSTART:20241103T090000
END:STANDARD
END:VTIMEZONE
BEGIN:VEVENT
DTSTART;TZID=America/Los_Angeles:20230601T100000
DTEND;TZID=America/Los_Angeles:20230601T120000
DTSTAMP:20260423T052742
CREATED:20230418T160232Z
LAST-MODIFIED:20230522T194548Z
UID:10146-1685613600-1685620800@parkmesaheights.org
SUMMARY:Reform LA Listening Sessions
DESCRIPTION:The Ad Hoc Committee on Governance Reform has begun its listening sessions on potential reforms to our city’s redistricting process. This is a historic effort which is being led by the Council President and the more public participation the better\, as reforms recommended by the committee will need to go to the full City Council and the voters for adoption\, as many reforms would require changes to the City Charter. \nListening sessions will take place over the next few weeks and into the summer. The committee will make its recommendations to the full City Council in late summer and\, if approved\, will head to voters for their consideration in either March or November of 2024.
URL:https://parkmesaheights.org/calendar/reform-la-listening-sessions-2/
LOCATION:Cheviot Hills Recreation Center\, 2551 Motor Ave\, Los Angeles
CATEGORIES:Community
GEO:34.04525;-118.4078589
X-APPLE-STRUCTURED-LOCATION;VALUE=URI;X-ADDRESS=Cheviot Hills Recreation Center 2551 Motor Ave Los Angeles;X-APPLE-RADIUS=500;X-TITLE=2551 Motor Ave:geo:-118.4078589,34.04525
END:VEVENT
BEGIN:VEVENT
DTSTART;TZID=America/Los_Angeles:20230612T100000
DTEND;TZID=America/Los_Angeles:20230612T120000
DTSTAMP:20260423T052742
CREATED:20230418T160351Z
LAST-MODIFIED:20230418T160351Z
UID:10149-1686564000-1686571200@parkmesaheights.org
SUMMARY:Reform LA Listening Sessions
DESCRIPTION:The Ad Hoc Committee on Governance Reform has begun its listening sessions on potential reforms to our city’s redistricting process. This is a historic effort which is being led by the Council President and the more public participation the better\, as reforms recommended by the committee will need to go to the full City Council and the voters for adoption\, as many reforms would require changes to the City Charter. \nListening sessions will take place over the next few weeks and into the summer. The committee will make its recommendations to the full City Council in late summer and\, if approved\, will head to voters for their consideration in either March or November of 2024.
URL:https://parkmesaheights.org/calendar/reform-la-listening-sessions-3/
LOCATION:City Hall
CATEGORIES:Community
GEO:34.0535267;-118.2429316
END:VEVENT
BEGIN:VEVENT
DTSTART;TZID=America/Los_Angeles:20230615T180000
DTEND;TZID=America/Los_Angeles:20230615T200000
DTSTAMP:20260423T052742
CREATED:20230606T204949Z
LAST-MODIFIED:20230606T204949Z
UID:10252-1686852000-1686859200@parkmesaheights.org
SUMMARY:Board of Public Works Town Hall
DESCRIPTION:Councilmember Marqueece Harris-Dawson and the Dept. of Public Works invite you to attend a Town Hall style meeting on June 15th from 6PM – 8PM at the Mark Ridley-Thomas Constituent Service Center located at 8475 S. Vermont Ave. Representatives from many of the departments that have a huge impact on the quality of life in our South LA community will be in attendance. Those departments include the Office of Beautification and Bureaus of Sanitation\, Engineering\, Street Services\, Street Lighting\, and Contract Administration.
URL:https://parkmesaheights.org/calendar/board-of-public-works-town-hall/
CATEGORIES:Community
END:VEVENT
BEGIN:VEVENT
DTSTART;TZID=America/Los_Angeles:20230617T093000
DTEND;TZID=America/Los_Angeles:20230617T130000
DTSTAMP:20260423T052742
CREATED:20230606T204658Z
LAST-MODIFIED:20230608T180333Z
UID:10249-1686994200-1687006800@parkmesaheights.org
SUMMARY:Budget Day
DESCRIPTION:Budget Day is June 17 from 9:30 a.m. to 1:00 p.m. There will be a keynote address from Mayor Bass. Please register now at tiny.cc/budgetday23.
URL:https://parkmesaheights.org/calendar/budget-day-6/
CATEGORIES:Community
END:VEVENT
BEGIN:VEVENT
DTSTART;TZID=America/Los_Angeles:20230618T090000
DTEND;TZID=America/Los_Angeles:20230618T160000
DTSTAMP:20260423T052742
CREATED:20230408T005611Z
LAST-MODIFIED:20230418T161202Z
UID:10005-1687078800-1687104000@parkmesaheights.org
SUMMARY:CicLAvia—South LA
DESCRIPTION:On Sunday\, June 18\, we’re opening up streets in South Los Angeles so you can jog\, ride\, bike\, skate\, run\, walk\, skateboard\, spectate\, and enjoy the route however you want. Our routes are welcoming to people of all ages and abilities! \nCicLAvia—South LA is presented by Metro. This event will feature the 3rd annual Juneteenth Celebration and Resource Fair brought to you by Los Angeles County Supervisor Holly J. Mitchell. \n \nThe Office of Supervisor Holly J. Mitchell’s Juneteenth Celebration & Resource Fair is returning for a third year and partnering with CicLAvia. \nThis event is FREE! Registration is required for on-site services\, such as record expungement\, tenant protection\, immigrant rights and mental health counseling.
URL:https://parkmesaheights.org/calendar/ciclavia-south-la-3/
CATEGORIES:Community
END:VEVENT
BEGIN:VEVENT
DTSTART;TZID=America/Los_Angeles:20230618T090000
DTEND;TZID=America/Los_Angeles:20230618T160000
DTSTAMP:20260423T052742
CREATED:20230608T180804Z
LAST-MODIFIED:20230608T180804Z
UID:10268-1687078800-1687104000@parkmesaheights.org
SUMMARY:Grand Opening
DESCRIPTION:Save the Date — Sunday\, June 18th for CicLAvia and the Grand Opening of our Constituent Service Center at 8475 S. Vermont. \nBring the whole family and your bikes to celebrate Father’s Day with free tacos\, a bike repair station\, photos\, and a kid zone!
URL:https://parkmesaheights.org/calendar/grand-opening/
LOCATION:Mark Ridley-Thomas Constituent Service Center\, 8475 S. Vermont Ave\, 90044
CATEGORIES:Community
GEO:33.9611384;-118.2920244
X-APPLE-STRUCTURED-LOCATION;VALUE=URI;X-ADDRESS=Mark Ridley-Thomas Constituent Service Center 8475 S. Vermont Ave 90044;X-APPLE-RADIUS=500;X-TITLE=8475 S. Vermont Ave:geo:-118.2920244,33.9611384
END:VEVENT
BEGIN:VEVENT
DTSTART;TZID=America/Los_Angeles:20230629T090000
DTEND;TZID=America/Los_Angeles:20230629T150000
DTSTAMP:20260423T052742
CREATED:20230617T064133Z
LAST-MODIFIED:20230617T064133Z
UID:10280-1688029200-1688050800@parkmesaheights.org
SUMMARY:City of Los Angeles Career Fair
DESCRIPTION:Learn about the various careers in Public Works and other City departments as well as how to apply and gain insightful information on City employment opportunities. We have both full-time and part-time positions available. Come speak with our staff to learn more about the positions you’re interested in\, receive on-site assistance with an online application (we’ll have computers available for you to use)\, and even take an employment exam. \nRSVP: https://cityoflacareerfair.eventbrite.com/ \nThe following full-time City positions are available. Apply online or on-site at the Career Fair. We’ll have staff available to answer questions about the positions. \nPublic Work Depts:\nCivil Engineering Associate\nEnvironmental Compliance Inspector\nGardener Caretaker\nInstrument Mechanic\nProgrammer Analyst\nRoofer\nTree Surgeon Assistant\nSystems Analyst\nProject Assistant \nLAPD:\n911 Dispatcher\nPolice Officer\nDetention Officer \nLAFD:\nFirefighter \nMedical:\nAdvance Practice Provider\nCorrectional Nurse\nLicensed Vocational Nurse \nLADOT (Transportation):\nCrossing Guards\nCommunity Admin Workers\nTransportation Engineering Aides \nRec and Parks:\nSpecial Program Assistant II\nInstructors\nLifeguards\nPark Rangers \nTarget Local Hire (TLH):\nOffice Trainee\nVocational Workers\nGardener Caretaker\nWarehouse & Toolroom Worker\nCustodian\nMaintenance Labor \nBridge to Jobs (BTJ):\nAccounting Clerk Trainee\nCommunications Information\nRepresentative Trainee \nFREE CAREER WORKSHOPS: \n9:30 AM\nCIVIL SERVICE AND THE CITY’S HIRING PROCESS\nOur team will explain what civil service means\, what exams are like\, and the City’s hiring process. \n10:30 AM\nTIPS FOR APPLICATIONS\, RESUMES\, AND COVER LETTERS\nWe’ll teach you the right words to use and some simple tricks for showcasing your skills and experience in the best possible way on paper. \n11:30 AM\nINTERVIEWING 101\nPreparing for an interview is easier than you think. Learn about best practices and simple guidelines for making a professional first impression. \n12:30 PM\nFINDING A JOB WITH THE CITY OF LOS ANGELES\nWe’ll explain common city terms\, the salary ranges\, and the application process. \n1:30 PM\nDRESS FOR SUCCESS\nA suit isn’t always required for interviews. Sometimes business casual is acceptable for an interview. We’ll provide some helpful guidelines.
URL:https://parkmesaheights.org/calendar/city-of-los-angeles-career-fair/
CATEGORIES:Community
END:VEVENT
BEGIN:VEVENT
DTSTART;TZID=America/Los_Angeles:20230630T173000
DTEND;TZID=America/Los_Angeles:20230630T210000
DTSTAMP:20260423T052742
CREATED:20230629T212516Z
LAST-MODIFIED:20230629T212516Z
UID:10315-1688146200-1688158800@parkmesaheights.org
SUMMARY:Pool Party
DESCRIPTION:The June gloom is not here to stay\, and we plan on starting the summer with a big splash – Join us next Friday\, June 30th\, at 5:30 pm for our South LA Strong Pool Party at Van Ness Pool. Bring your whole family out to kick off the summer with free hot dogs from Earle’s On Crenshaw\, pool activities\, and a movie as we watch the sunsets.\nFor more information and to register\, click the link below.\nhttps://ow.ly/YTP050OXn1Y
URL:https://parkmesaheights.org/calendar/pool-party/
LOCATION:Van Ness Recreation Center\, 5720 2nd Avenue\, Los Angeles
CATEGORIES:Community
GEO:33.9904279;-118.3190264
X-APPLE-STRUCTURED-LOCATION;VALUE=URI;X-ADDRESS=Van Ness Recreation Center 5720 2nd Avenue Los Angeles;X-APPLE-RADIUS=500;X-TITLE=5720 2nd Avenue:geo:-118.3190264,33.9904279
END:VEVENT
END:VCALENDAR