BEGIN:VCALENDAR
VERSION:2.0
PRODID:-//Park Mesa Heights Community Council - ECPv6.15.16//NONSGML v1.0//EN
CALSCALE:GREGORIAN
METHOD:PUBLISH
X-WR-CALNAME:Park Mesa Heights Community Council
X-ORIGINAL-URL:https://parkmesaheights.org
X-WR-CALDESC:Events for Park Mesa Heights Community Council
REFRESH-INTERVAL;VALUE=DURATION:PT1H
X-Robots-Tag:noindex
X-PUBLISHED-TTL:PT1H
BEGIN:VTIMEZONE
TZID:America/Los_Angeles
BEGIN:DAYLIGHT
TZOFFSETFROM:-0800
TZOFFSETTO:-0700
TZNAME:PDT
DTSTART:20220313T100000
END:DAYLIGHT
BEGIN:STANDARD
TZOFFSETFROM:-0700
TZOFFSETTO:-0800
TZNAME:PST
DTSTART:20221106T090000
END:STANDARD
BEGIN:DAYLIGHT
TZOFFSETFROM:-0800
TZOFFSETTO:-0700
TZNAME:PDT
DTSTART:20230312T100000
END:DAYLIGHT
BEGIN:STANDARD
TZOFFSETFROM:-0700
TZOFFSETTO:-0800
TZNAME:PST
DTSTART:20231105T090000
END:STANDARD
BEGIN:DAYLIGHT
TZOFFSETFROM:-0800
TZOFFSETTO:-0700
TZNAME:PDT
DTSTART:20240310T100000
END:DAYLIGHT
BEGIN:STANDARD
TZOFFSETFROM:-0700
TZOFFSETTO:-0800
TZNAME:PST
DTSTART:20241103T090000
END:STANDARD
END:VTIMEZONE
BEGIN:VEVENT
DTSTART;TZID=America/Los_Angeles:20230801T170000
DTEND;TZID=America/Los_Angeles:20230801T200000
DTSTAMP:20260423T015401
CREATED:20230728T215412Z
LAST-MODIFIED:20230728T215412Z
UID:10417-1690909200-1690920000@parkmesaheights.org
SUMMARY:National Night Out
DESCRIPTION:Enjoy National Night Out August 1\, 5-8pm in the Home Depot Parking Lot\, 1800 W. Slauson Ave! There will be free food\, snacks\, beverages\, and activities for everyone. Meet your LAPD Senior Lead Officer!
URL:https://parkmesaheights.org/calendar/national-night-out-3/
LOCATION:Home Depot Slauson\, 1830 Slauson Ave\, Los Angeles\, 90047
CATEGORIES:Community
GEO:33.987511;-118.3113088
X-APPLE-STRUCTURED-LOCATION;VALUE=URI;X-ADDRESS=Home Depot Slauson 1830 Slauson Ave Los Angeles 90047;X-APPLE-RADIUS=500;X-TITLE=1830 Slauson Ave:geo:-118.3113088,33.987511
END:VEVENT
BEGIN:VEVENT
DTSTART;TZID=America/Los_Angeles:20230804T183000
DTEND;TZID=America/Los_Angeles:20230804T213000
DTSTAMP:20260423T015401
CREATED:20230804T180331Z
LAST-MODIFIED:20230804T180331Z
UID:10428-1691173800-1691184600@parkmesaheights.org
SUMMARY:Movies in the Park
DESCRIPTION:
URL:https://parkmesaheights.org/calendar/movies-in-the-park/
LOCATION:Van Ness Recreation Center\, 5720 2nd Avenue\, Los Angeles
CATEGORIES:Community
GEO:33.9904279;-118.3190264
X-APPLE-STRUCTURED-LOCATION;VALUE=URI;X-ADDRESS=Van Ness Recreation Center 5720 2nd Avenue Los Angeles;X-APPLE-RADIUS=500;X-TITLE=5720 2nd Avenue:geo:-118.3190264,33.9904279
END:VEVENT
BEGIN:VEVENT
DTSTART;TZID=America/Los_Angeles:20230805T110000
DTEND;TZID=America/Los_Angeles:20230805T180000
DTSTAMP:20260423T015401
CREATED:20230719T170240Z
LAST-MODIFIED:20230719T170240Z
UID:10398-1691233200-1691258400@parkmesaheights.org
SUMMARY:Back to School Festival
DESCRIPTION:5000 FREE BACKPACKS | SPECIAL MUSICAL GUEST CARNIVAL FUN ZONE FREE HEALTH SERVICES | JOB FAIR | FREE HOT MEALS | BASKETBALL TOURNAMENT | WELLNESS| ART EXHIBITS | SCHOOL SIGN UPS AND MORE!
URL:https://parkmesaheights.org/calendar/back-to-school-festival/
LOCATION:Crenshaw High School\, 5010 11th Ave\, Los Angeles\, 90043
CATEGORIES:Community
GEO:33.997372;-118.3285655
X-APPLE-STRUCTURED-LOCATION;VALUE=URI;X-ADDRESS=Crenshaw High School 5010 11th Ave Los Angeles 90043;X-APPLE-RADIUS=500;X-TITLE=5010 11th Ave:geo:-118.3285655,33.997372
END:VEVENT
BEGIN:VEVENT
DTSTART;TZID=America/Los_Angeles:20230826T110000
DTEND;TZID=America/Los_Angeles:20230826T140000
DTSTAMP:20260423T015401
CREATED:20230809T230132Z
LAST-MODIFIED:20230825T162824Z
UID:10437-1693047600-1693058400@parkmesaheights.org
SUMMARY:Housing at Home
DESCRIPTION:More information: james.ingram@lacity.org
URL:https://parkmesaheights.org/calendar/housing-at-home/
CATEGORIES:Community
END:VEVENT
BEGIN:VEVENT
DTSTART;TZID=America/Los_Angeles:20230826T113000
DTEND;TZID=America/Los_Angeles:20230826T210000
DTSTAMP:20260423T015401
CREATED:20230719T162659Z
LAST-MODIFIED:20230719T162659Z
UID:10392-1693049400-1693083600@parkmesaheights.org
SUMMARY:Leimert Park Jazz Festival
DESCRIPTION:4th Annual Leimert Park Jazz Festival\nSaturday\, August 26\, 2023\nDoors Open 11:30 AM\nConcert 12:30 – 9:00 PM\nBALDWIN HILLS CRENSHAW – Outdoor Upper Parking Deck\n3650 Martin Luther King Blvd.\, Jr.\, Los Angeles\, CA 90008
URL:https://parkmesaheights.org/calendar/leimert-park-jazz-festival/
CATEGORIES:Community
END:VEVENT
END:VCALENDAR