BEGIN:VCALENDAR
VERSION:2.0
PRODID:-//Park Mesa Heights Community Council - ECPv6.15.16//NONSGML v1.0//EN
CALSCALE:GREGORIAN
METHOD:PUBLISH
X-WR-CALNAME:Park Mesa Heights Community Council
X-ORIGINAL-URL:https://parkmesaheights.org
X-WR-CALDESC:Events for Park Mesa Heights Community Council
REFRESH-INTERVAL;VALUE=DURATION:PT1H
X-Robots-Tag:noindex
X-PUBLISHED-TTL:PT1H
BEGIN:VTIMEZONE
TZID:America/Los_Angeles
BEGIN:DAYLIGHT
TZOFFSETFROM:-0800
TZOFFSETTO:-0700
TZNAME:PDT
DTSTART:20220313T100000
END:DAYLIGHT
BEGIN:STANDARD
TZOFFSETFROM:-0700
TZOFFSETTO:-0800
TZNAME:PST
DTSTART:20221106T090000
END:STANDARD
BEGIN:DAYLIGHT
TZOFFSETFROM:-0800
TZOFFSETTO:-0700
TZNAME:PDT
DTSTART:20230312T100000
END:DAYLIGHT
BEGIN:STANDARD
TZOFFSETFROM:-0700
TZOFFSETTO:-0800
TZNAME:PST
DTSTART:20231105T090000
END:STANDARD
BEGIN:DAYLIGHT
TZOFFSETFROM:-0800
TZOFFSETTO:-0700
TZNAME:PDT
DTSTART:20240310T100000
END:DAYLIGHT
BEGIN:STANDARD
TZOFFSETFROM:-0700
TZOFFSETTO:-0800
TZNAME:PST
DTSTART:20241103T090000
END:STANDARD
END:VTIMEZONE
BEGIN:VEVENT
DTSTART;TZID=America/Los_Angeles:20231209T120000
DTEND;TZID=America/Los_Angeles:20231209T160000
DTSTAMP:20260422T191320
CREATED:20231115T191907Z
LAST-MODIFIED:20231115T191907Z
UID:10695-1702123200-1702137600@parkmesaheights.org
SUMMARY:Winter Wonderland
DESCRIPTION:
URL:https://parkmesaheights.org/calendar/winter-wonderland-4/
LOCATION:Baldwin Hills Crenshaw Plaza\, 3650 W. Martin Luther King Jr. Blvd\, Los Angeles\, 90008
CATEGORIES:Community
GEO:34.0110086;-118.3364738
X-APPLE-STRUCTURED-LOCATION;VALUE=URI;X-ADDRESS=Baldwin Hills Crenshaw Plaza 3650 W. Martin Luther King Jr. Blvd Los Angeles 90008;X-APPLE-RADIUS=500;X-TITLE=3650 W. Martin Luther King Jr. Blvd:geo:-118.3364738,34.0110086
END:VEVENT
BEGIN:VEVENT
DTSTART;TZID=America/Los_Angeles:20231209T180000
DTEND;TZID=America/Los_Angeles:20231209T210000
DTSTAMP:20260422T191320
CREATED:20231205T011100Z
LAST-MODIFIED:20231205T011100Z
UID:10764-1702144800-1702155600@parkmesaheights.org
SUMMARY:Opening Reception: African American Diaspora Quilt Art
DESCRIPTION:
URL:https://parkmesaheights.org/calendar/opening-reception-african-american-diaspora-quilt-art/
LOCATION:Range Projects Gallery\, 3718 W. Slauson\, 90043
CATEGORIES:Community
GEO:33.9887144;-118.3385297
X-APPLE-STRUCTURED-LOCATION;VALUE=URI;X-ADDRESS=Range Projects Gallery 3718 W. Slauson 90043;X-APPLE-RADIUS=500;X-TITLE=3718 W. Slauson:geo:-118.3385297,33.9887144
END:VEVENT
BEGIN:VEVENT
DTSTART;TZID=America/Los_Angeles:20231215T180000
DTEND;TZID=America/Los_Angeles:20231215T200000
DTSTAMP:20260422T191320
CREATED:20231130T183843Z
LAST-MODIFIED:20231130T183843Z
UID:10729-1702663200-1702670400@parkmesaheights.org
SUMMARY:Leimert Park Snow Night
DESCRIPTION:Councilwoman Heather Hutt is bringing the snow to Los Angeles this Holiday season! Join Council District 10 for a Winter Wonderland Experience that will include food\, games\, and more! Entry is free\, and this community event is for the entire community to enjoy.
URL:https://parkmesaheights.org/calendar/leimert-park-snow-night/
LOCATION:Leimert Park\, Corner of Degnan and 43rd
CATEGORIES:Community
GEO:34.00592;-118.3312
X-APPLE-STRUCTURED-LOCATION;VALUE=URI;X-ADDRESS=Leimert Park Corner of Degnan and 43rd;X-APPLE-RADIUS=500;X-TITLE=Corner of Degnan and 43rd:geo:-118.3312,34.00592
END:VEVENT
BEGIN:VEVENT
DTSTART;TZID=America/Los_Angeles:20231216T120000
DTEND;TZID=America/Los_Angeles:20231216T170000
DTSTAMP:20260422T191320
CREATED:20231124T182421Z
LAST-MODIFIED:20231124T182506Z
UID:10712-1702728000-1702746000@parkmesaheights.org
SUMMARY:Christmas on 71st
DESCRIPTION:Come out and join us for a day of holiday food\, music food toys and special guests
URL:https://parkmesaheights.org/calendar/christmas-on-71st/
LOCATION:Project 43\, 6841 Crenshaw Blvd\, Los Angeles\, 90043
CATEGORIES:Community
GEO:33.9758435;-118.3311956
X-APPLE-STRUCTURED-LOCATION;VALUE=URI;X-ADDRESS=Project 43 6841 Crenshaw Blvd Los Angeles 90043;X-APPLE-RADIUS=500;X-TITLE=6841 Crenshaw Blvd:geo:-118.3311956,33.9758435
END:VEVENT
BEGIN:VEVENT
DTSTART;TZID=America/Los_Angeles:20231222T130000
DTEND;TZID=America/Los_Angeles:20231222T180000
DTSTAMP:20260422T191320
CREATED:20231215T200409Z
LAST-MODIFIED:20231215T200409Z
UID:10786-1703250000-1703268000@parkmesaheights.org
SUMMARY:Snow Day & Toy Giveaway
DESCRIPTION:
URL:https://parkmesaheights.org/calendar/snow-day-toy-giveaway/
LOCATION:Crenshaw High School\, 5010 11th Ave\, Los Angeles\, 90043
CATEGORIES:Community
GEO:33.997372;-118.3285655
X-APPLE-STRUCTURED-LOCATION;VALUE=URI;X-ADDRESS=Crenshaw High School 5010 11th Ave Los Angeles 90043;X-APPLE-RADIUS=500;X-TITLE=5010 11th Ave:geo:-118.3285655,33.997372
END:VEVENT
END:VCALENDAR