BEGIN:VCALENDAR
VERSION:2.0
PRODID:-//Park Mesa Heights Community Council - ECPv6.15.16//NONSGML v1.0//EN
CALSCALE:GREGORIAN
METHOD:PUBLISH
X-WR-CALNAME:Park Mesa Heights Community Council
X-ORIGINAL-URL:https://parkmesaheights.org
X-WR-CALDESC:Events for Park Mesa Heights Community Council
REFRESH-INTERVAL;VALUE=DURATION:PT1H
X-Robots-Tag:noindex
X-PUBLISHED-TTL:PT1H
BEGIN:VTIMEZONE
TZID:America/Los_Angeles
BEGIN:DAYLIGHT
TZOFFSETFROM:-0800
TZOFFSETTO:-0700
TZNAME:PDT
DTSTART:20230312T100000
END:DAYLIGHT
BEGIN:STANDARD
TZOFFSETFROM:-0700
TZOFFSETTO:-0800
TZNAME:PST
DTSTART:20231105T090000
END:STANDARD
BEGIN:DAYLIGHT
TZOFFSETFROM:-0800
TZOFFSETTO:-0700
TZNAME:PDT
DTSTART:20240310T100000
END:DAYLIGHT
BEGIN:STANDARD
TZOFFSETFROM:-0700
TZOFFSETTO:-0800
TZNAME:PST
DTSTART:20241103T090000
END:STANDARD
BEGIN:DAYLIGHT
TZOFFSETFROM:-0800
TZOFFSETTO:-0700
TZNAME:PDT
DTSTART:20250309T100000
END:DAYLIGHT
BEGIN:STANDARD
TZOFFSETFROM:-0700
TZOFFSETTO:-0800
TZNAME:PST
DTSTART:20251102T090000
END:STANDARD
END:VTIMEZONE
BEGIN:VEVENT
DTSTART;VALUE=DATE:20240405
DTEND;VALUE=DATE:20240408
DTSTAMP:20260422T125353
CREATED:20240328T202501Z
LAST-MODIFIED:20240328T202501Z
UID:11023-1712275200-1712534399@parkmesaheights.org
SUMMARY:77th Street Community Police Station Carnival
DESCRIPTION:Pre-Sale tickets at a discounted price for the 77th Street Carnival now available at 77th Street Station. 🎡\nMonday-Friday 11am – 7pm
URL:https://parkmesaheights.org/calendar/77th-street-community-police-station-carnival/
CATEGORIES:Community
END:VEVENT
BEGIN:VEVENT
DTSTART;TZID=America/Los_Angeles:20240406T090000
DTEND;TZID=America/Los_Angeles:20240406T110000
DTSTAMP:20260422T125353
CREATED:20240405T063146Z
LAST-MODIFIED:20240405T063146Z
UID:11036-1712394000-1712401200@parkmesaheights.org
SUMMARY:Community Clean Up
DESCRIPTION:
URL:https://parkmesaheights.org/calendar/community-clean-up-2/
CATEGORIES:Community
END:VEVENT
BEGIN:VEVENT
DTSTART;TZID=America/Los_Angeles:20240417T170000
DTEND;TZID=America/Los_Angeles:20240417T183000
DTSTAMP:20260422T125353
CREATED:20240412T001053Z
LAST-MODIFIED:20240412T001053Z
UID:11062-1713373200-1713378600@parkmesaheights.org
SUMMARY:Budget Town Hall
DESCRIPTION:From County Supervisor Holly Mitchell:\nJoin us for a Virtual 2nd District Town Hall: The LA County Budget and Office Budget Priorities on Zoom (the first of three) to learn more about the County budget process and to share your feedback on Second Supervisorial District community priorities for the upcoming 2024-25 County budget cycle. \nSpanish\, Korean\, and ASL translations will be available. \nTo dial in call 1-669-444-9171\nMeeting ID: 818 1514 5454
URL:https://parkmesaheights.org/calendar/budget-town-hall/
CATEGORIES:Community
END:VEVENT
BEGIN:VEVENT
DTSTART;TZID=America/Los_Angeles:20240421T090000
DTEND;TZID=America/Los_Angeles:20240421T160000
DTSTAMP:20260422T125353
CREATED:20240410T225400Z
LAST-MODIFIED:20240410T225534Z
UID:11048-1713690000-1713715200@parkmesaheights.org
SUMMARY:CicLAvia Venice
DESCRIPTION:Join us for our 51st Los Angeles Open Streets Event: CicLAvia—Venice Blvd. This CicLAvia is presented by Metro. \nDate: Sunday\, April 21\, 2024 \nTime: 9am – 4pm \nLocation: Connecting Palms\, Mar Vista\, and Venice.
URL:https://parkmesaheights.org/calendar/ciclavia-venice/
CATEGORIES:Community
END:VEVENT
BEGIN:VEVENT
DTSTART;TZID=America/Los_Angeles:20240421T120000
DTEND;TZID=America/Los_Angeles:20240421T160000
DTSTAMP:20260422T125353
CREATED:20240410T225502Z
LAST-MODIFIED:20240410T225502Z
UID:11051-1713700800-1713715200@parkmesaheights.org
SUMMARY:A Day of Play for LA
DESCRIPTION:Mark your calendars! 🗓️ Join us for our annual Healthy Kids Day on Sunday\, April 21st\, from 12-4pm at the iconic Los Angeles Memorial Coliseum! 🏟️ It’s going to be a day of PLAY for LA\, bringing our amazing community together for a FREE day of family fun! 🎉 \nDon’t miss out on this fantastic opportunity to bond with your loved ones while engaging in healthy activities and enjoying the beautiful LA sunshine! ☀️ \nClick the link to secure your FREE tickets now! 🎟️ Let’s make memories together and celebrate health and happiness! 💪👨‍👩‍👧‍👦 #HealthyKidsDay #FamilyFun #LosAngelesCommunity #playforla
URL:https://parkmesaheights.org/calendar/a-day-of-play-for-la/
CATEGORIES:Community
END:VEVENT
BEGIN:VEVENT
DTSTART;TZID=America/Los_Angeles:20240425T180000
DTEND;TZID=America/Los_Angeles:20240425T210000
DTSTAMP:20260422T125353
CREATED:20240422T205551Z
LAST-MODIFIED:20240422T205551Z
UID:11096-1714068000-1714078800@parkmesaheights.org
SUMMARY:Respect My Crown Screening
DESCRIPTION:Thursday\, April 25 from 6:00 pm – 9:00 pm \nMount Saint Mary’s Doheny Campus\n10 Chester Pl\, Los Angeles\, 90007 \nJoin the Office of Supervisor Holly J. Mitchell and Mount Saint Mary’s University for a film screening of Respect My Crown\, a documentary film which explores the rise of Black women in California politics and the road they paved to achieve success. \nFor questions\, please contact 2DS-Events@bos.lacounty.gov. \nRegister: https://mitchell.lacounty.gov/respect-my-crown/
URL:https://parkmesaheights.org/calendar/respect-my-crown-screening/
CATEGORIES:Community
END:VEVENT
BEGIN:VEVENT
DTSTART;TZID=America/Los_Angeles:20240427T100000
DTEND;TZID=America/Los_Angeles:20240427T140000
DTSTAMP:20260422T125353
CREATED:20240422T204954Z
LAST-MODIFIED:20240422T204954Z
UID:11090-1714212000-1714226400@parkmesaheights.org
SUMMARY:Take Back Drugs Day
DESCRIPTION:Got Leftover Prescription Drugs? Clean them out; Keep them safe; and Take them back! \nDon’t be surprised by what medications are in your medicine cabinet. If you haven’t used them\, don’t need them\, or they’re expired\, drop them off at a FREE and anonymous collection site near you. The 26th National Prescription Drug Take Back Day is Saturday\, April 27\, 2024 – 10AM to 2PM The National Prescription Drug Take Back Day aims to provide a safe\, convenient\, and responsible means of disposing of leftover PRESCRIPTION DRUGS\, while also educating the general public about the potential for abuse of medications. \nCheck https://www.dea.gov/takebackday for the locations closest to you.
URL:https://parkmesaheights.org/calendar/take-back-drugs-day/
CATEGORIES:Community
END:VEVENT
BEGIN:VEVENT
DTSTART;TZID=America/Los_Angeles:20240427T130000
DTEND;TZID=America/Los_Angeles:20240427T150000
DTSTAMP:20260422T125353
CREATED:20240422T205106Z
LAST-MODIFIED:20240422T205106Z
UID:11093-1714222800-1714230000@parkmesaheights.org
SUMMARY:Budget Town Hall
DESCRIPTION:The Neighborhood Council Budget Advocates are sponsoring a virtual Town Hall on the Mayor’s Proposed Budget for Fiscal Year 2024-2025\, which will be held on Saturday\, April 27\, 2024 at 1:00 p.m. via Zoom. \nThe Mayor is required by the City Charter to release her Proposed Budget for the next fiscal year by April 22 (extended from the 20th this year due to the weekend). The City Council must act on that Budget by the end of May. Before then\, the City Council Budget\, Finance and Innovative Committee will hold hearings with each of the City Departments and labor partners. The Neighborhood Council Budget Advocates are typically invited to make a presentation with our budget recommendations. \nThis April 27th Town Hall is an opportunity for you to get familiar with the Proposed Budget and related online resources so you are equipped to make your voice heard with the Budget\, Finance and Innovation Committee\, the City Council and the Mayor. New Council File 24-0600 has been opened and the proposed Budget and related documents will be posted there once they have been released. There is where your NC can file its budget-related Community Impact Statements and where public comments may be submitted. \nPlease register to receive the Town Hall Zoom link\, to submit any Budget-related questions you may have\, and to make a language interpretation request.
URL:https://parkmesaheights.org/calendar/budget-town-hall-2/
CATEGORIES:Community
END:VEVENT
END:VCALENDAR