BEGIN:VCALENDAR
VERSION:2.0
PRODID:-//Park Mesa Heights Community Council - ECPv6.15.16//NONSGML v1.0//EN
CALSCALE:GREGORIAN
METHOD:PUBLISH
X-WR-CALNAME:Park Mesa Heights Community Council
X-ORIGINAL-URL:https://parkmesaheights.org
X-WR-CALDESC:Events for Park Mesa Heights Community Council
REFRESH-INTERVAL;VALUE=DURATION:PT1H
X-Robots-Tag:noindex
X-PUBLISHED-TTL:PT1H
BEGIN:VTIMEZONE
TZID:America/Los_Angeles
BEGIN:DAYLIGHT
TZOFFSETFROM:-0800
TZOFFSETTO:-0700
TZNAME:PDT
DTSTART:20230312T100000
END:DAYLIGHT
BEGIN:STANDARD
TZOFFSETFROM:-0700
TZOFFSETTO:-0800
TZNAME:PST
DTSTART:20231105T090000
END:STANDARD
BEGIN:DAYLIGHT
TZOFFSETFROM:-0800
TZOFFSETTO:-0700
TZNAME:PDT
DTSTART:20240310T100000
END:DAYLIGHT
BEGIN:STANDARD
TZOFFSETFROM:-0700
TZOFFSETTO:-0800
TZNAME:PST
DTSTART:20241103T090000
END:STANDARD
BEGIN:DAYLIGHT
TZOFFSETFROM:-0800
TZOFFSETTO:-0700
TZNAME:PDT
DTSTART:20250309T100000
END:DAYLIGHT
BEGIN:STANDARD
TZOFFSETFROM:-0700
TZOFFSETTO:-0800
TZNAME:PST
DTSTART:20251102T090000
END:STANDARD
END:VTIMEZONE
BEGIN:VEVENT
DTSTART;TZID=America/Los_Angeles:20240509T180000
DTEND;TZID=America/Los_Angeles:20240509T200000
DTSTAMP:20260422T112008
CREATED:20240415T230439Z
LAST-MODIFIED:20240415T230439Z
UID:11086-1715277600-1715284800@parkmesaheights.org
SUMMARY:How Do You Grow A Rose From Concrete?
DESCRIPTION:Join Zócalo Public Square and Destination Crenshaw on Thursday\, May 9\, at 6:00 pm at Crenshaw High School for “How Do You Grow a Rose from Concrete?” A conversation about the genesis and design of Destination Crenshaw with Marqueece Harris-Dawson\, architect Gabrielle Bullock\, and Destination Crenshaw Senior Art Advisor Dr. Joy Simmons. \nThis program is FREE and open to the public online and in person with an RSVP. \nRSVP at zps.la/dcmay9
URL:https://parkmesaheights.org/calendar/how-do-you-grow-a-rose-from-concrete/
LOCATION:Crenshaw High School\, 5010 11th Ave\, Los Angeles\, 90043
CATEGORIES:Community
GEO:33.997372;-118.3285655
X-APPLE-STRUCTURED-LOCATION;VALUE=URI;X-ADDRESS=Crenshaw High School 5010 11th Ave Los Angeles 90043;X-APPLE-RADIUS=500;X-TITLE=5010 11th Ave:geo:-118.3285655,33.997372
END:VEVENT
BEGIN:VEVENT
DTSTART;TZID=America/Los_Angeles:20240511T100000
DTEND;TZID=America/Los_Angeles:20240511T160000
DTSTAMP:20260422T112008
CREATED:20240507T220304Z
LAST-MODIFIED:20240507T220304Z
UID:11123-1715421600-1715443200@parkmesaheights.org
SUMMARY:Fire Service Day
DESCRIPTION:The men and women of your Los Angeles Fire Department warmly welcome you to visit an LAFD Fire Station on Saturday\, May 11\, 2024\, between 10:00 AM and 4:00 PM. \nThe second Saturday of each May is designated as “Fire Service Day” in the City of Los Angeles – a citywide open firehouse celebration\, when we plan and prepare for your visit to a Neighborhood Fire Station. \nThis year\, our theme is “Celebrating Community Resilience”\, with a focus on strengthening the connections that benefit our entire community in times of crisis. \nWe’re eager to have you spend part of you day with us on Saturday\, May 11\, to learn about our team\, tools and training – but more importantly\, for us to learn of your needs and concerns regarding emergency response and disaster preparedness. \nWhile all LAFD Neighborhood Fire Stations ** will be welcoming your visit between 10 AM and 4 PM on Saturday\, May 11\, 2024\, the following Focal Sites will also offer special LAFD displays and demonstrations\, as well as introduce this year’s four Honorary Fire Chiefs: \n\nCentral Bureau Focal Site: Fire Station 12 (Highland Park) MAP\nSouth Bureau Focal Site: Fire Station 112 (San Pedro Waterfront) MAP\nValley Bureau Focal Site: Fire Station 88 (Sherman Oaks) MAP\nWest Bureau Focal Site: Fire Station 69 (Pacific Palisades) MAP\n\nSome LAFD Stations will be offering special food\, entertainment and more. View their Fire Service Day event flyers:
URL:https://parkmesaheights.org/calendar/fire-service-day-2/
CATEGORIES:Community
END:VEVENT
BEGIN:VEVENT
DTSTART;TZID=America/Los_Angeles:20240518T100000
DTEND;TZID=America/Los_Angeles:20240518T170000
DTSTAMP:20260422T112008
CREATED:20240313T195420Z
LAST-MODIFIED:20240313T195420Z
UID:10999-1716026400-1716051600@parkmesaheights.org
SUMMARY:19th Annual Malcolm X Festival and Sign Unveiling
DESCRIPTION:
URL:https://parkmesaheights.org/calendar/19th-annual-malcolm-x-festival-and-sign-unveiling/
CATEGORIES:Community
END:VEVENT
BEGIN:VEVENT
DTSTART;TZID=America/Los_Angeles:20240519T100000
DTEND;TZID=America/Los_Angeles:20240519T180000
DTSTAMP:20260422T112008
CREATED:20240513T221946Z
LAST-MODIFIED:20240513T221946Z
UID:11140-1716112800-1716141600@parkmesaheights.org
SUMMARY:Generational Wellness Carnival
DESCRIPTION:This holistic wellness experience that celebrates and educates on the synergy of physical\, emotional\, and social health\, with a particular emphasis on multi-generational wellness education. \nThe FREE carnival will feature Tai Chi\, Yoga\, and Pilates\, complemented by enlightening panel discussions with practitioners in various wellness fields. These sessions provide a hands-on\, experiential understanding of the practices and their benefits to holistic health. \nPlus\, an educational component with wellness training for ‘Golden Ticket’ winners in Mental Health\, First Aid\, QPR Suicide Prevention\, and Emotional Intelligence. \nThere will be an interactive coloring station\, a sound healing station\, art classes\, and other therapeutic alternative approaches to emotional wellness.
URL:https://parkmesaheights.org/calendar/generational-wellness-carnival/
LOCATION:Crenshaw Yoga and Dance Studio\, 5426 Crenshaw Blvd\, Los Angeles\, 90043
CATEGORIES:Community
GEO:33.9923165;-118.3304616
X-APPLE-STRUCTURED-LOCATION;VALUE=URI;X-ADDRESS=Crenshaw Yoga and Dance Studio 5426 Crenshaw Blvd Los Angeles 90043;X-APPLE-RADIUS=500;X-TITLE=5426 Crenshaw Blvd:geo:-118.3304616,33.9923165
END:VEVENT
BEGIN:VEVENT
DTSTART;TZID=America/Los_Angeles:20240521T100000
DTEND;TZID=America/Los_Angeles:20240521T123000
DTSTAMP:20260422T112008
CREATED:20240415T225752Z
LAST-MODIFIED:20240415T225752Z
UID:11083-1716285600-1716294600@parkmesaheights.org
SUMMARY:Beautification Conference
DESCRIPTION:On behalf of the City of Los Angeles Board of Public Works\, the Office of Community Beautification\, and Keep Los Angeles Beautiful\, we are pleased to invite you to the Sixth Annual Beautification Conference held Tuesday\, May 21\, at Pan Pacific Park. The conference will be held inside the Recreation Center at 7600 Beverly Blvd.\, Los Angeles\, CA 90036. \nAbout the Conference: \nJoin us for an opportunity to network and collaborate with other Angelenos on topics focused around beautifying the City. More than 250 attendees and 30 exhibitors will gather to discuss current beautification efforts\, share resources available to LA residents\, and exchange valuable information through informative panels. \nLocal leaders\, speakers\, and attendees \nInspiring keynote speakers \nLearn about community beautification opportunities\, sustainable gardening\, and practices in the home \nEvent is free and open to all (registration required) \nInteractive Resource Exposition \nLive Sustainable Gardening Workshop \n100 shade trees available\, restrictions apply* \nRain barrel raffle\, restrictions apply*
URL:https://parkmesaheights.org/calendar/beautification-conference-3/
LOCATION:Pan Pacific Park\, 7600 Beverly Blvd\, Los Angeles\, 90036
CATEGORIES:Community
GEO:34.0754453;-118.3542672
X-APPLE-STRUCTURED-LOCATION;VALUE=URI;X-ADDRESS=Pan Pacific Park 7600 Beverly Blvd Los Angeles 90036;X-APPLE-RADIUS=500;X-TITLE=7600 Beverly Blvd:geo:-118.3542672,34.0754453
END:VEVENT
BEGIN:VEVENT
DTSTART;TZID=America/Los_Angeles:20240529T090000
DTEND;TZID=America/Los_Angeles:20240529T130000
DTSTAMP:20260422T112008
CREATED:20240513T221328Z
LAST-MODIFIED:20240513T221328Z
UID:11137-1716973200-1716987600@parkmesaheights.org
SUMMARY:Day of Dignity
DESCRIPTION:Empowering our South Los Angeles community with Day of Dignity\, a resource fair presented by Restoration Community Development Corporation. Let’s come together and empower our community
URL:https://parkmesaheights.org/calendar/day-of-dignity/
LOCATION:Christ Temple Church\, 3125 W. 54th Street\, Los Angeles\, 90043
CATEGORIES:Community
GEO:33.99334;-118.3278849
X-APPLE-STRUCTURED-LOCATION;VALUE=URI;X-ADDRESS=Christ Temple Church 3125 W. 54th Street Los Angeles 90043;X-APPLE-RADIUS=500;X-TITLE=3125 W. 54th Street:geo:-118.3278849,33.99334
END:VEVENT
END:VCALENDAR