BEGIN:VCALENDAR
VERSION:2.0
PRODID:-//Park Mesa Heights Community Council - ECPv6.15.16//NONSGML v1.0//EN
CALSCALE:GREGORIAN
METHOD:PUBLISH
X-ORIGINAL-URL:https://parkmesaheights.org
X-WR-CALDESC:Events for Park Mesa Heights Community Council
REFRESH-INTERVAL;VALUE=DURATION:PT1H
X-Robots-Tag:noindex
X-PUBLISHED-TTL:PT1H
BEGIN:VTIMEZONE
TZID:America/Los_Angeles
BEGIN:DAYLIGHT
TZOFFSETFROM:-0800
TZOFFSETTO:-0700
TZNAME:PDT
DTSTART:20230312T100000
END:DAYLIGHT
BEGIN:STANDARD
TZOFFSETFROM:-0700
TZOFFSETTO:-0800
TZNAME:PST
DTSTART:20231105T090000
END:STANDARD
BEGIN:DAYLIGHT
TZOFFSETFROM:-0800
TZOFFSETTO:-0700
TZNAME:PDT
DTSTART:20240310T100000
END:DAYLIGHT
BEGIN:STANDARD
TZOFFSETFROM:-0700
TZOFFSETTO:-0800
TZNAME:PST
DTSTART:20241103T090000
END:STANDARD
BEGIN:DAYLIGHT
TZOFFSETFROM:-0800
TZOFFSETTO:-0700
TZNAME:PDT
DTSTART:20250309T100000
END:DAYLIGHT
BEGIN:STANDARD
TZOFFSETFROM:-0700
TZOFFSETTO:-0800
TZNAME:PST
DTSTART:20251102T090000
END:STANDARD
END:VTIMEZONE
BEGIN:VEVENT
DTSTART;TZID=America/Los_Angeles:20240711T183000
DTEND;TZID=America/Los_Angeles:20240711T200000
DTSTAMP:20260422T075332
CREATED:20240710T173739Z
LAST-MODIFIED:20240710T173739Z
UID:11255-1720722600-1720728000@parkmesaheights.org
SUMMARY:Laptop Giveaway
DESCRIPTION:Attention: CD8 Businesses\, don’t miss this opportunity—we are hosting a Laptop Giveaway in partnership with Economic & Workforce Development Department on Thursday\, July 11\, at 6:30 pm at 8475 South Vermont Avenue.\nIf you’re a legacy business owner with 20+ years of experience\, this meeting is a must-attend! Free laptops will be provided for the first 25 businesses to attend.\nTo RSVP for the meeting\, visit bit.ly/CD8LegacyBusiness.
URL:https://parkmesaheights.org/calendar/laptop-giveaway/
CATEGORIES:Community
END:VEVENT
BEGIN:VEVENT
DTSTART;TZID=America/Los_Angeles:20240713T120000
DTEND;TZID=America/Los_Angeles:20240713T200000
DTSTAMP:20260422T075332
CREATED:20240604T182854Z
LAST-MODIFIED:20240604T182854Z
UID:11180-1720872000-1720900800@parkmesaheights.org
SUMMARY:South LA Pride
DESCRIPTION:South L.A. Pride is on Saturday\, July 13th from 12 pm to 8 pm at the Michelle and Barack Obama Sports Complex!
URL:https://parkmesaheights.org/calendar/south-la-pride-2/
LOCATION:Michelle and Barack Obama Sports Complex\, 5001 Obama Blvd\, 90016
CATEGORIES:Community
GEO:34.0224095;-118.3516904
X-APPLE-STRUCTURED-LOCATION;VALUE=URI;X-ADDRESS=Michelle and Barack Obama Sports Complex 5001 Obama Blvd 90016;X-APPLE-RADIUS=500;X-TITLE=5001 Obama Blvd:geo:-118.3516904,34.0224095
END:VEVENT
BEGIN:VEVENT
DTSTART;TZID=America/Los_Angeles:20240717T180000
DTEND;TZID=America/Los_Angeles:20240717T193000
DTSTAMP:20260422T075332
CREATED:20240716T230301Z
LAST-MODIFIED:20240716T230301Z
UID:11275-1721239200-1721244600@parkmesaheights.org
SUMMARY:H.O.P.E. Community Meeting
DESCRIPTION:
URL:https://parkmesaheights.org/calendar/h-o-p-e-community-meeting/
LOCATION:Hyde Park Library\, 2205 W. Florence\, Los Angeles\, 90043
CATEGORIES:Community
GEO:33.9747784;-118.3182044
X-APPLE-STRUCTURED-LOCATION;VALUE=URI;X-ADDRESS=Hyde Park Library 2205 W. Florence Los Angeles 90043;X-APPLE-RADIUS=500;X-TITLE=2205 W. Florence:geo:-118.3182044,33.9747784
END:VEVENT
BEGIN:VEVENT
DTSTART;TZID=America/Los_Angeles:20240726T090000
DTEND;TZID=America/Los_Angeles:20240726T130000
DTSTAMP:20260422T075332
CREATED:20240726T023545Z
LAST-MODIFIED:20240726T023604Z
UID:11285-1721984400-1721998800@parkmesaheights.org
SUMMARY:Pet Clinic
DESCRIPTION:CD8 is teaming up with Michelson Found Animals Foundation and Community Animal Medicine Project to host a Free Pet Clinic on Friday\, July 26\, from 9:00 am to 1:00 pm at 8475 Vermont Avenue.\n\n\nWe’re offering free vaccines for the first 60 pets and free spay and neuter services by appointment.\n\n\nFor more information\, visit foundanimals.org
URL:https://parkmesaheights.org/calendar/11285/
CATEGORIES:Community
END:VEVENT
BEGIN:VEVENT
DTSTART;TZID=America/Los_Angeles:20240726T190000
DTEND;TZID=America/Los_Angeles:20240726T213000
DTSTAMP:20260422T075332
CREATED:20240726T023135Z
LAST-MODIFIED:20240726T023135Z
UID:11282-1722020400-1722029400@parkmesaheights.org
SUMMARY:Movie in the Park
DESCRIPTION:Friday night movies in the park:\n\nAlgin Sutton Park\n8800 South Hoover Street 90044\nShowing: Trolls: Band Together\n\n\n\nMartin Luther King Jr. Park\n3916 South Western Avenue 90062\nShowing: Elemental\n\n\n\nJackie Tatum / Harvard Recreation Center\n1535 West 62nd Street 90047\nShowing: Kung Fu Panda 4
URL:https://parkmesaheights.org/calendar/movie-in-the-park/
CATEGORIES:Community
END:VEVENT
END:VCALENDAR