BEGIN:VCALENDAR
VERSION:2.0
PRODID:-//Park Mesa Heights Community Council - ECPv6.15.16//NONSGML v1.0//EN
CALSCALE:GREGORIAN
METHOD:PUBLISH
X-ORIGINAL-URL:https://parkmesaheights.org
X-WR-CALDESC:Events for Park Mesa Heights Community Council
REFRESH-INTERVAL;VALUE=DURATION:PT1H
X-Robots-Tag:noindex
X-PUBLISHED-TTL:PT1H
BEGIN:VTIMEZONE
TZID:America/Los_Angeles
BEGIN:DAYLIGHT
TZOFFSETFROM:-0800
TZOFFSETTO:-0700
TZNAME:PDT
DTSTART:20230312T100000
END:DAYLIGHT
BEGIN:STANDARD
TZOFFSETFROM:-0700
TZOFFSETTO:-0800
TZNAME:PST
DTSTART:20231105T090000
END:STANDARD
BEGIN:DAYLIGHT
TZOFFSETFROM:-0800
TZOFFSETTO:-0700
TZNAME:PDT
DTSTART:20240310T100000
END:DAYLIGHT
BEGIN:STANDARD
TZOFFSETFROM:-0700
TZOFFSETTO:-0800
TZNAME:PST
DTSTART:20241103T090000
END:STANDARD
BEGIN:DAYLIGHT
TZOFFSETFROM:-0800
TZOFFSETTO:-0700
TZNAME:PDT
DTSTART:20250309T100000
END:DAYLIGHT
BEGIN:STANDARD
TZOFFSETFROM:-0700
TZOFFSETTO:-0800
TZNAME:PST
DTSTART:20251102T090000
END:STANDARD
END:VTIMEZONE
BEGIN:VEVENT
DTSTART;TZID=America/Los_Angeles:20240802T183000
DTEND;TZID=America/Los_Angeles:20240802T213000
DTSTAMP:20260422T063257
CREATED:20240730T010640Z
LAST-MODIFIED:20240730T010640Z
UID:11298-1722623400-1722634200@parkmesaheights.org
SUMMARY:Movies in the Park-Backpack Giveaway
DESCRIPTION:
URL:https://parkmesaheights.org/calendar/movies-in-the-park-backpack-giveaway/
CATEGORIES:Community
END:VEVENT
BEGIN:VEVENT
DTSTART;TZID=America/Los_Angeles:20240806T170000
DTEND;TZID=America/Los_Angeles:20240806T200000
DTSTAMP:20260422T063257
CREATED:20240730T011231Z
LAST-MODIFIED:20240730T011249Z
UID:11302-1722963600-1722974400@parkmesaheights.org
SUMMARY:National Night Out
DESCRIPTION:Celebrate Police Community Partnerships with entertainment\, activities\, resources\, food\, backpack giveaway and more.
URL:https://parkmesaheights.org/calendar/national-night-out-4/
LOCATION:Home Depot Slauson\, 1830 Slauson Ave\, Los Angeles\, 90047
CATEGORIES:Community
GEO:33.987511;-118.3113088
X-APPLE-STRUCTURED-LOCATION;VALUE=URI;X-ADDRESS=Home Depot Slauson 1830 Slauson Ave Los Angeles 90047;X-APPLE-RADIUS=500;X-TITLE=1830 Slauson Ave:geo:-118.3113088,33.987511
END:VEVENT
BEGIN:VEVENT
DTSTART;TZID=America/Los_Angeles:20240810T100000
DTEND;TZID=America/Los_Angeles:20240810T150000
DTSTAMP:20260422T063257
CREATED:20240807T181742Z
LAST-MODIFIED:20240807T181742Z
UID:11323-1723284000-1723302000@parkmesaheights.org
SUMMARY:Mural Reveal Celebration
DESCRIPTION:This mural is one of the first artworks completed along the visionary Destination Crenshaw project and we are excited to share it with you! \nLocated at Dog Lovers Pet Grooming\, an iconic establishment in our community since 1980\, the mural beautifully celebrates Black children and the inspiring message\, “The World is Yours!” championing the essence of youth\, creativity\, and possibility. \nBring your family\, friends\, and\, of course\, your furry companions for a puppy play date featuring an obstacle course powered by South Park Doggie Land. \nWhen: Saturday\, August 10\, 2024\nTime: 10:00am – 3:00pm\nWhere: 5700 Crenshaw Blvd.\, Los Angeles\, CA 90043 \nThe official unveiling ceremony will start at 11:30am\, so don’t miss out! \nCome and join us for a fun-filled day featuring: \nFREE food & drinks from delicious local vendors \nAn adorable outdoor puppy play date (all dogs must be on leash and collar) \nDJ Moonflower to keep the vibes right \nFamily friendly games\, activities and a photo activation \nRaffles & Giveaways \nThis is more than just a celebration; it’s a community gathering to celebrate this act of placekeeping through our art\, as well as honor 45 years of love\, care\, and grooming excellence.
URL:https://parkmesaheights.org/calendar/mural-reveal-celebration/
LOCATION:Dog Lovers Parking Lot\, 5700 Crenshaw Boulevard\, Los Angeles\, CA\, 90043\, United States
CATEGORIES:Community
GEO:33.9907495;-118.3302593
X-APPLE-STRUCTURED-LOCATION;VALUE=URI;X-ADDRESS=Dog Lovers Parking Lot 5700 Crenshaw Boulevard Los Angeles CA 90043 United States;X-APPLE-RADIUS=500;X-TITLE=5700 Crenshaw Boulevard:geo:-118.3302593,33.9907495
END:VEVENT
BEGIN:VEVENT
DTSTART;TZID=America/Los_Angeles:20240816T080000
DTEND;TZID=America/Los_Angeles:20240816T100000
DTSTAMP:20260422T063257
CREATED:20240816T204204Z
LAST-MODIFIED:20240816T204204Z
UID:11348-1723795200-1723802400@parkmesaheights.org
SUMMARY:Coffee with a Cop
DESCRIPTION:
URL:https://parkmesaheights.org/calendar/coffee-with-a-cop/
LOCATION:McDonalds\, Crenshaw Boulevard\, Los Angeles\, CA\, 90008\, United States
CATEGORIES:Community,PMHCC
GEO:34.0057897;-118.3337999
X-APPLE-STRUCTURED-LOCATION;VALUE=URI;X-ADDRESS=McDonalds Crenshaw Boulevard Los Angeles CA 90008 United States;X-APPLE-RADIUS=500;X-TITLE=Crenshaw Boulevard:geo:-118.3337999,34.0057897
END:VEVENT
BEGIN:VEVENT
DTSTART;TZID=America/Los_Angeles:20240824T100000
DTEND;TZID=America/Los_Angeles:20240824T113000
DTSTAMP:20260422T063257
CREATED:20240805T195616Z
LAST-MODIFIED:20240805T195616Z
UID:11313-1724493600-1724499000@parkmesaheights.org
SUMMARY:Coffee with the Senator
DESCRIPTION:Coffee with the Senator gathering at 10 am on Saturday\, August 24 at the Exposition Park – Dr. Mary McLeod Bethune Regional Branch Public Library\, 3900 S. Western Ave\, Los Angeles\, CA 90062 in South LA. \nIt’s a wonderful opportunity to connect\, discuss legislative updates and services\, and build a stronger community together.
URL:https://parkmesaheights.org/calendar/coffee-with-the-senator-2/
CATEGORIES:Community
END:VEVENT
BEGIN:VEVENT
DTSTART;TZID=America/Los_Angeles:20240829T170000
DTEND;TZID=America/Los_Angeles:20240829T193000
DTSTAMP:20260422T063257
CREATED:20240808T182506Z
LAST-MODIFIED:20240829T165203Z
UID:11329-1724950800-1724959800@parkmesaheights.org
SUMMARY:LAPD Town Hall
DESCRIPTION:
URL:https://parkmesaheights.org/calendar/lapd-town-hall/
LOCATION:Zion Hill Baptist Church\, 10th Avenue\, Los Angeles\, California\, 90043\, United States
CATEGORIES:Community
GEO:33.9678115;-118.3281634
X-APPLE-STRUCTURED-LOCATION;VALUE=URI;X-ADDRESS=Zion Hill Baptist Church 10th Avenue Los Angeles California 90043 United States;X-APPLE-RADIUS=500;X-TITLE=10th Avenue:geo:-118.3281634,33.9678115
END:VEVENT
BEGIN:VEVENT
DTSTART;TZID=America/Los_Angeles:20240831T113000
DTEND;TZID=America/Los_Angeles:20240831T203000
DTSTAMP:20260422T063257
CREATED:20240726T022626Z
LAST-MODIFIED:20240726T022626Z
UID:11279-1725103800-1725136200@parkmesaheights.org
SUMMARY:Leimert Park Jazz Festival
DESCRIPTION:Join us in support of the 5th Annual Leimert Park Jazz Festival on Saturday\, August 31\, 2024\, at the Baldwin Hills Crenshaw Plaza rooftop parking deck. Register for FREE General Admission to enter an exclusive prize drawing or grab limited VIP tickets. Don’t miss this incredible celebration of jazz\, community\, and culture.
URL:https://parkmesaheights.org/calendar/leimert-park-jazz-festival-2/
LOCATION:Baldwin Hills Crenshaw Plaza\, 3650 W. Martin Luther King Jr. Blvd\, Los Angeles\, 90008
CATEGORIES:Community
GEO:34.0110086;-118.3364738
X-APPLE-STRUCTURED-LOCATION;VALUE=URI;X-ADDRESS=Baldwin Hills Crenshaw Plaza 3650 W. Martin Luther King Jr. Blvd Los Angeles 90008;X-APPLE-RADIUS=500;X-TITLE=3650 W. Martin Luther King Jr. Blvd:geo:-118.3364738,34.0110086
END:VEVENT
END:VCALENDAR