BEGIN:VCALENDAR
VERSION:2.0
PRODID:-//Park Mesa Heights Community Council - ECPv6.15.16//NONSGML v1.0//EN
CALSCALE:GREGORIAN
METHOD:PUBLISH
X-WR-CALNAME:Park Mesa Heights Community Council
X-ORIGINAL-URL:https://parkmesaheights.org
X-WR-CALDESC:Events for Park Mesa Heights Community Council
REFRESH-INTERVAL;VALUE=DURATION:PT1H
X-Robots-Tag:noindex
X-PUBLISHED-TTL:PT1H
BEGIN:VTIMEZONE
TZID:America/Los_Angeles
BEGIN:DAYLIGHT
TZOFFSETFROM:-0800
TZOFFSETTO:-0700
TZNAME:PDT
DTSTART:20240310T100000
END:DAYLIGHT
BEGIN:STANDARD
TZOFFSETFROM:-0700
TZOFFSETTO:-0800
TZNAME:PST
DTSTART:20241103T090000
END:STANDARD
BEGIN:DAYLIGHT
TZOFFSETFROM:-0800
TZOFFSETTO:-0700
TZNAME:PDT
DTSTART:20250309T100000
END:DAYLIGHT
BEGIN:STANDARD
TZOFFSETFROM:-0700
TZOFFSETTO:-0800
TZNAME:PST
DTSTART:20251102T090000
END:STANDARD
BEGIN:DAYLIGHT
TZOFFSETFROM:-0800
TZOFFSETTO:-0700
TZNAME:PDT
DTSTART:20260308T100000
END:DAYLIGHT
BEGIN:STANDARD
TZOFFSETFROM:-0700
TZOFFSETTO:-0800
TZNAME:PST
DTSTART:20261101T090000
END:STANDARD
END:VTIMEZONE
BEGIN:VEVENT
DTSTART;TZID=America/Los_Angeles:20250111T100000
DTEND;TZID=America/Los_Angeles:20250111T170000
DTSTAMP:20260421T221209
CREATED:20250107T230926Z
LAST-MODIFIED:20250107T230926Z
UID:11633-1736589600-1736614800@parkmesaheights.org
SUMMARY:Destination Crenshaw at CAAM
DESCRIPTION:As part of a community partnership between the California African American Museum (CAAM) and Destination Crenshaw\, we invite you to start the year with art that looks back and looks forward. Experience World Without End: The George Washington Carver Project\, part of Getty’s PST ART: Art and Science Collide initiative\, and Simone Leigh co-presented in Los Angeles with LACMA. \nWorld Without End features contemporary artworks alongside George Washington Carver’s rarely seen paintings\, laboratory equipment\, and notebooks. Carver’s work as a scientist\, artist\, and advocate for environmental justice echoes Destination Crenshaw’s thematic motif of Grow Where You’re Planted and dedication to celebrating the artistry and resilience of Black culture. Simone Leigh is the first comprehensive survey of the richly layered work of this celebrated artist.
URL:https://parkmesaheights.org/calendar/destination-crenshaw-at-caam/
CATEGORIES:Community
END:VEVENT
BEGIN:VEVENT
DTSTART;TZID=America/Los_Angeles:20250121T093000
DTEND;TZID=America/Los_Angeles:20250121T110000
DTSTAMP:20260421T221209
CREATED:20250117T182213Z
LAST-MODIFIED:20250117T182213Z
UID:11652-1737451800-1737457200@parkmesaheights.org
SUMMARY:Public Hearing on LA County's Westside Area Plan
DESCRIPTION:Tuesday\, January 21 | 9:30 a.m. \n500 West Temple Street\, Room 381-B\, Los Angeles\, CA 90012. \nBoard of Supervisors will conduct a public hearing on LA County’s Westside Area Plan (WSAP) which includes the communities of Ladera Heights\, View Park – Windsor Hills\, Franklin Canyon\, West LA Sawtelle VA\, West Fox Hills\, Marina del Rey\, and Gilmore Island. \nLABOS WASP Notice 1.21.25
URL:https://parkmesaheights.org/calendar/public-hearing-on-la-countys-westside-area-plan/
CATEGORIES:Community
END:VEVENT
BEGIN:VEVENT
DTSTART;TZID=America/Los_Angeles:20250123T200000
DTEND;TZID=America/Los_Angeles:20250123T230000
DTSTAMP:20260421T221209
CREATED:20241118T224749Z
LAST-MODIFIED:20250117T184042Z
UID:11538-1737662400-1737673200@parkmesaheights.org
SUMMARY:Homeless Count-Postponed
DESCRIPTION:Join and make a difference! You can now register to volunteer for the 2025 Greater Los Angeles Homeless Count! This essential event aims to count our unhoused neighbors and obtain data that helps us develop effective strategies to address the homelessness crisis in Los Angeles City and County. Mark your calendars for Homeless Count 2025\, taking place on the nights of January 21\, 22\, and 23. To learn more and sign up\, visit count.lahsa.org!
URL:https://parkmesaheights.org/calendar/homeless-count-6/
CATEGORIES:Community
END:VEVENT
END:VCALENDAR