BEGIN:VCALENDAR
VERSION:2.0
PRODID:-//Park Mesa Heights Community Council - ECPv6.15.16//NONSGML v1.0//EN
CALSCALE:GREGORIAN
METHOD:PUBLISH
X-WR-CALNAME:Park Mesa Heights Community Council
X-ORIGINAL-URL:https://parkmesaheights.org
X-WR-CALDESC:Events for Park Mesa Heights Community Council
REFRESH-INTERVAL;VALUE=DURATION:PT1H
X-Robots-Tag:noindex
X-PUBLISHED-TTL:PT1H
BEGIN:VTIMEZONE
TZID:America/Los_Angeles
BEGIN:DAYLIGHT
TZOFFSETFROM:-0800
TZOFFSETTO:-0700
TZNAME:PDT
DTSTART:20240310T100000
END:DAYLIGHT
BEGIN:STANDARD
TZOFFSETFROM:-0700
TZOFFSETTO:-0800
TZNAME:PST
DTSTART:20241103T090000
END:STANDARD
BEGIN:DAYLIGHT
TZOFFSETFROM:-0800
TZOFFSETTO:-0700
TZNAME:PDT
DTSTART:20250309T100000
END:DAYLIGHT
BEGIN:STANDARD
TZOFFSETFROM:-0700
TZOFFSETTO:-0800
TZNAME:PST
DTSTART:20251102T090000
END:STANDARD
BEGIN:DAYLIGHT
TZOFFSETFROM:-0800
TZOFFSETTO:-0700
TZNAME:PDT
DTSTART:20260308T100000
END:DAYLIGHT
BEGIN:STANDARD
TZOFFSETFROM:-0700
TZOFFSETTO:-0800
TZNAME:PST
DTSTART:20261101T090000
END:STANDARD
END:VTIMEZONE
BEGIN:VEVENT
DTSTART;TZID=America/Los_Angeles:20250401T160000
DTEND;TZID=America/Los_Angeles:20250401T190000
DTSTAMP:20260421T172809
CREATED:20250313T003118Z
LAST-MODIFIED:20250313T003118Z
UID:11742-1743523200-1743534000@parkmesaheights.org
SUMMARY:Youth Job Fair
DESCRIPTION:
URL:https://parkmesaheights.org/calendar/youth-job-fair-2/
CATEGORIES:Community
END:VEVENT
BEGIN:VEVENT
DTSTART;TZID=America/Los_Angeles:20250405T090000
DTEND;TZID=America/Los_Angeles:20250405T130000
DTSTAMP:20260421T172809
CREATED:20250319T210129Z
LAST-MODIFIED:20250319T210129Z
UID:11779-1743843600-1743858000@parkmesaheights.org
SUMMARY:Crenshaw Mile Race
DESCRIPTION:We’re excited to invite you to the upcoming Crenshaw Mile event on Saturday\, April 5th\, 2024! This event will bring together community members\, businesses\, and visitors for a day of celebration\, and we want to ensure you’re informed and ready for it. This event has the potential to become an annual tradition\, drawing top-tier runners\, fostering youth participation\, and driving economic growth by attracting visitors and investing in local businesses. \nWhat to expect: \nA vibrant community event along Crenshaw Blvd\, attracting thousands of visitors.\nOpportunities for local businesses to showcase their offerings.\nExpected foot traffic increase around your business location. \nQ: Where does the race start? \nA: The race starts near Nipsey Hussle Plaza\, proceeds by the Great Crenshaw Wall\, and ends at Sankofa Park\, near “Little Africa\,” known as Leimert Park Village. \nQ: What are the parking restrictions? \nA: NO PARKING will be allowed on the Crenshaw Mile route from 12:00 am to approximately 3:00 pm on Saturday\, April 5th. \nQ: Are there any bus Detours? \nA: All buses that usually run along the Crenshaw Mile route will be detoured. Please check bus stops for detour information closer to the event date. \nQ: How can this event positively impact my business? \nA: Engaging with the event’s social media posts to amplify your presence and more. \nQ: Do I get to set up a booth to broadcast my business? \nA: At this moment\, ALL vendors have been selected for this event. With the Crenshaw Mile being annual\, there are opportunities in the future next year to participate. \nQ: How can I participate in the race? \nA: You can visit https://www.thecrenshawmile.com/ to register for the race.
URL:https://parkmesaheights.org/calendar/crenshaw-mile-race/
CATEGORIES:Community
END:VEVENT
BEGIN:VEVENT
DTSTART;TZID=America/Los_Angeles:20250405T110000
DTEND;TZID=America/Los_Angeles:20250405T130000
DTSTAMP:20260421T172809
CREATED:20250320T170952Z
LAST-MODIFIED:20250320T170952Z
UID:11784-1743850800-1743858000@parkmesaheights.org
SUMMARY:Spring Celebration
DESCRIPTION:
URL:https://parkmesaheights.org/calendar/spring-celebration/
LOCATION:Van Ness Recreation Center\, 5720 2nd Avenue\, Los Angeles
CATEGORIES:Community
GEO:33.9904279;-118.3190264
X-APPLE-STRUCTURED-LOCATION;VALUE=URI;X-ADDRESS=Van Ness Recreation Center 5720 2nd Avenue Los Angeles;X-APPLE-RADIUS=500;X-TITLE=5720 2nd Avenue:geo:-118.3190264,33.9904279
END:VEVENT
BEGIN:VEVENT
DTSTART;TZID=America/Los_Angeles:20250409T180000
DTEND;TZID=America/Los_Angeles:20250409T210000
DTSTAMP:20260421T172809
CREATED:20250407T180548Z
LAST-MODIFIED:20250407T180548Z
UID:11794-1744221600-1744232400@parkmesaheights.org
SUMMARY:Board of Public Works Town Hall
DESCRIPTION:Seating is limited\, RSVP here! \nHear from regional leaders\, LA City departments\, and oversight commissions about services in your neighborhoods. Learn about what happens to your 311 requests\, get updates from the Bureau of Street Lighting\, Bureau of Sanitation and more!
URL:https://parkmesaheights.org/calendar/board-of-public-works-town-hall-2/
LOCATION:Mark Ridley-Thomas Constituent Service Center\, 8475 S. Vermont Ave\, 90044
CATEGORIES:Community
GEO:33.9611384;-118.2920244
X-APPLE-STRUCTURED-LOCATION;VALUE=URI;X-ADDRESS=Mark Ridley-Thomas Constituent Service Center 8475 S. Vermont Ave 90044;X-APPLE-RADIUS=500;X-TITLE=8475 S. Vermont Ave:geo:-118.2920244,33.9611384
END:VEVENT
BEGIN:VEVENT
DTSTART;TZID=America/Los_Angeles:20250426T100000
DTEND;TZID=America/Los_Angeles:20250426T140000
DTSTAMP:20260421T172809
CREATED:20250407T180959Z
LAST-MODIFIED:20250407T180959Z
UID:11797-1745661600-1745676000@parkmesaheights.org
SUMMARY:Earth Day LA
DESCRIPTION:Join us for a day of earth-friendly fun as we celebrate our annual citywide \nEARTH DAY LA! \nLA Sanitation & Environment’s signature event is back in full force with over 40 educational (and fun) exhibitors\, a kids zone\, games\, and prizes\, while supplies last.
URL:https://parkmesaheights.org/calendar/earth-day-la/
LOCATION:Norman O. Houston Park\, 4800 South La Brea Ave\, Los Angeles\, 90008
CATEGORIES:Community
GEO:33.9991557;-118.3576086
X-APPLE-STRUCTURED-LOCATION;VALUE=URI;X-ADDRESS=Norman O. Houston Park 4800 South La Brea Ave Los Angeles 90008;X-APPLE-RADIUS=500;X-TITLE=4800 South La Brea Ave:geo:-118.3576086,33.9991557
END:VEVENT
BEGIN:VEVENT
DTSTART;TZID=America/Los_Angeles:20250426T100000
DTEND;TZID=America/Los_Angeles:20250426T150000
DTSTAMP:20260421T172809
CREATED:20250425T234737Z
LAST-MODIFIED:20250425T234737Z
UID:11847-1745661600-1745679600@parkmesaheights.org
SUMMARY:The Shaw Healthy Family Festival
DESCRIPTION:Crenshaw community! Come out and support the Crenshaw Farmers Market on April 26th for a free\, family-friendly event filled with good vibes\, local vendors\, and community spirit. Don’t miss the fun!
URL:https://parkmesaheights.org/calendar/the-shaw-healthy-family-festival/
CATEGORIES:Community
END:VEVENT
BEGIN:VEVENT
DTSTART;TZID=America/Los_Angeles:20250426T140000
DTEND;TZID=America/Los_Angeles:20250426T190000
DTSTAMP:20260421T172809
CREATED:20250404T235428Z
LAST-MODIFIED:20250404T235428Z
UID:11792-1745676000-1745694000@parkmesaheights.org
SUMMARY:Project 43 Team Post Center 5 Year Anniversary
DESCRIPTION:Welcome to the Project 43 Team Post Center 5 Year Anniversary event! Join us on Sat\, Apr 26\, 2025 at 2:00 PM as we celebrate five years of community service\, teamwork and success at our location: 6841 S Crenshaw Blvd. Ribbon Cutting At 3:00 P.M. Get ready for a fun-filled day of reminiscing\, team-building activities\, and delicious food and gift bags . Don’t miss out on this special occasion to connect with fellow community members and meet all of our staff and celebrate our achievements together. See you there!
URL:https://parkmesaheights.org/calendar/project-43-team-post-center-5-year-anniversary/
CATEGORIES:Community
END:VEVENT
BEGIN:VEVENT
DTSTART;TZID=America/Los_Angeles:20250429T183000
DTEND;TZID=America/Los_Angeles:20250429T200000
DTSTAMP:20260421T172809
CREATED:20250425T225716Z
LAST-MODIFIED:20250426T000612Z
UID:11835-1745951400-1745956800@parkmesaheights.org
SUMMARY:Budget Webinar
DESCRIPTION:You are invited to join a webinar: NC Budget Advocates Town Hall: “Thoughts on the Mayor’s Proposed Budget for Fiscal Year 2025-2026”. After registering\, you will receive a confirmation email about joining the webinar.
URL:https://parkmesaheights.org/calendar/budget-webinar/
CATEGORIES:Community
END:VEVENT
END:VCALENDAR