BEGIN:VCALENDAR
VERSION:2.0
PRODID:-//Park Mesa Heights Community Council - ECPv6.15.16//NONSGML v1.0//EN
CALSCALE:GREGORIAN
METHOD:PUBLISH
X-ORIGINAL-URL:https://parkmesaheights.org
X-WR-CALDESC:Events for Park Mesa Heights Community Council
REFRESH-INTERVAL;VALUE=DURATION:PT1H
X-Robots-Tag:noindex
X-PUBLISHED-TTL:PT1H
BEGIN:VTIMEZONE
TZID:America/Los_Angeles
BEGIN:DAYLIGHT
TZOFFSETFROM:-0800
TZOFFSETTO:-0700
TZNAME:PDT
DTSTART:20240310T100000
END:DAYLIGHT
BEGIN:STANDARD
TZOFFSETFROM:-0700
TZOFFSETTO:-0800
TZNAME:PST
DTSTART:20241103T090000
END:STANDARD
BEGIN:DAYLIGHT
TZOFFSETFROM:-0800
TZOFFSETTO:-0700
TZNAME:PDT
DTSTART:20250309T100000
END:DAYLIGHT
BEGIN:STANDARD
TZOFFSETFROM:-0700
TZOFFSETTO:-0800
TZNAME:PST
DTSTART:20251102T090000
END:STANDARD
BEGIN:DAYLIGHT
TZOFFSETFROM:-0800
TZOFFSETTO:-0700
TZNAME:PDT
DTSTART:20260308T100000
END:DAYLIGHT
BEGIN:STANDARD
TZOFFSETFROM:-0700
TZOFFSETTO:-0800
TZNAME:PST
DTSTART:20261101T090000
END:STANDARD
END:VTIMEZONE
BEGIN:VEVENT
DTSTART;TZID=America/Los_Angeles:20251206T100000
DTEND;TZID=America/Los_Angeles:20251206T140000
DTSTAMP:20260421T052522
CREATED:20251205T172610Z
LAST-MODIFIED:20251205T172610Z
UID:12300-1765015200-1765029600@parkmesaheights.org
SUMMARY:Justice Fair
DESCRIPTION:Mayor Karen Bass is hosting the Justice Fair 2025\, this Saturday\, December 6\, from 10:00 AM to 2:00 PM at the LA Expo Center.\nDon’t miss this opportunity to connect with 80+ employers and community organizations offering job interviews\, expungement help\, housing support\, financial coaching\, and mental health resources!\nTo RSVP\, visit: JusticeFair.org or https://www.eventbrite.com/e/justice-fair-2025-gifts-that-keep-giving-tickets-1860210542809
URL:https://parkmesaheights.org/calendar/justice-fair/
CATEGORIES:Community
ATTACH;FMTTYPE=image/jpeg:https://parkmesaheights.org/wp-content/uploads/2025/12/justice-fair.jpg
END:VEVENT
BEGIN:VEVENT
DTSTART;TZID=America/Los_Angeles:20251206T100000
DTEND;TZID=America/Los_Angeles:20251206T140000
DTSTAMP:20260421T052522
CREATED:20251205T173110Z
LAST-MODIFIED:20251205T173110Z
UID:12303-1765015200-1765029600@parkmesaheights.org
SUMMARY:Pet Palooza
DESCRIPTION:LA Animal Services is partnering with The Los Angeles @Chargers for their third annual pet adoption event this Saturday\, December 6 at the Chesterfield Square/South LA Shelter. Meet adoptable dogs while learning more about pet adoption and fostering! Throughout the event\, @DogsPlayingforLife will host playgroups\, giving visitors the chance to see our dogs in action and experience their personalities outside of the kennel environment. \nAdoption fees for dogs and cats will be waived on Saturday\, December 6 at our Chesterfield Square Center only. Reduced adoption fees will be offered at our other shelter locations on Saturday\, December 6 and all shelter locations on Sunday\, December 7
URL:https://parkmesaheights.org/calendar/pet-palooza/
CATEGORIES:Community
ATTACH;FMTTYPE=image/jpeg:https://parkmesaheights.org/wp-content/uploads/2025/12/pet-palooza.jpg
END:VEVENT
BEGIN:VEVENT
DTSTART;TZID=America/Los_Angeles:20251206T110000
DTEND;TZID=America/Los_Angeles:20251206T140000
DTSTAMP:20260421T052522
CREATED:20251205T173627Z
LAST-MODIFIED:20251205T173627Z
UID:12306-1765018800-1765029600@parkmesaheights.org
SUMMARY:Roots & Routes
DESCRIPTION:Supporting our neighbors in Willowbrook as *Roots & Routes: Grill & Chill* brings culinary dreams\, creative expression and micro-entrepreneurship to the Rosa Parks Station. \n🌱🤝🏽 We are stronger when #SouthLA communities move together sharing knowledge\, opportunity and access.\n🥗 Celebrate the Flavor Cart Grand Opening and enjoy tastings from local chefs 🍴\, live performances 🎶\, line dancing 💃🏽\, a drum circle 🥁 and free food tastings for the first 200 attendees.\n📍 Willowbrook / Rosa Parks Station Plaza\n🗓️ Saturday\, December 6\n⏰ 11:00am–2:00pm\n📫 11611 Willowbrook Ave\, Los Angeles\, CA 90059\n🚇 Take the Metro A or C Line\n🚗 Free parking available\nPowered by Markets at Los Angeles Metro and community partners committed to elevating local talent\, culture and small business development.
URL:https://parkmesaheights.org/calendar/roots-routes/
CATEGORIES:Community
ATTACH;FMTTYPE=image/jpeg:https://parkmesaheights.org/wp-content/uploads/2025/12/roots-and-routes.jpg
END:VEVENT
BEGIN:VEVENT
DTSTART;TZID=America/Los_Angeles:20251211T100000
DTEND;TZID=America/Los_Angeles:20251211T120000
DTSTAMP:20260421T052522
CREATED:20251110T191348Z
LAST-MODIFIED:20251110T191348Z
UID:12209-1765447200-1765454400@parkmesaheights.org
SUMMARY:Produce Distribution
DESCRIPTION:Free Produce Distribution at Curtis Tucker Center \nThursday\, November 13 from 10:00 a.m. – 12:00 p.m. \nCurtis Tucker Center for Community Wellness\n123 W. Manchester Blvd.\nInglewood\, CA 90301 \nJoin the LA County Department of Public Health and LA Regional Food Bank for a free produce distribution for the community while supplies last. No eligibility\, paperwork\, or ID required. Please bring a reusable bag.
URL:https://parkmesaheights.org/calendar/produce-distribution/2025-12-11/
LOCATION:Curtis Tucker Center\, 123 W. Manchester Blvd\, Inglewood\, 90301
CATEGORIES:Community
GEO:33.9621837;-118.3565837
X-APPLE-STRUCTURED-LOCATION;VALUE=URI;X-ADDRESS=Curtis Tucker Center 123 W. Manchester Blvd Inglewood 90301;X-APPLE-RADIUS=500;X-TITLE=123 W. Manchester Blvd:geo:-118.3565837,33.9621837
END:VEVENT
BEGIN:VEVENT
DTSTART;TZID=America/Los_Angeles:20251212T170000
DTEND;TZID=America/Los_Angeles:20251212T210000
DTSTAMP:20260421T052522
CREATED:20251128T182527Z
LAST-MODIFIED:20251128T182527Z
UID:12297-1765558800-1765573200@parkmesaheights.org
SUMMARY:Leimert Park Snow Night
DESCRIPTION:
URL:https://parkmesaheights.org/calendar/leimert-park-snow-night-2/
LOCATION:Leimert Village Plaza\, Leimert Blvd & 43rd Place
CATEGORIES:Community
GEO:34.0042781;-118.3304734
X-APPLE-STRUCTURED-LOCATION;VALUE=URI;X-ADDRESS=Leimert Village Plaza Leimert Blvd & 43rd Place;X-APPLE-RADIUS=500;X-TITLE=Leimert Blvd & 43rd Place:geo:-118.3304734,34.0042781
END:VEVENT
BEGIN:VEVENT
DTSTART;TZID=America/Los_Angeles:20251213T100000
DTEND;TZID=America/Los_Angeles:20251213T140000
DTSTAMP:20260421T052522
CREATED:20251210T230519Z
LAST-MODIFIED:20251210T230519Z
UID:12324-1765620000-1765634400@parkmesaheights.org
SUMMARY:Book Sale
DESCRIPTION:
URL:https://parkmesaheights.org/calendar/book-sale/
CATEGORIES:Community
END:VEVENT
BEGIN:VEVENT
DTSTART;TZID=America/Los_Angeles:20251213T120000
DTEND;TZID=America/Los_Angeles:20251213T160000
DTSTAMP:20260421T052522
CREATED:20251210T225930Z
LAST-MODIFIED:20251210T225930Z
UID:12321-1765627200-1765641600@parkmesaheights.org
SUMMARY:Winter Wonderland
DESCRIPTION:Winter Wonderland on Saturday\, December 13\, 2025 from 12:00 p.m. to 4:00 p.m. at Baldwin Hills Crenshaw Plaza. \nChildren can participate in our toy giveaway\, guided by Santa’s elves as they choose a holiday surprise. Families will be able to explore a resource fair designed to support our community. And of course\, snow and sledding will be ready for anyone up for a little winter fun. All of this set to a backdrop of holiday music by local musicians to bring on the energy of the season. \nThis year’s celebration is made possible by a partnership of CD8\, It’s Bigger Than Us\, and Baldwin Hills Crenshaw Plaza.
URL:https://parkmesaheights.org/calendar/winter-wonderland-5/
LOCATION:Baldwin Hills Crenshaw Plaza\, 3650 W. Martin Luther King Jr. Blvd\, Los Angeles\, 90008
CATEGORIES:Community
GEO:34.0110086;-118.3364738
X-APPLE-STRUCTURED-LOCATION;VALUE=URI;X-ADDRESS=Baldwin Hills Crenshaw Plaza 3650 W. Martin Luther King Jr. Blvd Los Angeles 90008;X-APPLE-RADIUS=500;X-TITLE=3650 W. Martin Luther King Jr. Blvd:geo:-118.3364738,34.0110086
END:VEVENT
BEGIN:VEVENT
DTSTART;TZID=America/Los_Angeles:20251218T100000
DTEND;TZID=America/Los_Angeles:20251218T120000
DTSTAMP:20260421T052522
CREATED:20251110T191348Z
LAST-MODIFIED:20251110T191348Z
UID:12210-1766052000-1766059200@parkmesaheights.org
SUMMARY:Produce Distribution
DESCRIPTION:Free Produce Distribution at Curtis Tucker Center \nThursday\, November 13 from 10:00 a.m. – 12:00 p.m. \nCurtis Tucker Center for Community Wellness\n123 W. Manchester Blvd.\nInglewood\, CA 90301 \nJoin the LA County Department of Public Health and LA Regional Food Bank for a free produce distribution for the community while supplies last. No eligibility\, paperwork\, or ID required. Please bring a reusable bag.
URL:https://parkmesaheights.org/calendar/produce-distribution/2025-12-18/
LOCATION:Curtis Tucker Center\, 123 W. Manchester Blvd\, Inglewood\, 90301
CATEGORIES:Community
GEO:33.9621837;-118.3565837
X-APPLE-STRUCTURED-LOCATION;VALUE=URI;X-ADDRESS=Curtis Tucker Center 123 W. Manchester Blvd Inglewood 90301;X-APPLE-RADIUS=500;X-TITLE=123 W. Manchester Blvd:geo:-118.3565837,33.9621837
END:VEVENT
END:VCALENDAR