BEGIN:VCALENDAR
VERSION:2.0
PRODID:-//Park Mesa Heights Community Council - ECPv6.15.16//NONSGML v1.0//EN
CALSCALE:GREGORIAN
METHOD:PUBLISH
X-ORIGINAL-URL:https://parkmesaheights.org
X-WR-CALDESC:Events for Park Mesa Heights Community Council
REFRESH-INTERVAL;VALUE=DURATION:PT1H
X-Robots-Tag:noindex
X-PUBLISHED-TTL:PT1H
BEGIN:VTIMEZONE
TZID:America/Los_Angeles
BEGIN:DAYLIGHT
TZOFFSETFROM:-0800
TZOFFSETTO:-0700
TZNAME:PDT
DTSTART:20250309T100000
END:DAYLIGHT
BEGIN:STANDARD
TZOFFSETFROM:-0700
TZOFFSETTO:-0800
TZNAME:PST
DTSTART:20251102T090000
END:STANDARD
BEGIN:DAYLIGHT
TZOFFSETFROM:-0800
TZOFFSETTO:-0700
TZNAME:PDT
DTSTART:20260308T100000
END:DAYLIGHT
BEGIN:STANDARD
TZOFFSETFROM:-0700
TZOFFSETTO:-0800
TZNAME:PST
DTSTART:20261101T090000
END:STANDARD
BEGIN:DAYLIGHT
TZOFFSETFROM:-0800
TZOFFSETTO:-0700
TZNAME:PDT
DTSTART:20270314T100000
END:DAYLIGHT
BEGIN:STANDARD
TZOFFSETFROM:-0700
TZOFFSETTO:-0800
TZNAME:PST
DTSTART:20271107T090000
END:STANDARD
END:VTIMEZONE
BEGIN:VEVENT
DTSTART;TZID=America/Los_Angeles:20260507T150000
DTEND;TZID=America/Los_Angeles:20260507T170000
DTSTAMP:20260421T035148
CREATED:20260415T215238Z
LAST-MODIFIED:20260415T215505Z
UID:12567-1778166000-1778173200@parkmesaheights.org
SUMMARY:Hyde Park/Miriam Matthews Branch Library Open House
DESCRIPTION:Our Childrens Librarian and YA Librarian won a grant (YESS) to refurbish their spaces and convert the library into a more sensory-friendly environment. \nJoin us for an open house to celebrate our new sensory spaces designed for kids and teens! These sensory spaces are specifically created to support individuals with developmental disabilities\, learning difficulties\, and sensory impairments. Enjoy snacks\, games\, fun activities\, and more. \nRSVP 323-750-7241
URL:https://parkmesaheights.org/calendar/hyde-park-miriam-matthews-branch-library-open-house/
LOCATION:Hyde Park Library\, 2205 W. Florence\, Los Angeles\, 90043
CATEGORIES:Community
GEO:33.9747784;-118.3182044
X-APPLE-STRUCTURED-LOCATION;VALUE=URI;X-ADDRESS=Hyde Park Library 2205 W. Florence Los Angeles 90043;X-APPLE-RADIUS=500;X-TITLE=2205 W. Florence:geo:-118.3182044,33.9747784
END:VEVENT
END:VCALENDAR