BEGIN:VCALENDAR
VERSION:2.0
PRODID:-//Park Mesa Heights Community Council - ECPv6.15.16//NONSGML v1.0//EN
CALSCALE:GREGORIAN
METHOD:PUBLISH
X-WR-CALNAME:Park Mesa Heights Community Council
X-ORIGINAL-URL:https://parkmesaheights.org
X-WR-CALDESC:Events for Park Mesa Heights Community Council
REFRESH-INTERVAL;VALUE=DURATION:PT1H
X-Robots-Tag:noindex
X-PUBLISHED-TTL:PT1H
BEGIN:VTIMEZONE
TZID:America/Los_Angeles
BEGIN:DAYLIGHT
TZOFFSETFROM:-0800
TZOFFSETTO:-0700
TZNAME:PDT
DTSTART:20220313T100000
END:DAYLIGHT
BEGIN:STANDARD
TZOFFSETFROM:-0700
TZOFFSETTO:-0800
TZNAME:PST
DTSTART:20221106T090000
END:STANDARD
BEGIN:DAYLIGHT
TZOFFSETFROM:-0800
TZOFFSETTO:-0700
TZNAME:PDT
DTSTART:20230312T100000
END:DAYLIGHT
BEGIN:STANDARD
TZOFFSETFROM:-0700
TZOFFSETTO:-0800
TZNAME:PST
DTSTART:20231105T090000
END:STANDARD
BEGIN:DAYLIGHT
TZOFFSETFROM:-0800
TZOFFSETTO:-0700
TZNAME:PDT
DTSTART:20240310T100000
END:DAYLIGHT
BEGIN:STANDARD
TZOFFSETFROM:-0700
TZOFFSETTO:-0800
TZNAME:PST
DTSTART:20241103T090000
END:STANDARD
END:VTIMEZONE
BEGIN:VEVENT
DTSTART;TZID=America/Los_Angeles:20230114T100000
DTEND;TZID=America/Los_Angeles:20230114T120000
DTSTAMP:20260421T135653
CREATED:20221118T172439Z
LAST-MODIFIED:20230118T204226Z
UID:7788-1673690400-1673697600@parkmesaheights.org
SUMMARY:General Meeting
DESCRIPTION:Join us for our first General Meeting of the Park Mesa Heights Community Council on January 14\, 10am when we will discuss our upcoming elections. \nJanuary 14\, 2023 PMCC General Agenda \nJoin Zoom Meeting Online or By Phone\nhttps://us02web.zoom.us/j/86355460067\nWebinar ID: 863 5546 0067\nDial (669) 900-6833 or (888) 475 4499 (Toll Free)\n(Enter Webinar ID & Press #)
URL:https://parkmesaheights.org/calendar/general-meeting-7/
CATEGORIES:Board,PMHCC
END:VEVENT
BEGIN:VEVENT
DTSTART;TZID=America/Los_Angeles:20230117T180000
DTEND;TZID=America/Los_Angeles:20230117T200000
DTSTAMP:20260421T135653
CREATED:20221118T172547Z
LAST-MODIFIED:20230118T204312Z
UID:7801-1673978400-1673985600@parkmesaheights.org
SUMMARY:Board Meeting
DESCRIPTION:Join Zoom Meeting Online or By Phone\nhttps://us02web.zoom.us/j/83943530767\nWebinar ID: 839 4353 0767\nDial (669) 900-6833 or (888) 475 4499 (Toll Free)\n(Enter Webinar ID & Press #) \nJanuary 17\, 2023 Board Agenda
URL:https://parkmesaheights.org/calendar/board-meeting-5/
CATEGORIES:Board,PMHCC
END:VEVENT
BEGIN:VEVENT
DTSTART;TZID=America/Los_Angeles:20230120T183000
DTEND;TZID=America/Los_Angeles:20230120T203000
DTSTAMP:20260421T135653
CREATED:20230120T005910Z
LAST-MODIFIED:20230120T010059Z
UID:8782-1674239400-1674246600@parkmesaheights.org
SUMMARY:Special Meeting
DESCRIPTION:Join us for a specially scheduled meeting on January 20\, 6:30pm. \nJanuary 20\, 2023 Special Meeting Agenda \nJoin Zoom Meeting Online or By Phone\nhttps://us02web.zoom.us/j/81380045485\nWebinar ID: 839 4353 0767\nDial (669) 900-6833 or (888) 475 4499 (Toll Free)\n(Enter Webinar ID & Press #)
URL:https://parkmesaheights.org/calendar/special-meeting-22/
CATEGORIES:Board,PMHCC
END:VEVENT
END:VCALENDAR