BEGIN:VCALENDAR
VERSION:2.0
PRODID:-//Park Mesa Heights Community Council - ECPv6.15.16//NONSGML v1.0//EN
CALSCALE:GREGORIAN
METHOD:PUBLISH
X-WR-CALNAME:Park Mesa Heights Community Council
X-ORIGINAL-URL:https://parkmesaheights.org
X-WR-CALDESC:Events for Park Mesa Heights Community Council
REFRESH-INTERVAL;VALUE=DURATION:PT1H
X-Robots-Tag:noindex
X-PUBLISHED-TTL:PT1H
BEGIN:VTIMEZONE
TZID:America/Los_Angeles
BEGIN:DAYLIGHT
TZOFFSETFROM:-0800
TZOFFSETTO:-0700
TZNAME:PDT
DTSTART:20220313T100000
END:DAYLIGHT
BEGIN:STANDARD
TZOFFSETFROM:-0700
TZOFFSETTO:-0800
TZNAME:PST
DTSTART:20221106T090000
END:STANDARD
BEGIN:DAYLIGHT
TZOFFSETFROM:-0800
TZOFFSETTO:-0700
TZNAME:PDT
DTSTART:20230312T100000
END:DAYLIGHT
BEGIN:STANDARD
TZOFFSETFROM:-0700
TZOFFSETTO:-0800
TZNAME:PST
DTSTART:20231105T090000
END:STANDARD
BEGIN:DAYLIGHT
TZOFFSETFROM:-0800
TZOFFSETTO:-0700
TZNAME:PDT
DTSTART:20240310T100000
END:DAYLIGHT
BEGIN:STANDARD
TZOFFSETFROM:-0700
TZOFFSETTO:-0800
TZNAME:PST
DTSTART:20241103T090000
END:STANDARD
END:VTIMEZONE
BEGIN:VEVENT
DTSTART;TZID=America/Los_Angeles:20230513T100000
DTEND;TZID=America/Los_Angeles:20230513T120000
DTSTAMP:20260421T082212
CREATED:20221118T172439Z
LAST-MODIFIED:20230510T174911Z
UID:7793-1683972000-1683979200@parkmesaheights.org
SUMMARY:General Meeting
DESCRIPTION:Join us for the next Park Mesa Heights Community Council Meeting May 13\, 10am at 3125 W. 54th Street\, Los Angeles\, 90043.
URL:https://parkmesaheights.org/calendar/general-meeting-2023-05-13/
CATEGORIES:Board,PMHCC
END:VEVENT
BEGIN:VEVENT
DTSTART;TZID=America/Los_Angeles:20230523T183000
DTEND;TZID=America/Los_Angeles:20230523T200000
DTSTAMP:20260421T082212
CREATED:20230522T193110Z
LAST-MODIFIED:20230523T155123Z
UID:10223-1684866600-1684872000@parkmesaheights.org
SUMMARY:Special Meeting
DESCRIPTION:Join us for a specially scheduled PMHCC Board Meeting Tuesday\, May 23\, 6:30pm at 3125 W. 54th Street
URL:https://parkmesaheights.org/calendar/special-meeting-23/
LOCATION:Christ Temple Church\, 3125 W. 54th Street\, Los Angeles
CATEGORIES:Board,PMHCC
GEO:33.99334;-118.3278849
X-APPLE-STRUCTURED-LOCATION;VALUE=URI;X-ADDRESS=Christ Temple Church 3125 W. 54th Street Los Angeles;X-APPLE-RADIUS=500;X-TITLE=3125 W. 54th Street:geo:-118.3278849,33.99334
END:VEVENT
END:VCALENDAR