BEGIN:VCALENDAR
VERSION:2.0
PRODID:-//Park Mesa Heights Community Council - ECPv6.15.16//NONSGML v1.0//EN
CALSCALE:GREGORIAN
METHOD:PUBLISH
X-WR-CALNAME:Park Mesa Heights Community Council
X-ORIGINAL-URL:https://parkmesaheights.org
X-WR-CALDESC:Events for Park Mesa Heights Community Council
REFRESH-INTERVAL;VALUE=DURATION:PT1H
X-Robots-Tag:noindex
X-PUBLISHED-TTL:PT1H
BEGIN:VTIMEZONE
TZID:America/Los_Angeles
BEGIN:DAYLIGHT
TZOFFSETFROM:-0800
TZOFFSETTO:-0700
TZNAME:PDT
DTSTART:20220313T100000
END:DAYLIGHT
BEGIN:STANDARD
TZOFFSETFROM:-0700
TZOFFSETTO:-0800
TZNAME:PST
DTSTART:20221106T090000
END:STANDARD
BEGIN:DAYLIGHT
TZOFFSETFROM:-0800
TZOFFSETTO:-0700
TZNAME:PDT
DTSTART:20230312T100000
END:DAYLIGHT
BEGIN:STANDARD
TZOFFSETFROM:-0700
TZOFFSETTO:-0800
TZNAME:PST
DTSTART:20231105T090000
END:STANDARD
BEGIN:DAYLIGHT
TZOFFSETFROM:-0800
TZOFFSETTO:-0700
TZNAME:PDT
DTSTART:20240310T100000
END:DAYLIGHT
BEGIN:STANDARD
TZOFFSETFROM:-0700
TZOFFSETTO:-0800
TZNAME:PST
DTSTART:20241103T090000
END:STANDARD
END:VTIMEZONE
BEGIN:VEVENT
DTSTART;TZID=America/Los_Angeles:20230607T180000
DTEND;TZID=America/Los_Angeles:20230607T200000
DTSTAMP:20260421T064230
CREATED:20230606T204427Z
LAST-MODIFIED:20230606T204427Z
UID:10245-1686160800-1686168000@parkmesaheights.org
SUMMARY:Special Meeting
DESCRIPTION:Join us for a specially scheduled meeting of the Park Mesa Heights Community Council on Wednesday\, June 7\, 6pm.
URL:https://parkmesaheights.org/calendar/special-meeting-24/
LOCATION:Christ Temple Church\, 3125 W. 54th Street\, Los Angeles
CATEGORIES:Board,PMHCC
GEO:33.99334;-118.3278849
X-APPLE-STRUCTURED-LOCATION;VALUE=URI;X-ADDRESS=Christ Temple Church 3125 W. 54th Street Los Angeles;X-APPLE-RADIUS=500;X-TITLE=3125 W. 54th Street:geo:-118.3278849,33.99334
END:VEVENT
BEGIN:VEVENT
DTSTART;TZID=America/Los_Angeles:20230610T100000
DTEND;TZID=America/Los_Angeles:20230610T120000
DTSTAMP:20260421T064230
CREATED:20221118T172439Z
LAST-MODIFIED:20230608T174834Z
UID:7794-1686391200-1686398400@parkmesaheights.org
SUMMARY:General Meeting
DESCRIPTION:Join us for the next Park Mesa Heights Community Council Meeting June 10\, 10am at 3125 W. 54th Street. \n 
URL:https://parkmesaheights.org/calendar/general-meeting-7-2023-06-10/
CATEGORIES:Board,PMHCC
END:VEVENT
BEGIN:VEVENT
DTSTART;TZID=America/Los_Angeles:20230626T180000
DTEND;TZID=America/Los_Angeles:20230626T200000
DTSTAMP:20260421T064230
CREATED:20230621T180602Z
LAST-MODIFIED:20230623T185752Z
UID:10288-1687802400-1687809600@parkmesaheights.org
SUMMARY:Special Meeting
DESCRIPTION:Join us for two specially scheduled meetings of the Park Mesa Heights Community Council on June 26\, 6pm. \nOn our agendas: \n\nApproval of Monthly Expenditure Reports\nFood Desert Presentation (in our second special meeting)\n\n 
URL:https://parkmesaheights.org/calendar/special-meeting-25/
LOCATION:Christ Temple Church\, 3125 W. 54th Street\, Los Angeles
CATEGORIES:Board,PMHCC
GEO:33.99334;-118.3278849
X-APPLE-STRUCTURED-LOCATION;VALUE=URI;X-ADDRESS=Christ Temple Church 3125 W. 54th Street Los Angeles;X-APPLE-RADIUS=500;X-TITLE=3125 W. 54th Street:geo:-118.3278849,33.99334
END:VEVENT
BEGIN:VEVENT
DTSTART;TZID=America/Los_Angeles:20230626T184500
DTEND;TZID=America/Los_Angeles:20230626T200000
DTSTAMP:20260421T064230
CREATED:20230623T184607Z
LAST-MODIFIED:20230623T185708Z
UID:10296-1687805100-1687809600@parkmesaheights.org
SUMMARY:Special Meeting: Food Desert
DESCRIPTION:We continue with a second Special Meeting at about 6:45pm where we will hear a presentation on food deserts.
URL:https://parkmesaheights.org/calendar/special-meeting-26/
LOCATION:Christ Temple Church\, 3125 W. 54th Street\, Los Angeles
CATEGORIES:Board,PMHCC
GEO:33.99334;-118.3278849
X-APPLE-STRUCTURED-LOCATION;VALUE=URI;X-ADDRESS=Christ Temple Church 3125 W. 54th Street Los Angeles;X-APPLE-RADIUS=500;X-TITLE=3125 W. 54th Street:geo:-118.3278849,33.99334
END:VEVENT
END:VCALENDAR