BEGIN:VCALENDAR
VERSION:2.0
PRODID:-//Park Mesa Heights Community Council - ECPv6.15.16//NONSGML v1.0//EN
CALSCALE:GREGORIAN
METHOD:PUBLISH
X-WR-CALNAME:Park Mesa Heights Community Council
X-ORIGINAL-URL:https://parkmesaheights.org
X-WR-CALDESC:Events for Park Mesa Heights Community Council
REFRESH-INTERVAL;VALUE=DURATION:PT1H
X-Robots-Tag:noindex
X-PUBLISHED-TTL:PT1H
BEGIN:VTIMEZONE
TZID:America/Los_Angeles
BEGIN:DAYLIGHT
TZOFFSETFROM:-0800
TZOFFSETTO:-0700
TZNAME:PDT
DTSTART:20220313T100000
END:DAYLIGHT
BEGIN:STANDARD
TZOFFSETFROM:-0700
TZOFFSETTO:-0800
TZNAME:PST
DTSTART:20221106T090000
END:STANDARD
BEGIN:DAYLIGHT
TZOFFSETFROM:-0800
TZOFFSETTO:-0700
TZNAME:PDT
DTSTART:20230312T100000
END:DAYLIGHT
BEGIN:STANDARD
TZOFFSETFROM:-0700
TZOFFSETTO:-0800
TZNAME:PST
DTSTART:20231105T090000
END:STANDARD
BEGIN:DAYLIGHT
TZOFFSETFROM:-0800
TZOFFSETTO:-0700
TZNAME:PDT
DTSTART:20240310T100000
END:DAYLIGHT
BEGIN:STANDARD
TZOFFSETFROM:-0700
TZOFFSETTO:-0800
TZNAME:PST
DTSTART:20241103T090000
END:STANDARD
END:VTIMEZONE
BEGIN:VEVENT
DTSTART;TZID=America/Los_Angeles:20230206T190000
DTEND;TZID=America/Los_Angeles:20230206T203000
DTSTAMP:20260422T011750
CREATED:20230113T175548Z
LAST-MODIFIED:20230203T175402Z
UID:8652-1675710000-1675715400@parkmesaheights.org
SUMMARY:Planning Land Use and Beautification Meeting
DESCRIPTION:Join us for the next PMHCC Planning\, Land Use & Beautification Committee Meeting February 6\, 7pm. \nJoin Zoom Meeting Online or By Phone\nhttps://us02web.zoom.us/j/84776352559\nWebinar ID: 847 7635 2559\nDial (669) 900-6833 or (888) 475 4499 (Toll Free)\n(Enter Webinar ID & Press #) \n 
URL:https://parkmesaheights.org/calendar/planning-land-use-and-beautification-meeting-3/
CATEGORIES:Planning Land Use Beautification
END:VEVENT
BEGIN:VEVENT
DTSTART;TZID=America/Los_Angeles:20230220T190000
DTEND;TZID=America/Los_Angeles:20230220T203000
DTSTAMP:20260422T011750
CREATED:20230217T233751Z
LAST-MODIFIED:20230217T233751Z
UID:9238-1676919600-1676925000@parkmesaheights.org
SUMMARY:Planning\, Land Use and Beautification Meeting
DESCRIPTION:Join us for the next Planning\, Land use and Beautification Committee Meeting on February 20\, 7pm. \nJoin Zoom Meeting Online or By Phone\nhttps://us02web.zoom.us/j/84776352559\nWebinar ID: 847 7635 2559\nDial (669) 900-6833 or (888) 475 4499 (Toll Free)\n(Enter Webinar ID & Press #)
URL:https://parkmesaheights.org/calendar/planning-land-use-and-beautification-meeting-4/
CATEGORIES:Planning Land Use Beautification
END:VEVENT
END:VCALENDAR