BEGIN:VCALENDAR
VERSION:2.0
PRODID:-//Park Mesa Heights Community Council - ECPv6.15.16//NONSGML v1.0//EN
CALSCALE:GREGORIAN
METHOD:PUBLISH
X-ORIGINAL-URL:https://parkmesaheights.org
X-WR-CALDESC:Events for Park Mesa Heights Community Council
REFRESH-INTERVAL;VALUE=DURATION:PT1H
X-Robots-Tag:noindex
X-PUBLISHED-TTL:PT1H
BEGIN:VTIMEZONE
TZID:America/Los_Angeles
BEGIN:DAYLIGHT
TZOFFSETFROM:-0800
TZOFFSETTO:-0700
TZNAME:PDT
DTSTART:20220313T100000
END:DAYLIGHT
BEGIN:STANDARD
TZOFFSETFROM:-0700
TZOFFSETTO:-0800
TZNAME:PST
DTSTART:20221106T090000
END:STANDARD
BEGIN:DAYLIGHT
TZOFFSETFROM:-0800
TZOFFSETTO:-0700
TZNAME:PDT
DTSTART:20230312T100000
END:DAYLIGHT
BEGIN:STANDARD
TZOFFSETFROM:-0700
TZOFFSETTO:-0800
TZNAME:PST
DTSTART:20231105T090000
END:STANDARD
BEGIN:DAYLIGHT
TZOFFSETFROM:-0800
TZOFFSETTO:-0700
TZNAME:PDT
DTSTART:20240310T100000
END:DAYLIGHT
BEGIN:STANDARD
TZOFFSETFROM:-0700
TZOFFSETTO:-0800
TZNAME:PST
DTSTART:20241103T090000
END:STANDARD
END:VTIMEZONE
BEGIN:VEVENT
DTSTART;TZID=America/Los_Angeles:20230807T190000
DTEND;TZID=America/Los_Angeles:20230807T203000
DTSTAMP:20260421T160332
CREATED:20230710T202116Z
LAST-MODIFIED:20230804T174607Z
UID:10342-1691434800-1691440200@parkmesaheights.org
SUMMARY:Planning\, Land Use Management & Beautification Committee Meeting
DESCRIPTION:Join us for the next PMHCC Planning\, Land Use Management & Beautification Committee Meeting on Monday\, August 7\, 7pm at Christ Church Temple\, 3125 W. 54th Street. \n 
URL:https://parkmesaheights.org/calendar/planning-land-use-management-beautification-committee-meeting-4-2023-08-07/
LOCATION:Christ Temple Church\, 3125 W. 54th Street\, Los Angeles
CATEGORIES:Planning Land Use Beautification
GEO:33.99334;-118.3278849
X-APPLE-STRUCTURED-LOCATION;VALUE=URI;X-ADDRESS=Christ Temple Church 3125 W. 54th Street Los Angeles;X-APPLE-RADIUS=500;X-TITLE=3125 W. 54th Street:geo:-118.3278849,33.99334
END:VEVENT
BEGIN:VEVENT
DTSTART;TZID=America/Los_Angeles:20230821T183000
DTEND;TZID=America/Los_Angeles:20230821T203000
DTSTAMP:20260421T160332
CREATED:20230710T202116Z
LAST-MODIFIED:20230821T232819Z
UID:10343-1692642600-1692649800@parkmesaheights.org
SUMMARY:Planning\, Land Use Management & Beautification Committee Meeting
DESCRIPTION:8.21.23 PMHCC PLUMB Meeting Agenda
URL:https://parkmesaheights.org/calendar/planning-land-use-management-beautification-committee-meeting-4-2023-08-21/
LOCATION:Christ Temple Church\, 3125 W. 54th Street\, Los Angeles
CATEGORIES:Planning Land Use Beautification,PMHCC
GEO:33.99334;-118.3278849
X-APPLE-STRUCTURED-LOCATION;VALUE=URI;X-ADDRESS=Christ Temple Church 3125 W. 54th Street Los Angeles;X-APPLE-RADIUS=500;X-TITLE=3125 W. 54th Street:geo:-118.3278849,33.99334
END:VEVENT
END:VCALENDAR