BEGIN:VCALENDAR
VERSION:2.0
PRODID:-//Park Mesa Heights Community Council - ECPv6.15.16//NONSGML v1.0//EN
CALSCALE:GREGORIAN
METHOD:PUBLISH
X-WR-CALNAME:Park Mesa Heights Community Council
X-ORIGINAL-URL:https://parkmesaheights.org
X-WR-CALDESC:Events for Park Mesa Heights Community Council
REFRESH-INTERVAL;VALUE=DURATION:PT1H
X-Robots-Tag:noindex
X-PUBLISHED-TTL:PT1H
BEGIN:VTIMEZONE
TZID:America/Los_Angeles
BEGIN:DAYLIGHT
TZOFFSETFROM:-0800
TZOFFSETTO:-0700
TZNAME:PDT
DTSTART:20220313T100000
END:DAYLIGHT
BEGIN:STANDARD
TZOFFSETFROM:-0700
TZOFFSETTO:-0800
TZNAME:PST
DTSTART:20221106T090000
END:STANDARD
BEGIN:DAYLIGHT
TZOFFSETFROM:-0800
TZOFFSETTO:-0700
TZNAME:PDT
DTSTART:20230312T100000
END:DAYLIGHT
BEGIN:STANDARD
TZOFFSETFROM:-0700
TZOFFSETTO:-0800
TZNAME:PST
DTSTART:20231105T090000
END:STANDARD
BEGIN:DAYLIGHT
TZOFFSETFROM:-0800
TZOFFSETTO:-0700
TZNAME:PDT
DTSTART:20240310T100000
END:DAYLIGHT
BEGIN:STANDARD
TZOFFSETFROM:-0700
TZOFFSETTO:-0800
TZNAME:PST
DTSTART:20241103T090000
END:STANDARD
END:VTIMEZONE
BEGIN:VEVENT
DTSTART;TZID=America/Los_Angeles:20231002T190000
DTEND;TZID=America/Los_Angeles:20231002T203000
DTSTAMP:20260421T125515
CREATED:20230710T202116Z
LAST-MODIFIED:20230930T001002Z
UID:10346-1696273200-1696278600@parkmesaheights.org
SUMMARY:Planning\, Land Use Management & Beautification Committee Meeting
DESCRIPTION:Join us for the next PMHCC Planning Land Use Management and Beautification Committee Meeting\, October 2\, 7pm\, at the AFIBA Center LA\, 5726 Crenshaw Blvd.
URL:https://parkmesaheights.org/calendar/planning-land-use-management-beautification-committee-meeting-2023-10-02/
LOCATION:AFIBA Center LA\, 5726 Crenshaw Blvd\, Los Angeles\, 90043
CATEGORIES:Planning Land Use Beautification
GEO:33.9900331;-118.330282
X-APPLE-STRUCTURED-LOCATION;VALUE=URI;X-ADDRESS=AFIBA Center LA 5726 Crenshaw Blvd Los Angeles 90043;X-APPLE-RADIUS=500;X-TITLE=5726 Crenshaw Blvd:geo:-118.330282,33.9900331
END:VEVENT
BEGIN:VEVENT
DTSTART;TZID=America/Los_Angeles:20231016T190000
DTEND;TZID=America/Los_Angeles:20231016T203000
DTSTAMP:20260421T125515
CREATED:20230710T202116Z
LAST-MODIFIED:20231016T195103Z
UID:10347-1697482800-1697488200@parkmesaheights.org
SUMMARY:Planning\, Land Use Management & Beautification Committee Meeting
DESCRIPTION:The Park Mesa Heights Community Council Planning\, Land Use Management & Beautification Committee will meet Monday\, October 16\, 7pm at the AFIBA Center LA\, 5726 Crenshaw Blvd.
URL:https://parkmesaheights.org/calendar/planning-land-use-management-beautification-committee-meeting-2023-10-16/
LOCATION:Christ Temple Church\, 3125 W. 54th Street\, Los Angeles
CATEGORIES:Planning Land Use Beautification,PMHCC
GEO:33.99334;-118.3278849
X-APPLE-STRUCTURED-LOCATION;VALUE=URI;X-ADDRESS=Christ Temple Church 3125 W. 54th Street Los Angeles;X-APPLE-RADIUS=500;X-TITLE=3125 W. 54th Street:geo:-118.3278849,33.99334
END:VEVENT
END:VCALENDAR