BEGIN:VCALENDAR
VERSION:2.0
PRODID:-//Park Mesa Heights Community Council - ECPv6.15.16//NONSGML v1.0//EN
CALSCALE:GREGORIAN
METHOD:PUBLISH
X-ORIGINAL-URL:https://parkmesaheights.org
X-WR-CALDESC:Events for Park Mesa Heights Community Council
REFRESH-INTERVAL;VALUE=DURATION:PT1H
X-Robots-Tag:noindex
X-PUBLISHED-TTL:PT1H
BEGIN:VTIMEZONE
TZID:America/Los_Angeles
BEGIN:DAYLIGHT
TZOFFSETFROM:-0800
TZOFFSETTO:-0700
TZNAME:PDT
DTSTART:20230312T100000
END:DAYLIGHT
BEGIN:STANDARD
TZOFFSETFROM:-0700
TZOFFSETTO:-0800
TZNAME:PST
DTSTART:20231105T090000
END:STANDARD
BEGIN:DAYLIGHT
TZOFFSETFROM:-0800
TZOFFSETTO:-0700
TZNAME:PDT
DTSTART:20240310T100000
END:DAYLIGHT
BEGIN:STANDARD
TZOFFSETFROM:-0700
TZOFFSETTO:-0800
TZNAME:PST
DTSTART:20241103T090000
END:STANDARD
BEGIN:DAYLIGHT
TZOFFSETFROM:-0800
TZOFFSETTO:-0700
TZNAME:PDT
DTSTART:20250309T100000
END:DAYLIGHT
BEGIN:STANDARD
TZOFFSETFROM:-0700
TZOFFSETTO:-0800
TZNAME:PST
DTSTART:20251102T090000
END:STANDARD
END:VTIMEZONE
BEGIN:VEVENT
DTSTART;TZID=America/Los_Angeles:20240401T190000
DTEND;TZID=America/Los_Angeles:20240401T203000
DTSTAMP:20260421T041743
CREATED:20240329T190956Z
LAST-MODIFIED:20240329T190956Z
UID:11031-1711998000-1712003400@parkmesaheights.org
SUMMARY:Planning\, Land Use Management and Beautification Committee Meeting
DESCRIPTION:Join us for the PMHCC Planning\, Land Use Management and Beautification Committee Meeting on April 1\, 7pm at 5730 Crenshaw.
URL:https://parkmesaheights.org/calendar/planning-land-use-management-and-beautification-committee-meeting-3/
LOCATION:5730 Crenshaw Blvd\, 5730 Crenshaw Blvd\, Los Angeles\, 90043
CATEGORIES:Planning Land Use Beautification,PMHCC
GEO:33.9900079;-118.3302813
X-APPLE-STRUCTURED-LOCATION;VALUE=URI;X-ADDRESS=5730 Crenshaw Blvd 5730 Crenshaw Blvd Los Angeles 90043;X-APPLE-RADIUS=500;X-TITLE=5730 Crenshaw Blvd:geo:-118.3302813,33.9900079
END:VEVENT
BEGIN:VEVENT
DTSTART;TZID=America/Los_Angeles:20240415T183000
DTEND;TZID=America/Los_Angeles:20240415T200000
DTSTAMP:20260421T041743
CREATED:20240412T000725Z
LAST-MODIFIED:20240412T000725Z
UID:11054-1713205800-1713211200@parkmesaheights.org
SUMMARY:PLUMB Meeting Cancelled
DESCRIPTION:
URL:https://parkmesaheights.org/calendar/plumb-meeting-cancelled/
CATEGORIES:Planning Land Use Beautification,PMHCC
END:VEVENT
BEGIN:VEVENT
DTSTART;TZID=America/Los_Angeles:20240429T180000
DTEND;TZID=America/Los_Angeles:20240429T200000
DTSTAMP:20260421T041743
CREATED:20240426T224940Z
LAST-MODIFIED:20240426T224940Z
UID:11100-1714413600-1714420800@parkmesaheights.org
SUMMARY:Planning Land Use Management and Beautification Committee Meeting
DESCRIPTION:Join us for the next Park Mesa Heights Planning\, Land Use Management and Beautification Committee Meeting on Monday\, April 29\, 6pm at 5730 Crenshaw Blvd.
URL:https://parkmesaheights.org/calendar/planning-land-use-management-and-beautification-committee-meeting-4/
LOCATION:5730 Crenshaw Blvd\, 5730 Crenshaw Blvd\, Los Angeles\, 90043
CATEGORIES:Planning Land Use Beautification,PMHCC
GEO:33.9900079;-118.3302813
X-APPLE-STRUCTURED-LOCATION;VALUE=URI;X-ADDRESS=5730 Crenshaw Blvd 5730 Crenshaw Blvd Los Angeles 90043;X-APPLE-RADIUS=500;X-TITLE=5730 Crenshaw Blvd:geo:-118.3302813,33.9900079
END:VEVENT
END:VCALENDAR