BEGIN:VCALENDAR
VERSION:2.0
PRODID:-//Park Mesa Heights Community Council - ECPv6.15.16//NONSGML v1.0//EN
CALSCALE:GREGORIAN
METHOD:PUBLISH
X-WR-CALNAME:Park Mesa Heights Community Council
X-ORIGINAL-URL:https://parkmesaheights.org
X-WR-CALDESC:Events for Park Mesa Heights Community Council
REFRESH-INTERVAL;VALUE=DURATION:PT1H
X-Robots-Tag:noindex
X-PUBLISHED-TTL:PT1H
BEGIN:VTIMEZONE
TZID:America/Los_Angeles
BEGIN:DAYLIGHT
TZOFFSETFROM:-0800
TZOFFSETTO:-0700
TZNAME:PDT
DTSTART:20190310T100000
END:DAYLIGHT
BEGIN:STANDARD
TZOFFSETFROM:-0700
TZOFFSETTO:-0800
TZNAME:PST
DTSTART:20191103T090000
END:STANDARD
BEGIN:DAYLIGHT
TZOFFSETFROM:-0800
TZOFFSETTO:-0700
TZNAME:PDT
DTSTART:20200308T100000
END:DAYLIGHT
BEGIN:STANDARD
TZOFFSETFROM:-0700
TZOFFSETTO:-0800
TZNAME:PST
DTSTART:20201101T090000
END:STANDARD
BEGIN:DAYLIGHT
TZOFFSETFROM:-0800
TZOFFSETTO:-0700
TZNAME:PDT
DTSTART:20210314T100000
END:DAYLIGHT
BEGIN:STANDARD
TZOFFSETFROM:-0700
TZOFFSETTO:-0800
TZNAME:PST
DTSTART:20211107T090000
END:STANDARD
END:VTIMEZONE
BEGIN:VEVENT
DTSTART;TZID=America/Los_Angeles:20200826T100000
DTEND;TZID=America/Los_Angeles:20200826T170000
DTSTAMP:20260422T155217
CREATED:20200826T213045Z
LAST-MODIFIED:20200827T002440Z
UID:2768-1598436000-1598461200@parkmesaheights.org
SUMMARY:Census Mobile Center
DESCRIPTION:Did you know that each resident that completes the 2020 census brings approximately $1\,950 in federal funding per person\, per year? That’s $19\,500 over a decade to your community for use in:\n\n\n• Law enforcement\, fire departments\, and other emergency services\n• Schools\, school lunches\, housing\n• Healthcare and hospitals\n• Public transit system and road repair\n• Vital services for families\, seniors\, and children such as Medicaid\, Head Start\, and Supplemental Nutrition Assistance Program (SNAP)\n• Block grants for community mental health services\n\n\nCommunities like ours have been historically undercounted
URL:https://parkmesaheights.org/calendar/census-mobile-center/2020-08-26/
CATEGORIES:Community
END:VEVENT
END:VCALENDAR