BEGIN:VCALENDAR
VERSION:2.0
PRODID:-//Park Mesa Heights Community Council - ECPv6.15.16//NONSGML v1.0//EN
CALSCALE:GREGORIAN
METHOD:PUBLISH
X-ORIGINAL-URL:https://parkmesaheights.org
X-WR-CALDESC:Events for Park Mesa Heights Community Council
REFRESH-INTERVAL;VALUE=DURATION:PT1H
X-Robots-Tag:noindex
X-PUBLISHED-TTL:PT1H
BEGIN:VTIMEZONE
TZID:America/Los_Angeles
BEGIN:DAYLIGHT
TZOFFSETFROM:-0800
TZOFFSETTO:-0700
TZNAME:PDT
DTSTART:20200308T100000
END:DAYLIGHT
BEGIN:STANDARD
TZOFFSETFROM:-0700
TZOFFSETTO:-0800
TZNAME:PST
DTSTART:20201101T090000
END:STANDARD
BEGIN:DAYLIGHT
TZOFFSETFROM:-0800
TZOFFSETTO:-0700
TZNAME:PDT
DTSTART:20210314T100000
END:DAYLIGHT
BEGIN:STANDARD
TZOFFSETFROM:-0700
TZOFFSETTO:-0800
TZNAME:PST
DTSTART:20211107T090000
END:STANDARD
BEGIN:DAYLIGHT
TZOFFSETFROM:-0800
TZOFFSETTO:-0700
TZNAME:PDT
DTSTART:20220313T100000
END:DAYLIGHT
BEGIN:STANDARD
TZOFFSETFROM:-0700
TZOFFSETTO:-0800
TZNAME:PST
DTSTART:20221106T090000
END:STANDARD
END:VTIMEZONE
BEGIN:VEVENT
DTSTART;TZID=America/Los_Angeles:20210710T100000
DTEND;TZID=America/Los_Angeles:20210710T140000
DTSTAMP:20260421T103433
CREATED:20210702T222423Z
LAST-MODIFIED:20210702T222423Z
UID:4229-1625911200-1625925600@parkmesaheights.org
SUMMARY:Free Trees
DESCRIPTION:Fruit trees are back! Pick up a FREE fruit or shade tree this July at one of Koreatown Youth and Community Center’s Curbside Adoptions in the Pico Union or Crenshaw neighborhoods on July 10th & 17th! \nRegister here:\nhttps://tinyurl.com/KYCCJuly10\nhttps://tinyurl.com/KYCCJuly17 \nOpen to all LA City residents!\nReminders: There is 7 tree limit per household. Trees ordered from Curbside Adoptions are for pick-up ONLY.\nOur order form works best on Google Chrome browsers on PCs/laptops. Please email bpw.tree.request@lacity.org any questions/concerns.
URL:https://parkmesaheights.org/calendar/free-trees/2021-07-10/
CATEGORIES:Community
END:VEVENT
END:VCALENDAR