BEGIN:VCALENDAR
VERSION:2.0
PRODID:-//Park Mesa Heights Community Council - ECPv6.15.16//NONSGML v1.0//EN
CALSCALE:GREGORIAN
METHOD:PUBLISH
X-WR-CALNAME:Park Mesa Heights Community Council
X-ORIGINAL-URL:https://parkmesaheights.org
X-WR-CALDESC:Events for Park Mesa Heights Community Council
REFRESH-INTERVAL;VALUE=DURATION:PT1H
X-Robots-Tag:noindex
X-PUBLISHED-TTL:PT1H
BEGIN:VTIMEZONE
TZID:America/Los_Angeles
BEGIN:DAYLIGHT
TZOFFSETFROM:-0800
TZOFFSETTO:-0700
TZNAME:PDT
DTSTART:20230312T100000
END:DAYLIGHT
BEGIN:STANDARD
TZOFFSETFROM:-0700
TZOFFSETTO:-0800
TZNAME:PST
DTSTART:20231105T090000
END:STANDARD
BEGIN:DAYLIGHT
TZOFFSETFROM:-0800
TZOFFSETTO:-0700
TZNAME:PDT
DTSTART:20240310T100000
END:DAYLIGHT
BEGIN:STANDARD
TZOFFSETFROM:-0700
TZOFFSETTO:-0800
TZNAME:PST
DTSTART:20241103T090000
END:STANDARD
BEGIN:DAYLIGHT
TZOFFSETFROM:-0800
TZOFFSETTO:-0700
TZNAME:PDT
DTSTART:20250309T100000
END:DAYLIGHT
BEGIN:STANDARD
TZOFFSETFROM:-0700
TZOFFSETTO:-0800
TZNAME:PST
DTSTART:20251102T090000
END:STANDARD
END:VTIMEZONE
BEGIN:VEVENT
DTSTART;TZID=America/Los_Angeles:20240901T120000
DTEND;TZID=America/Los_Angeles:20240901T190000
DTSTAMP:20260420T050133
CREATED:20240829T163621Z
LAST-MODIFIED:20240829T163621Z
UID:11370-1725192000-1725217200@parkmesaheights.org
SUMMARY:Caribbean Heritage Festival
DESCRIPTION:
URL:https://parkmesaheights.org/calendar/caribbean-heritage-festival/
LOCATION:Baldwin Hills Crenshaw Plaza\, 3650 W. Martin Luther King Jr. Blvd\, Los Angeles\, 90008
CATEGORIES:Community
GEO:34.0110086;-118.3364738
X-APPLE-STRUCTURED-LOCATION;VALUE=URI;X-ADDRESS=Baldwin Hills Crenshaw Plaza 3650 W. Martin Luther King Jr. Blvd Los Angeles 90008;X-APPLE-RADIUS=500;X-TITLE=3650 W. Martin Luther King Jr. Blvd:geo:-118.3364738,34.0110086
END:VEVENT
BEGIN:VEVENT
DTSTART;TZID=America/Los_Angeles:20240902T183000
DTEND;TZID=America/Los_Angeles:20240902T193000
DTSTAMP:20260420T050133
CREATED:20240829T161711Z
LAST-MODIFIED:20240829T161711Z
UID:11354-1725301800-1725305400@parkmesaheights.org
SUMMARY:Planning\, Land Use Management & Beautification Committee Meeting Cancelled
DESCRIPTION:
URL:https://parkmesaheights.org/calendar/planning-land-use-management-beautification-committee-meeting-cancelled/
CATEGORIES:Planning Land Use Beautification,PMHCC
END:VEVENT
BEGIN:VEVENT
DTSTART;TZID=America/Los_Angeles:20240906T180000
DTEND;TZID=America/Los_Angeles:20240906T220000
DTSTAMP:20260420T050133
CREATED:20240906T165809Z
LAST-MODIFIED:20240906T165809Z
UID:11375-1725645600-1725660000@parkmesaheights.org
SUMMARY:Leimert Park Date Night
DESCRIPTION:
URL:https://parkmesaheights.org/calendar/leimert-park-date-night/
LOCATION:Leimert Park\, Corner of Degnan and 43rd
CATEGORIES:Community
GEO:34.00592;-118.3312
X-APPLE-STRUCTURED-LOCATION;VALUE=URI;X-ADDRESS=Leimert Park Corner of Degnan and 43rd;X-APPLE-RADIUS=500;X-TITLE=Corner of Degnan and 43rd:geo:-118.3312,34.00592
END:VEVENT
BEGIN:VEVENT
DTSTART;TZID=America/Los_Angeles:20240913T100000
DTEND;TZID=America/Los_Angeles:20240913T120000
DTSTAMP:20260420T050133
CREATED:20240829T162024Z
LAST-MODIFIED:20240829T162024Z
UID:11358-1726221600-1726228800@parkmesaheights.org
SUMMARY:Homeless Initiative Listening Sessions
DESCRIPTION:The County of Los Angeles Homeless Initiative is holding a series of virtual community listening sessions to strengthen strategies for addressing and preventing homelessness and to inform our annual funding recommendations for homeless services and housing in fiscal year 2025-2026. These listening sessions will solicit input from diverse stakeholders and partners\, including residents\, local leaders\, homeless services providers\, people with lived experience\, and other stakeholders to inform our funding recommendations. The goal of these sessions is to ensure their annual budget and strategies are up-to-date and responsive to the unique needs and priorities of our communities. Los Angeles County residents are invited to join this virtual listening session based on their service planning area: \nSan Fernando Valley: Wednesday August 28\, 3:00-4:30pm\nMetro Los Angeles: Tuesday September 3\, 2:00-3:30pm\nEast Los Angeles: Thursday September 5\, 1:00-2:30pm\nSouth Los Angeles: Friday September 13\, 10:00am-12:00pm\nWest Los Angeles: Thursday September 19\, 9:00-10:30am \nRegister
URL:https://parkmesaheights.org/calendar/homeless-initiative-listening-sessions/
CATEGORIES:Community
END:VEVENT
BEGIN:VEVENT
DTSTART;TZID=America/Los_Angeles:20240914T090000
DTEND;TZID=America/Los_Angeles:20240914T150000
DTSTAMP:20260420T050133
CREATED:20240906T170356Z
LAST-MODIFIED:20240906T170356Z
UID:11381-1726304400-1726326000@parkmesaheights.org
SUMMARY:Pretty in Pink
DESCRIPTION:The 10th Annual Pretty in Pink Girls Empowerment Conference! This is a FREE event\, but pre-registration is required. We hope to see you there! \n\n\nSaturday\, September 14\, 2024\n9AM – 3PM\nEXPO Center\n3980 Bill Robertson Lane\nLos Angeles\, CA 90037
URL:https://parkmesaheights.org/calendar/pretty-in-pink/
LOCATION:Expo Center\, 3980 Bill Robertson Drive\, Los Angeles\, 90037
CATEGORIES:Community
GEO:34.012257;-118.2894786
X-APPLE-STRUCTURED-LOCATION;VALUE=URI;X-ADDRESS=Expo Center 3980 Bill Robertson Drive Los Angeles 90037;X-APPLE-RADIUS=500;X-TITLE=3980 Bill Robertson Drive:geo:-118.2894786,34.012257
END:VEVENT
BEGIN:VEVENT
DTSTART;TZID=America/Los_Angeles:20240914T100000
DTEND;TZID=America/Los_Angeles:20240914T120000
DTSTAMP:20260420T050133
CREATED:20231130T184039Z
LAST-MODIFIED:20240912T213525Z
UID:10741-1726308000-1726315200@parkmesaheights.org
SUMMARY:General Meeting
DESCRIPTION:Join us for the next Park Mesa Heights Community Council Meeting Saturday\, September 14\, 10am at 5730 Crenshaw Bvld. \nOn our agenda: \n\nSouth Los Angeles Community Resource Center\nChrist Temple Church
URL:https://parkmesaheights.org/calendar/general-meeting-9/2024-09-14/
CATEGORIES:Board,PMHCC
END:VEVENT
BEGIN:VEVENT
DTSTART;TZID=America/Los_Angeles:20240916T090000
DTEND;TZID=America/Los_Angeles:20240916T150000
DTSTAMP:20260420T050133
CREATED:20240916T192247Z
LAST-MODIFIED:20240916T192247Z
UID:11418-1726477200-1726498800@parkmesaheights.org
SUMMARY:Blood Drive
DESCRIPTION:Please support the African American Firefighter’s Museum by donating blood at their American Red Cross Blood Drive on Saturday\, September 21 from 9:00am – to 3:00pm. \nIf you can donate blood\, you will get a GIFT CARD! \nThere is free parking on site. \nPlease sign up at American Red Cross and enter the blood drive code: AAFFM.
URL:https://parkmesaheights.org/calendar/blood-drive/
CATEGORIES:Community
END:VEVENT
BEGIN:VEVENT
DTSTART;TZID=America/Los_Angeles:20240916T183000
DTEND;TZID=America/Los_Angeles:20240916T203000
DTSTAMP:20260420T050133
CREATED:20240913T172718Z
LAST-MODIFIED:20240913T190148Z
UID:11405-1726511400-1726518600@parkmesaheights.org
SUMMARY:Planning Land Use Management and Beautification Committee Meeting
DESCRIPTION:Join us for the next PMHCC Meeting Monday\, September 16\, 6:30pm at 5730 Crenshaw Blvd. \nH.O.P.E. is what’s on our agenda. \nJoin us!
URL:https://parkmesaheights.org/calendar/planning-land-use-management-and-beautification-committee-meeting-7/
LOCATION:5730 Crenshaw Blvd\, 5730 Crenshaw Blvd\, Los Angeles\, 90043
CATEGORIES:Planning Land Use Beautification,PMHCC
GEO:33.9900079;-118.3302813
X-APPLE-STRUCTURED-LOCATION;VALUE=URI;X-ADDRESS=5730 Crenshaw Blvd 5730 Crenshaw Blvd Los Angeles 90043;X-APPLE-RADIUS=500;X-TITLE=5730 Crenshaw Blvd:geo:-118.3302813,33.9900079
END:VEVENT
BEGIN:VEVENT
DTSTART;TZID=America/Los_Angeles:20240917T180000
DTEND;TZID=America/Los_Angeles:20240917T200000
DTSTAMP:20260420T050133
CREATED:20231130T184400Z
LAST-MODIFIED:20240915T210614Z
UID:10991-1726596000-1726603200@parkmesaheights.org
SUMMARY:Board Meeting
DESCRIPTION:
URL:https://parkmesaheights.org/calendar/board-meeting-2024-09-17/
CATEGORIES:Board,PMHCC
END:VEVENT
BEGIN:VEVENT
DTSTART;TZID=America/Los_Angeles:20240919T180000
DTEND;TZID=America/Los_Angeles:20240919T193000
DTSTAMP:20260420T050133
CREATED:20240919T214738Z
LAST-MODIFIED:20240919T215122Z
UID:11421-1726768800-1726774200@parkmesaheights.org
SUMMARY:Special Board Meeting
DESCRIPTION:We will hold a specially scheduled PMHCC Meeting on Friday\, September 19\, 6pm at 5730 Crenshaw Blvd. \nMeeting documents: \n\nSeptember 19\, 2024 Special Board meeting\n06.2024 MER\n07.2024 MER
URL:https://parkmesaheights.org/calendar/special-board-meeting-5/
LOCATION:5730 Crenshaw Blvd\, 5730 Crenshaw Blvd\, Los Angeles\, 90043
CATEGORIES:Board,PMHCC
GEO:33.9900079;-118.3302813
X-APPLE-STRUCTURED-LOCATION;VALUE=URI;X-ADDRESS=5730 Crenshaw Blvd 5730 Crenshaw Blvd Los Angeles 90043;X-APPLE-RADIUS=500;X-TITLE=5730 Crenshaw Blvd:geo:-118.3302813,33.9900079
END:VEVENT
BEGIN:VEVENT
DTSTART;TZID=America/Los_Angeles:20240928T080000
DTEND;TZID=America/Los_Angeles:20240928T163000
DTSTAMP:20260420T050133
CREATED:20240906T170226Z
LAST-MODIFIED:20240906T170226Z
UID:11378-1727510400-1727541000@parkmesaheights.org
SUMMARY:Congress of Neighborhoods
DESCRIPTION:Registration for the 2024 Los Angeles Congress of Neighborhoods is officially OPEN! Last year\, we brought the community closer than ever\, and now we’re back at City Hall for our 14th Congress\, marking 25 years of Neighborhood Councils. \nJoin us on September 28th for “Neighborhood Power\, Citywide Impact: The Next 25 Years Start Now.” Let’s make history together!  Learn more and register: https://www.eventbrite.com/e/2024-los-angeles-congress-of-neighborhoods-tickets-881161416517
URL:https://parkmesaheights.org/calendar/congress-of-neighborhoods-7/
LOCATION:City Hall
CATEGORIES:Community
GEO:34.0535267;-118.2429316
END:VEVENT
BEGIN:VEVENT
DTSTART;TZID=America/Los_Angeles:20240928T110000
DTEND;TZID=America/Los_Angeles:20240928T170000
DTSTAMP:20260420T050133
CREATED:20240911T175416Z
LAST-MODIFIED:20240911T175416Z
UID:11399-1727521200-1727542800@parkmesaheights.org
SUMMARY:Praise in the Park
DESCRIPTION:Saturday\, September 28 \n11 am to 5 pm \n8701 South St. Andrews Place \nEnjoy live Gospel music at St. Andrews with headliner Bre Holly\, a merchant and resource village\, and food from the surrounding area with our office and local service providers on-site to support!
URL:https://parkmesaheights.org/calendar/praise-in-the-park/
LOCATION:St. Andrews Recreation Center\, 8701 S. Saint Andrews Pl\, Los Angeles\, 90047
CATEGORIES:Community
GEO:33.9590948;-118.3114844
X-APPLE-STRUCTURED-LOCATION;VALUE=URI;X-ADDRESS=St. Andrews Recreation Center 8701 S. Saint Andrews Pl Los Angeles 90047;X-APPLE-RADIUS=500;X-TITLE=8701 S. Saint Andrews Pl:geo:-118.3114844,33.9590948
END:VEVENT
END:VCALENDAR