BEGIN:VCALENDAR
VERSION:2.0
PRODID:-//Park Mesa Heights Community Council - ECPv6.15.16//NONSGML v1.0//EN
CALSCALE:GREGORIAN
METHOD:PUBLISH
X-ORIGINAL-URL:https://parkmesaheights.org
X-WR-CALDESC:Events for Park Mesa Heights Community Council
REFRESH-INTERVAL;VALUE=DURATION:PT1H
X-Robots-Tag:noindex
X-PUBLISHED-TTL:PT1H
BEGIN:VTIMEZONE
TZID:America/Los_Angeles
BEGIN:DAYLIGHT
TZOFFSETFROM:-0800
TZOFFSETTO:-0700
TZNAME:PDT
DTSTART:20230312T100000
END:DAYLIGHT
BEGIN:STANDARD
TZOFFSETFROM:-0700
TZOFFSETTO:-0800
TZNAME:PST
DTSTART:20231105T090000
END:STANDARD
BEGIN:DAYLIGHT
TZOFFSETFROM:-0800
TZOFFSETTO:-0700
TZNAME:PDT
DTSTART:20240310T100000
END:DAYLIGHT
BEGIN:STANDARD
TZOFFSETFROM:-0700
TZOFFSETTO:-0800
TZNAME:PST
DTSTART:20241103T090000
END:STANDARD
BEGIN:DAYLIGHT
TZOFFSETFROM:-0800
TZOFFSETTO:-0700
TZNAME:PDT
DTSTART:20250309T100000
END:DAYLIGHT
BEGIN:STANDARD
TZOFFSETFROM:-0700
TZOFFSETTO:-0800
TZNAME:PST
DTSTART:20251102T090000
END:STANDARD
END:VTIMEZONE
BEGIN:VEVENT
DTSTART;TZID=America/Los_Angeles:20241001T173000
DTEND;TZID=America/Los_Angeles:20241001T203000
DTSTAMP:20260420T033915
CREATED:20240829T162152Z
LAST-MODIFIED:20240829T162152Z
UID:11361-1727803800-1727814600@parkmesaheights.org
SUMMARY:Contractor Boot Camp
DESCRIPTION:The Los Angeles Community College District’s Small Contractor Boot Camp is a four-session program designed for local\, small and disadvantaged contractors to improve their competitive bidding capacity. Through a comprehensive curriculum\, they will learn more about the pre-qualification process for the BuildLACCD Program’s Pre-Qualified Service Provider bench\, for projects ranging from $25K to $5M. Check out the flyer for the curriculum’s details and register today.
URL:https://parkmesaheights.org/calendar/contractor-boot-camp/
CATEGORIES:Community
END:VEVENT
BEGIN:VEVENT
DTSTART;TZID=America/Los_Angeles:20241005T110000
DTEND;TZID=America/Los_Angeles:20241005T140000
DTSTAMP:20260420T033915
CREATED:20240925T162855Z
LAST-MODIFIED:20240925T162855Z
UID:11438-1728126000-1728136800@parkmesaheights.org
SUMMARY:Youth Workshop Series
DESCRIPTION:For Teens ages 9-18 years old \nJoin us on October 5th\, 2024\, from 11am-2pm at 8475 Vermont Ave\, 1st Floor\, Los Angeles\, CA 90044. \nEmpowering Teens for Success\, Our event focuses on mentoring teens to achieve higher education\, identify areas for improvement\, set goals\, and develop resilience and adaptability. Our speakers will cover topics such as: \n\nCareers in Technology with Terolyn Phinsee\nExploring Entrepreneurship with Sonia Burke\nLet’s Get Ready for College with Dominica Robbins-Wilson\nTable Time Tips with Dr. Chidell L. Watkins\nNavigating Grief\, Achieving Success with Alfreda A. Jones-Moore\n*Enjoy: * – Speakers and Panel Discussions\nRefreshments and Music by DJ Sonny
URL:https://parkmesaheights.org/calendar/youth-workshop-series/
LOCATION:Mark Ridley-Thomas Constituent Service Center\, 8475 S. Vermont Ave\, 90044
CATEGORIES:Community
GEO:33.9611384;-118.2920244
X-APPLE-STRUCTURED-LOCATION;VALUE=URI;X-ADDRESS=Mark Ridley-Thomas Constituent Service Center 8475 S. Vermont Ave 90044;X-APPLE-RADIUS=500;X-TITLE=8475 S. Vermont Ave:geo:-118.2920244,33.9611384
END:VEVENT
BEGIN:VEVENT
DTSTART;TZID=America/Los_Angeles:20241009T130000
DTEND;TZID=America/Los_Angeles:20241009T150000
DTSTAMP:20260420T033915
CREATED:20240925T004551Z
LAST-MODIFIED:20240925T004551Z
UID:11432-1728478800-1728486000@parkmesaheights.org
SUMMARY:Vallarta Hiring Event
DESCRIPTION:Interviews will be held at 2900 Crenshaw for all positions. Hurry\, available sign ups are limited!
URL:https://parkmesaheights.org/calendar/vallarta-hiring-event/
CATEGORIES:Community
END:VEVENT
BEGIN:VEVENT
DTSTART;TZID=America/Los_Angeles:20241012T100000
DTEND;TZID=America/Los_Angeles:20241012T120000
DTSTAMP:20260420T033915
CREATED:20231130T184039Z
LAST-MODIFIED:20241008T220521Z
UID:10742-1728727200-1728734400@parkmesaheights.org
SUMMARY:General Meeting
DESCRIPTION:Join us for the next Park Mesa Heights Community Council Meeting Saturday\, October 12\, 10am at 5730 Crenshaw Bvld. \nOn our agenda: \n\nLA Black Workers Center\, Trina Traylor\n67th St & West Blvd (Streets LA) Project\, Lori Garcia
URL:https://parkmesaheights.org/calendar/general-meeting-9-2024-10-12/
CATEGORIES:Board,PMHCC
END:VEVENT
BEGIN:VEVENT
DTSTART;TZID=America/Los_Angeles:20241015T180000
DTEND;TZID=America/Los_Angeles:20241015T200000
DTSTAMP:20260420T033915
CREATED:20231130T184400Z
LAST-MODIFIED:20241013T161632Z
UID:10992-1729015200-1729022400@parkmesaheights.org
SUMMARY:Board Meeting
DESCRIPTION:Join us for the next meeting of the Park Mesa Heights Community Council Tuesday\, October 15\, 6pm at 5730 Crenshaw Blvd.
URL:https://parkmesaheights.org/calendar/board-meeting-15-2024-04-16-2024-10-15/
LOCATION:5730 Crenshaw Blvd\, 5730 Crenshaw Blvd\, Los Angeles\, 90043
CATEGORIES:Board,PMHCC
GEO:33.9900079;-118.3302813
X-APPLE-STRUCTURED-LOCATION;VALUE=URI;X-ADDRESS=5730 Crenshaw Blvd 5730 Crenshaw Blvd Los Angeles 90043;X-APPLE-RADIUS=500;X-TITLE=5730 Crenshaw Blvd:geo:-118.3302813,33.9900079
END:VEVENT
BEGIN:VEVENT
DTSTART;TZID=America/Los_Angeles:20241017T180000
DTEND;TZID=America/Los_Angeles:20241017T200000
DTSTAMP:20260420T033915
CREATED:20241004T221948Z
LAST-MODIFIED:20241004T222422Z
UID:11443-1729188000-1729195200@parkmesaheights.org
SUMMARY:Know What The Hell You're Voting For
DESCRIPTION:You are invited to attend the “Know What The Hell You’re Voting For” webinar on October 17th to get the critical information you need before voting day. \n📅 Date: October 17th \n🕕 Time: 6pm – 8pm \n📍 Where: Zoom & Facebook Live \n“Know What The Hell You’re Voting For” is about empowering our community to make informed choices on policies that directly impact us. Many of the decisions made at the local and state levels—on issues like labor laws\, minimum wage\, healthcare\, housing\, and education—will significantly shape our futures as Black workers. \n\n\nVoting is not just our civic duty; it’s a strategic tool for challenging systemic inequality. The stakes are high\, and it’s crucial we understand how our votes can influence policies on racial justice\, workers’ rights\, economic opportunities\, and more. During this webinar\, we will also be tackling the issue of misinformation\, as many ballot measures are often written to confuse or mislead voters. Our goal is to ensure that you’re making decisions based on clarity\, not confusion. \nOur collective action has the power to secure long-term progress and strengthen our political engagement in the issues that matter most to us as Black workers. \nMake sure you’re equipped to vote with confidence. RSVP today and take the next step toward making your voice heard.
URL:https://parkmesaheights.org/calendar/know-what-the-hell-youre-voting-for/
CATEGORIES:Community
END:VEVENT
BEGIN:VEVENT
DTSTART;TZID=America/Los_Angeles:20241021T183000
DTEND;TZID=America/Los_Angeles:20241021T200000
DTSTAMP:20260420T033915
CREATED:20241018T173538Z
LAST-MODIFIED:20241018T173538Z
UID:11477-1729535400-1729540800@parkmesaheights.org
SUMMARY:Planning\, Land Use Management and Beautification Committee Meeting
DESCRIPTION:Join us for the next meeting of the Park Mesa Heights Community Council Planning\, Land Use Management and Beautification Committee on Monday\, October 21\, 6:30pm at 5730 Crenshaw Blvd. \nOn our agenda: \nAlliance Virgil Roberts Leadership Academy at 2919 W. 70th St. demolition of a one story classroom building to construct a larger one \n 
URL:https://parkmesaheights.org/calendar/planning-land-use-management-and-beautification-committee-meeting-8/
LOCATION:5730 Crenshaw Blvd\, 5730 Crenshaw Blvd\, Los Angeles\, 90043
CATEGORIES:Planning Land Use Beautification,PMHCC
GEO:33.9900079;-118.3302813
X-APPLE-STRUCTURED-LOCATION;VALUE=URI;X-ADDRESS=5730 Crenshaw Blvd 5730 Crenshaw Blvd Los Angeles 90043;X-APPLE-RADIUS=500;X-TITLE=5730 Crenshaw Blvd:geo:-118.3302813,33.9900079
END:VEVENT
BEGIN:VEVENT
DTSTART;TZID=America/Los_Angeles:20241026T110000
DTEND;TZID=America/Los_Angeles:20241026T150000
DTSTAMP:20260420T033915
CREATED:20241018T170747Z
LAST-MODIFIED:20241018T170747Z
UID:11474-1729940400-1729954800@parkmesaheights.org
SUMMARY:Trick or Treat
DESCRIPTION:Music\, games\, food\, crafts
URL:https://parkmesaheights.org/calendar/trick-or-treat/
LOCATION:Van Ness Recreation Center\, 5720 2nd Avenue\, Los Angeles
CATEGORIES:Community
GEO:33.9904279;-118.3190264
X-APPLE-STRUCTURED-LOCATION;VALUE=URI;X-ADDRESS=Van Ness Recreation Center 5720 2nd Avenue Los Angeles;X-APPLE-RADIUS=500;X-TITLE=5720 2nd Avenue:geo:-118.3190264,33.9904279
END:VEVENT
END:VCALENDAR