BEGIN:VCALENDAR
VERSION:2.0
PRODID:-//Park Mesa Heights Community Council - ECPv6.15.16//NONSGML v1.0//EN
CALSCALE:GREGORIAN
METHOD:PUBLISH
X-ORIGINAL-URL:https://parkmesaheights.org
X-WR-CALDESC:Events for Park Mesa Heights Community Council
REFRESH-INTERVAL;VALUE=DURATION:PT1H
X-Robots-Tag:noindex
X-PUBLISHED-TTL:PT1H
BEGIN:VTIMEZONE
TZID:America/Los_Angeles
BEGIN:DAYLIGHT
TZOFFSETFROM:-0800
TZOFFSETTO:-0700
TZNAME:PDT
DTSTART:20230312T100000
END:DAYLIGHT
BEGIN:STANDARD
TZOFFSETFROM:-0700
TZOFFSETTO:-0800
TZNAME:PST
DTSTART:20231105T090000
END:STANDARD
BEGIN:DAYLIGHT
TZOFFSETFROM:-0800
TZOFFSETTO:-0700
TZNAME:PDT
DTSTART:20240310T100000
END:DAYLIGHT
BEGIN:STANDARD
TZOFFSETFROM:-0700
TZOFFSETTO:-0800
TZNAME:PST
DTSTART:20241103T090000
END:STANDARD
BEGIN:DAYLIGHT
TZOFFSETFROM:-0800
TZOFFSETTO:-0700
TZNAME:PDT
DTSTART:20250309T100000
END:DAYLIGHT
BEGIN:STANDARD
TZOFFSETFROM:-0700
TZOFFSETTO:-0800
TZNAME:PST
DTSTART:20251102T090000
END:STANDARD
END:VTIMEZONE
BEGIN:VEVENT
DTSTART;TZID=America/Los_Angeles:20241104T183000
DTEND;TZID=America/Los_Angeles:20241104T203000
DTSTAMP:20260420T015136
CREATED:20241101T165115Z
LAST-MODIFIED:20241101T165115Z
UID:11492-1730745000-1730752200@parkmesaheights.org
SUMMARY:Planning\, Land Use Management and Beautification Committee Meeting
DESCRIPTION:The PMHCC Planning\, Land Use Management and Beautification Committee will meet on Monday\, November 4\, 6:30pm. \nOn our agenda: \n\nH.O.P.E.\nSB 572 Update\nRail to Rail Active Transportation Corridor Project Update\nWestside Area Plan Update\nEnvironmental Justice Policy Program
URL:https://parkmesaheights.org/calendar/planning-land-use-management-and-beautification-committee-meeting-9/
LOCATION:5730 Crenshaw Blvd\, 5730 Crenshaw Blvd\, Los Angeles\, 90043
CATEGORIES:Planning Land Use Beautification,PMHCC
GEO:33.9900079;-118.3302813
X-APPLE-STRUCTURED-LOCATION;VALUE=URI;X-ADDRESS=5730 Crenshaw Blvd 5730 Crenshaw Blvd Los Angeles 90043;X-APPLE-RADIUS=500;X-TITLE=5730 Crenshaw Blvd:geo:-118.3302813,33.9900079
END:VEVENT
BEGIN:VEVENT
DTSTART;TZID=America/Los_Angeles:20241107T100000
DTEND;TZID=America/Los_Angeles:20241107T120000
DTSTAMP:20260420T015136
CREATED:20241030T211408Z
LAST-MODIFIED:20241030T211408Z
UID:11483-1730973600-1730980800@parkmesaheights.org
SUMMARY:Maggie Hathaway Golf Course Groundbreaking
DESCRIPTION:You are invited to the Groundbreaking Ceremony for the remodel and upgrade of the historic Maggie Hathaway Golf Course in South Los Angeles. \nThe event will be held on Thursday\, November 7th\, from 10:00 AM to 12:00 PM at the golf course\, located within Jesse Owens Park at 9821 West 98th Street (corner of Century & Western Avenue). The event will feature music\, food\, entertainment\, and remarks from our local elected officials.
URL:https://parkmesaheights.org/calendar/maggie-hathaway-golf-course-groundbreaking/
LOCATION:Maggie Hathaway Golf Course\, West 98th Street\, Los Angeles\, California\, 90047\, United States
CATEGORIES:Community
GEO:33.9472066;-118.3120969
X-APPLE-STRUCTURED-LOCATION;VALUE=URI;X-ADDRESS=Maggie Hathaway Golf Course West 98th Street Los Angeles California 90047 United States;X-APPLE-RADIUS=500;X-TITLE=West 98th Street:geo:-118.3120969,33.9472066
END:VEVENT
BEGIN:VEVENT
DTSTART;TZID=America/Los_Angeles:20241108T123000
DTEND;TZID=America/Los_Angeles:20241108T143000
DTSTAMP:20260420T015136
CREATED:20241030T211624Z
LAST-MODIFIED:20241030T211703Z
UID:11487-1731069000-1731076200@parkmesaheights.org
SUMMARY:USC Presents: Artists as Entrepreneurs
DESCRIPTION:  \n \nDestination Crenshaw\, LA Commons\, and USC have partnered to present this immersive FREE professional development experience for artists and creatives! This event is one you don’t want to miss! \nRSVP: https://docs.google.com/forms/d/e/1FAIpQLScsz_xjXYJZwYIuQUnqxl_iBS5vqoen2Uz8Sckcq8eWwqsq8Q/viewform
URL:https://parkmesaheights.org/calendar/usc-presents-artists-as-entrepreneurs/
LOCATION:USC Fisher Museum\, West Exposition Boulevard\, Los Angeles\, California\, 90089\, United States
CATEGORIES:Community
GEO:34.0185904;-118.2873007
X-APPLE-STRUCTURED-LOCATION;VALUE=URI;X-ADDRESS=USC Fisher Museum West Exposition Boulevard Los Angeles California 90089 United States;X-APPLE-RADIUS=500;X-TITLE=West Exposition Boulevard:geo:-118.2873007,34.0185904
END:VEVENT
BEGIN:VEVENT
DTSTART;TZID=America/Los_Angeles:20241109T100000
DTEND;TZID=America/Los_Angeles:20241109T120000
DTSTAMP:20260420T015136
CREATED:20231130T184039Z
LAST-MODIFIED:20241104T235059Z
UID:10743-1731146400-1731153600@parkmesaheights.org
SUMMARY:General Meeting
DESCRIPTION:  \n \nJoin us for the next Park Mesa Heights Community Council Meeting Saturday\, November 9\, 10am at 5730 Crenshaw Bvld. \nOn our agenda: \n\nChrist Temple Church\nPMHCC Elections
URL:https://parkmesaheights.org/calendar/general-meeting-9-2024-11-09/
CATEGORIES:Board,PMHCC
END:VEVENT
BEGIN:VEVENT
DTSTART;TZID=America/Los_Angeles:20241112T170000
DTEND;TZID=America/Los_Angeles:20241112T200000
DTSTAMP:20260420T015136
CREATED:20241109T001252Z
LAST-MODIFIED:20241109T001555Z
UID:11503-1731430800-1731441600@parkmesaheights.org
SUMMARY:Cultural District Story Summit
DESCRIPTION:Please join LA Commons and the Office of Senator Lola Smallwood Cuevas for the upcoming Cultural District Story Summit at Barbara Morrison Performing Arts Center on November 12\, 2024 from 5-8pm. \nThis story summit is an opportunity to learn more about the plan for South LA to be inducted into the California Cultural District program\, and to share the stories of the community that will be used to create markers/monuments throughout the district. California Cultural Districts highlight the cultural legacy of our state’s most valuable resource—its diversity. From larger\, urban areas to uncharted rural locations\, each district helps grow and sustain authentic arts and culture opportunities\, increase the visibility of local artists\, and promote socio-economic and ethnic diversity through culture and creative expression. \nRSVP at Bit.ly/cdstorysummits ; dinner and refreshments will be provided.
URL:https://parkmesaheights.org/calendar/cultural-district-story-summit/
LOCATION:Barbara Morrison Performing Arts Center\, Degnan Boulevard\, Los Angeles\, California\, 90008\, United States
CATEGORIES:Community
GEO:34.0058828;-118.3316767
X-APPLE-STRUCTURED-LOCATION;VALUE=URI;X-ADDRESS=Barbara Morrison Performing Arts Center Degnan Boulevard Los Angeles California 90008 United States;X-APPLE-RADIUS=500;X-TITLE=Degnan Boulevard:geo:-118.3316767,34.0058828
END:VEVENT
BEGIN:VEVENT
DTSTART;TZID=America/Los_Angeles:20241112T180000
DTEND;TZID=America/Los_Angeles:20241112T200000
DTSTAMP:20260420T015136
CREATED:20231130T184400Z
LAST-MODIFIED:20241111T185437Z
UID:10993-1731434400-1731441600@parkmesaheights.org
SUMMARY:Board Meeting
DESCRIPTION:Join us for the next Park Mesa Heights Community Council Meeting on Tuesday\, November 12\, 6pm at 5730 Crenshaw Blvd.
URL:https://parkmesaheights.org/calendar/board-meeting-2024-11-12/
LOCATION:5730 Crenshaw Blvd\, 5730 Crenshaw Blvd\, Los Angeles\, 90043
CATEGORIES:Board,PMHCC
GEO:33.9900079;-118.3302813
X-APPLE-STRUCTURED-LOCATION;VALUE=URI;X-ADDRESS=5730 Crenshaw Blvd 5730 Crenshaw Blvd Los Angeles 90043;X-APPLE-RADIUS=500;X-TITLE=5730 Crenshaw Blvd:geo:-118.3302813,33.9900079
END:VEVENT
BEGIN:VEVENT
DTSTART;TZID=America/Los_Angeles:20241118T183000
DTEND;TZID=America/Los_Angeles:20241118T200000
DTSTAMP:20260420T015136
CREATED:20241116T010449Z
LAST-MODIFIED:20241116T010449Z
UID:11512-1731954600-1731960000@parkmesaheights.org
SUMMARY:Planning\, Land Use Management and Beautification Committee Meeting
DESCRIPTION:Join us for the next PMHCC Planning\, Land Use Management and Beautification Committee Meeting on Monday\, November 18\, 6:30pm at 5730 Crenshaw Blvd.
URL:https://parkmesaheights.org/calendar/planning-land-use-management-and-beautification-committee-meeting-10/
LOCATION:5730 Crenshaw Blvd\, 5730 Crenshaw Blvd\, Los Angeles\, 90043
CATEGORIES:Planning Land Use Beautification,PMHCC
GEO:33.9900079;-118.3302813
X-APPLE-STRUCTURED-LOCATION;VALUE=URI;X-ADDRESS=5730 Crenshaw Blvd 5730 Crenshaw Blvd Los Angeles 90043;X-APPLE-RADIUS=500;X-TITLE=5730 Crenshaw Blvd:geo:-118.3302813,33.9900079
END:VEVENT
BEGIN:VEVENT
DTSTART;TZID=America/Los_Angeles:20241121T100000
DTEND;TZID=America/Los_Angeles:20241121T133000
DTSTAMP:20260420T015136
CREATED:20241118T224317Z
LAST-MODIFIED:20241118T224317Z
UID:11527-1732183200-1732195800@parkmesaheights.org
SUMMARY:Thanksgiving Grab & Go
DESCRIPTION:In partnership with the Los Angeles Dodgers Foundation\, 50/50 Foundation and Councilmember Marqueece Harris-Dawson. \nBaskets will contain a whole turkey with all the trimmings\, vegetables\, corn bread dressing and more. Gift cards to the first 750. One per car. \nDrive through only. \nLine starts at 90th and Vermont.
URL:https://parkmesaheights.org/calendar/thanksgiving-grab-go/
LOCATION:Algin Sutton Park\, South Hoover Street\, Los Angeles\, California\, 90044\, United States
CATEGORIES:Community
GEO:33.9573559;-118.285373
X-APPLE-STRUCTURED-LOCATION;VALUE=URI;X-ADDRESS=Algin Sutton Park South Hoover Street Los Angeles California 90044 United States;X-APPLE-RADIUS=500;X-TITLE=South Hoover Street:geo:-118.285373,33.9573559
END:VEVENT
BEGIN:VEVENT
DTSTART;TZID=America/Los_Angeles:20241122T120000
DTEND;TZID=America/Los_Angeles:20241122T133000
DTSTAMP:20260420T015136
CREATED:20241118T224440Z
LAST-MODIFIED:20241118T224440Z
UID:11531-1732276800-1732282200@parkmesaheights.org
SUMMARY:Cleaning Your Criminal Record Class
DESCRIPTION:IN PERSON: Cleaning Your Criminal Record: Where You Begin \nFriday\, November 22\, 2024: 12:00 p.m. – 1:30 p.m. \nA criminal record can prevent a person from accessing employment\, housing\, and other important opportunities – even if it involves a minor offense or something that happened long ago. Fortunately\, many California state court criminal convictions can be cleaned from your record. Although “expungement” is not available in this state\, California law does provide many of the same benefits through reduction and dismissal of old or minor convictions. In this class\, learn what types of convictions are eligible\, the process involved for different types of records\, and resources available to help. \nClass covers: \n· What it means to clean your criminal record in California (and what “expungement” means) \n· The process for petitioning to dismiss misdemeanor and some felony sentences \n· The process for petitioning to reduce felony sentences\, and which felonies are eligible for reduction \n· Information and forms required for petitions \n· Resources for additional information and assistance \nPresented by: LA Law Library Reference Librarians \nRegistration fees: FREE – Reservation reserves spot \nRegister here: https://www.lalawlibrary.org/hidden-classes/2183-in-person-cleaning-your-criminal-record-where-you-begin-2024
URL:https://parkmesaheights.org/calendar/cleaning-your-criminal-record-class/
LOCATION:LA Law Library\, 301 W First Street
CATEGORIES:Community
END:VEVENT
BEGIN:VEVENT
DTSTART;TZID=America/Los_Angeles:20241123T100000
DTEND;TZID=America/Los_Angeles:20241123T130000
DTSTAMP:20260420T015136
CREATED:20241118T224612Z
LAST-MODIFIED:20241118T224612Z
UID:11535-1732356000-1732366800@parkmesaheights.org
SUMMARY:Cultural District Story Summit
DESCRIPTION:Please join LA Commons\, the City of Los Angeles\, and the Office of Senator Lola Smallwood Cuevas for the upcoming Cultural District Story Summit at Community Coalition (8101 Vermont Ave\, Los Angeles\, CA 90044) on November 23rd from 10-1pm.This story summit is an opportunity to learn more about the plan for South LA to be inducted into the California Cultural District program\, and to share the stories of the community that will be used to create markers and monuments throughout the district.
URL:https://parkmesaheights.org/calendar/cultural-district-story-summit-2/
LOCATION:Community Coalition\, 8101 Vermont Ave\, Los Angeles\, 90044
CATEGORIES:Community
GEO:33.9652207;-118.2920959
X-APPLE-STRUCTURED-LOCATION;VALUE=URI;X-ADDRESS=Community Coalition 8101 Vermont Ave Los Angeles 90044;X-APPLE-RADIUS=500;X-TITLE=8101 Vermont Ave:geo:-118.2920959,33.9652207
END:VEVENT
BEGIN:VEVENT
DTSTART;TZID=America/Los_Angeles:20241123T120000
DTEND;TZID=America/Los_Angeles:20241123T150000
DTSTAMP:20260420T015136
CREATED:20241121T210833Z
LAST-MODIFIED:20241121T210833Z
UID:11570-1732363200-1732374000@parkmesaheights.org
SUMMARY:Fall Festival
DESCRIPTION:
URL:https://parkmesaheights.org/calendar/43-fall-festival/
LOCATION:6841 Crenshaw Blvd\, Crenshaw Boulevard\, Los Angeles\, California\, 90043\, United States
CATEGORIES:Community
GEO:33.9758457;-118.3311951
X-APPLE-STRUCTURED-LOCATION;VALUE=URI;X-ADDRESS=6841 Crenshaw Blvd Crenshaw Boulevard Los Angeles California 90043 United States;X-APPLE-RADIUS=500;X-TITLE=Crenshaw Boulevard:geo:-118.3311951,33.9758457
END:VEVENT
BEGIN:VEVENT
DTSTART;TZID=America/Los_Angeles:20241123T120000
DTEND;TZID=America/Los_Angeles:20241123T180000
DTSTAMP:20260420T015136
CREATED:20241116T010648Z
LAST-MODIFIED:20241116T010648Z
UID:11517-1732363200-1732384800@parkmesaheights.org
SUMMARY:It's Lit
DESCRIPTION:Music\, snow\, food at this Winter Wonderland Event at Broadway and Century
URL:https://parkmesaheights.org/calendar/its-lit-3/
CATEGORIES:Community
END:VEVENT
END:VCALENDAR