BEGIN:VCALENDAR
VERSION:2.0
PRODID:-//Park Mesa Heights Community Council - ECPv6.15.16//NONSGML v1.0//EN
CALSCALE:GREGORIAN
METHOD:PUBLISH
X-WR-CALNAME:Park Mesa Heights Community Council
X-ORIGINAL-URL:https://parkmesaheights.org
X-WR-CALDESC:Events for Park Mesa Heights Community Council
REFRESH-INTERVAL;VALUE=DURATION:PT1H
X-Robots-Tag:noindex
X-PUBLISHED-TTL:PT1H
BEGIN:VTIMEZONE
TZID:America/Los_Angeles
BEGIN:DAYLIGHT
TZOFFSETFROM:-0800
TZOFFSETTO:-0700
TZNAME:PDT
DTSTART:20190310T100000
END:DAYLIGHT
BEGIN:STANDARD
TZOFFSETFROM:-0700
TZOFFSETTO:-0800
TZNAME:PST
DTSTART:20191103T090000
END:STANDARD
BEGIN:DAYLIGHT
TZOFFSETFROM:-0800
TZOFFSETTO:-0700
TZNAME:PDT
DTSTART:20200308T100000
END:DAYLIGHT
BEGIN:STANDARD
TZOFFSETFROM:-0700
TZOFFSETTO:-0800
TZNAME:PST
DTSTART:20201101T090000
END:STANDARD
BEGIN:DAYLIGHT
TZOFFSETFROM:-0800
TZOFFSETTO:-0700
TZNAME:PDT
DTSTART:20210314T100000
END:DAYLIGHT
BEGIN:STANDARD
TZOFFSETFROM:-0700
TZOFFSETTO:-0800
TZNAME:PST
DTSTART:20211107T090000
END:STANDARD
END:VTIMEZONE
BEGIN:VEVENT
DTSTART;TZID=America/Los_Angeles:20200830T080000
DTEND;TZID=America/Los_Angeles:20200830T120000
DTSTAMP:20260422T102608
CREATED:20200827T002130Z
LAST-MODIFIED:20200827T002130Z
UID:2772-1598774400-1598788800@parkmesaheights.org
SUMMARY:Showers of Hope
DESCRIPTION:Beginning on August 30th\, The Shower of Hope will set up mobile showers in the parking lot located at 11th Ave positioned behind The Curve @ West Angeles (54th St and 11th Ave). Every Sunday from 8:00am-12:00pm\, The Shower of Hope will serve up to 25 unhoused community members. The Shower of Hope has provided over 25\,000 free showers in its 10 years of service and has extensive experience working with homeless communities throughout Los Angeles County.
URL:https://parkmesaheights.org/calendar/showers-of-hope/2020-08-30/
CATEGORIES:Community
END:VEVENT
END:VCALENDAR