BEGIN:VCALENDAR
VERSION:2.0
PRODID:-//Park Mesa Heights Community Council - ECPv6.15.16//NONSGML v1.0//EN
CALSCALE:GREGORIAN
METHOD:PUBLISH
X-ORIGINAL-URL:https://parkmesaheights.org
X-WR-CALDESC:Events for Park Mesa Heights Community Council
REFRESH-INTERVAL;VALUE=DURATION:PT1H
X-Robots-Tag:noindex
X-PUBLISHED-TTL:PT1H
BEGIN:VTIMEZONE
TZID:America/Los_Angeles
BEGIN:DAYLIGHT
TZOFFSETFROM:-0800
TZOFFSETTO:-0700
TZNAME:PDT
DTSTART:20170312T100000
END:DAYLIGHT
BEGIN:STANDARD
TZOFFSETFROM:-0700
TZOFFSETTO:-0800
TZNAME:PST
DTSTART:20171105T090000
END:STANDARD
BEGIN:DAYLIGHT
TZOFFSETFROM:-0800
TZOFFSETTO:-0700
TZNAME:PDT
DTSTART:20180311T100000
END:DAYLIGHT
BEGIN:STANDARD
TZOFFSETFROM:-0700
TZOFFSETTO:-0800
TZNAME:PST
DTSTART:20181104T090000
END:STANDARD
BEGIN:DAYLIGHT
TZOFFSETFROM:-0800
TZOFFSETTO:-0700
TZNAME:PDT
DTSTART:20190310T100000
END:DAYLIGHT
BEGIN:STANDARD
TZOFFSETFROM:-0700
TZOFFSETTO:-0800
TZNAME:PST
DTSTART:20191103T090000
END:STANDARD
END:VTIMEZONE
BEGIN:VEVENT
DTSTART;TZID=America/Los_Angeles:20181211T180000
DTEND;TZID=America/Los_Angeles:20181211T200000
DTSTAMP:20260424T180551
CREATED:20181206T000141Z
LAST-MODIFIED:20181206T000141Z
UID:871-1544551200-1544558400@parkmesaheights.org
SUMMARY:Find out about Vote Centers
DESCRIPTION:LA County to Replace Traditional Polls With Vote Centers – Share Your Feedback. In 2020\, Los Angeles County will transition from traditional polling places to vote centers\, which will increase the availability and accessibility of voting opportunities for LA-area voters. Unlike traditional polls\, voters will be able to register same-day at vote centers\, and they will be able to cast their ballot at any location in LA County over an 11-day period. \n\nInglewood City Hall\nCommunity Room A\n1 West Manchester Boulevard\nInglewood\, CA 9030
URL:https://parkmesaheights.org/calendar/find-out-about-vote-centers/
LOCATION:Inglewood City Hall\, 1 West Manchester Blvd\, Inglewood\, 90302
CATEGORIES:Community
GEO:33.9630966;-118.3548741
X-APPLE-STRUCTURED-LOCATION;VALUE=URI;X-ADDRESS=Inglewood City Hall 1 West Manchester Blvd Inglewood 90302;X-APPLE-RADIUS=500;X-TITLE=1 West Manchester Blvd:geo:-118.3548741,33.9630966
END:VEVENT
END:VCALENDAR