BEGIN:VCALENDAR
VERSION:2.0
PRODID:-//Park Mesa Heights Community Council - ECPv6.15.16//NONSGML v1.0//EN
CALSCALE:GREGORIAN
METHOD:PUBLISH
X-ORIGINAL-URL:https://parkmesaheights.org
X-WR-CALDESC:Events for Park Mesa Heights Community Council
REFRESH-INTERVAL;VALUE=DURATION:PT1H
X-Robots-Tag:noindex
X-PUBLISHED-TTL:PT1H
BEGIN:VTIMEZONE
TZID:America/Los_Angeles
BEGIN:DAYLIGHT
TZOFFSETFROM:-0800
TZOFFSETTO:-0700
TZNAME:PDT
DTSTART:20170312T100000
END:DAYLIGHT
BEGIN:STANDARD
TZOFFSETFROM:-0700
TZOFFSETTO:-0800
TZNAME:PST
DTSTART:20171105T090000
END:STANDARD
BEGIN:DAYLIGHT
TZOFFSETFROM:-0800
TZOFFSETTO:-0700
TZNAME:PDT
DTSTART:20180311T100000
END:DAYLIGHT
BEGIN:STANDARD
TZOFFSETFROM:-0700
TZOFFSETTO:-0800
TZNAME:PST
DTSTART:20181104T090000
END:STANDARD
BEGIN:DAYLIGHT
TZOFFSETFROM:-0800
TZOFFSETTO:-0700
TZNAME:PDT
DTSTART:20190310T100000
END:DAYLIGHT
BEGIN:STANDARD
TZOFFSETFROM:-0700
TZOFFSETTO:-0800
TZNAME:PST
DTSTART:20191103T090000
END:STANDARD
END:VTIMEZONE
BEGIN:VEVENT
DTSTART;TZID=America/Los_Angeles:20181207T183000
DTEND;TZID=America/Los_Angeles:20181207T200000
DTSTAMP:20260424T180119
CREATED:20181205T224723Z
LAST-MODIFIED:20181205T225009Z
UID:828-1544207400-1544212800@parkmesaheights.org
SUMMARY:Crenshaw Mural Community Meeting
DESCRIPTION:You are invited to a community meeting on the vandalism of the Crenshaw Mural. The guest speakers will be Southwest LAPD Area Captain Lee Sands\, Councilmember Marqueece Harris-Dawson\, Southwest LAPD Detective Commanding Officer Perry Griffith and Southwest LAPD Investigating Detective Anthony Kong. \n 
URL:https://parkmesaheights.org/calendar/crenshaw-mural-community-meeting/
LOCATION:Kaiser Permanente Baldwin Hills Community Room\, 3782 West Martin Luther King Jr. Blvd\, Los Angeles\, 90008
CATEGORIES:Community
GEO:34.0117972;-118.3406353
X-APPLE-STRUCTURED-LOCATION;VALUE=URI;X-ADDRESS=Kaiser Permanente Baldwin Hills Community Room 3782 West Martin Luther King Jr. Blvd Los Angeles 90008;X-APPLE-RADIUS=500;X-TITLE=3782 West Martin Luther King Jr. Blvd:geo:-118.3406353,34.0117972
END:VEVENT
END:VCALENDAR