BEGIN:VCALENDAR
VERSION:2.0
PRODID:-//Park Mesa Heights Community Council - ECPv6.15.16//NONSGML v1.0//EN
CALSCALE:GREGORIAN
METHOD:PUBLISH
X-ORIGINAL-URL:https://parkmesaheights.org
X-WR-CALDESC:Events for Park Mesa Heights Community Council
REFRESH-INTERVAL;VALUE=DURATION:PT1H
X-Robots-Tag:noindex
X-PUBLISHED-TTL:PT1H
BEGIN:VTIMEZONE
TZID:America/Los_Angeles
BEGIN:DAYLIGHT
TZOFFSETFROM:-0800
TZOFFSETTO:-0700
TZNAME:PDT
DTSTART:20230312T100000
END:DAYLIGHT
BEGIN:STANDARD
TZOFFSETFROM:-0700
TZOFFSETTO:-0800
TZNAME:PST
DTSTART:20231105T090000
END:STANDARD
BEGIN:DAYLIGHT
TZOFFSETFROM:-0800
TZOFFSETTO:-0700
TZNAME:PDT
DTSTART:20240310T100000
END:DAYLIGHT
BEGIN:STANDARD
TZOFFSETFROM:-0700
TZOFFSETTO:-0800
TZNAME:PST
DTSTART:20241103T090000
END:STANDARD
BEGIN:DAYLIGHT
TZOFFSETFROM:-0800
TZOFFSETTO:-0700
TZNAME:PDT
DTSTART:20250309T100000
END:DAYLIGHT
BEGIN:STANDARD
TZOFFSETFROM:-0700
TZOFFSETTO:-0800
TZNAME:PST
DTSTART:20251102T090000
END:STANDARD
END:VTIMEZONE
BEGIN:VEVENT
DTSTART;TZID=America/Los_Angeles:20240521T100000
DTEND;TZID=America/Los_Angeles:20240521T123000
DTSTAMP:20260420T152102
CREATED:20240415T225752Z
LAST-MODIFIED:20240415T225752Z
UID:11083-1716285600-1716294600@parkmesaheights.org
SUMMARY:Beautification Conference
DESCRIPTION:On behalf of the City of Los Angeles Board of Public Works\, the Office of Community Beautification\, and Keep Los Angeles Beautiful\, we are pleased to invite you to the Sixth Annual Beautification Conference held Tuesday\, May 21\, at Pan Pacific Park. The conference will be held inside the Recreation Center at 7600 Beverly Blvd.\, Los Angeles\, CA 90036. \nAbout the Conference: \nJoin us for an opportunity to network and collaborate with other Angelenos on topics focused around beautifying the City. More than 250 attendees and 30 exhibitors will gather to discuss current beautification efforts\, share resources available to LA residents\, and exchange valuable information through informative panels. \nLocal leaders\, speakers\, and attendees \nInspiring keynote speakers \nLearn about community beautification opportunities\, sustainable gardening\, and practices in the home \nEvent is free and open to all (registration required) \nInteractive Resource Exposition \nLive Sustainable Gardening Workshop \n100 shade trees available\, restrictions apply* \nRain barrel raffle\, restrictions apply*
URL:https://parkmesaheights.org/calendar/beautification-conference-3/
LOCATION:Pan Pacific Park\, 7600 Beverly Blvd\, Los Angeles\, 90036
CATEGORIES:Community
GEO:34.0754453;-118.3542672
X-APPLE-STRUCTURED-LOCATION;VALUE=URI;X-ADDRESS=Pan Pacific Park 7600 Beverly Blvd Los Angeles 90036;X-APPLE-RADIUS=500;X-TITLE=7600 Beverly Blvd:geo:-118.3542672,34.0754453
END:VEVENT
END:VCALENDAR